BEGIN:VCALENDAR
VERSION:2.0
PRODID:-//Spithurst HUB - ECPv6.15.20//NONSGML v1.0//EN
CALSCALE:GREGORIAN
METHOD:PUBLISH
X-WR-CALNAME:Spithurst HUB
X-ORIGINAL-URL:https://spithursthub.co.uk
X-WR-CALDESC:Events for Spithurst HUB
REFRESH-INTERVAL;VALUE=DURATION:PT1H
X-Robots-Tag:noindex
X-PUBLISHED-TTL:PT1H
BEGIN:VTIMEZONE
TZID:Europe/London
BEGIN:DAYLIGHT
TZOFFSETFROM:+0000
TZOFFSETTO:+0100
TZNAME:BST
DTSTART:20250330T010000
END:DAYLIGHT
BEGIN:STANDARD
TZOFFSETFROM:+0100
TZOFFSETTO:+0000
TZNAME:GMT
DTSTART:20251026T010000
END:STANDARD
BEGIN:DAYLIGHT
TZOFFSETFROM:+0000
TZOFFSETTO:+0100
TZNAME:BST
DTSTART:20260329T010000
END:DAYLIGHT
BEGIN:STANDARD
TZOFFSETFROM:+0100
TZOFFSETTO:+0000
TZNAME:GMT
DTSTART:20261025T010000
END:STANDARD
BEGIN:DAYLIGHT
TZOFFSETFROM:+0000
TZOFFSETTO:+0100
TZNAME:BST
DTSTART:20270328T010000
END:DAYLIGHT
BEGIN:STANDARD
TZOFFSETFROM:+0100
TZOFFSETTO:+0000
TZNAME:GMT
DTSTART:20271031T010000
END:STANDARD
END:VTIMEZONE
BEGIN:VEVENT
DTSTART;TZID=Europe/London:20260619T100000
DTEND;TZID=Europe/London:20260619T140000
DTSTAMP:20260422T194314
CREATED:20260414T091039Z
LAST-MODIFIED:20260414T091039Z
UID:10001638-1781863200-1781877600@spithursthub.co.uk
SUMMARY:The Wild Botanica Clinic
DESCRIPTION:Open for drop ins\, to book appointments\, talk to herbalists and to buy supplements\, herbal teas\, cacao and adaptogenic products.
URL:https://spithursthub.co.uk/event/the-wild-botanica-clinic/2026-06-19/
END:VEVENT
BEGIN:VEVENT
DTSTART;TZID=Europe/London:20260619T110000
DTEND;TZID=Europe/London:20260619T183000
DTSTAMP:20260422T194314
CREATED:20260414T091500Z
LAST-MODIFIED:20260419T112408Z
UID:10003204-1781866800-1781893800@spithursthub.co.uk
SUMMARY:Wildish Healing
DESCRIPTION:Reiki & Sound
URL:https://spithursthub.co.uk/event/wildish-healing/2026-06-19/
ATTACH;FMTTYPE=image/jpeg:https://spithursthub.co.uk/wp-content/uploads/2026/04/Reiki-and-Sound-Healing-Barcombe-Lewes-Brighitta-e1776597794896.jpeg
ORGANIZER;CN="Brighitta Moser-Clark":MAILTO:brighitta@brighitta.com
END:VEVENT
BEGIN:VEVENT
DTSTART;TZID=Europe/London:20260619T130000
DTEND;TZID=Europe/London:20260619T173000
DTSTAMP:20260422T194314
CREATED:20260409T163508Z
LAST-MODIFIED:20260409T163508Z
UID:10000796-1781874000-1781890200@spithursthub.co.uk
SUMMARY:Hubbery Bakery
DESCRIPTION:Swedish Homemade Produce
URL:https://spithursthub.co.uk/event/hubbery-bakery/2026-06-19/
END:VEVENT
BEGIN:VEVENT
DTSTART;TZID=Europe/London:20260619T170000
DTEND;TZID=Europe/London:20260619T220000
DTSTAMP:20260422T194314
CREATED:20260406T091612Z
LAST-MODIFIED:20260406T091612Z
UID:10000001-1781888400-1781906400@spithursthub.co.uk
SUMMARY:Midsommar
DESCRIPTION:Swedish Midsummer (midsommar) is a major\, joyous holiday celebrating the summer solstice (longest day of the year) on a Friday between June 19–25. It is marked by outdoor gatherings in the countryside\, dancing around a flower-decorated maypole\, making flower crowns\, and eating traditional food like pickled herring and fresh strawberries.
URL:https://spithursthub.co.uk/event/midsommar/
LOCATION:Spithurst Hub\, Spithurst Road\, Barcombe\, BN8 5EE\, United States
END:VEVENT
END:VCALENDAR