BEGIN:VCALENDAR
VERSION:2.0
PRODID:-//Spithurst HUB - ECPv6.15.20//NONSGML v1.0//EN
CALSCALE:GREGORIAN
METHOD:PUBLISH
X-WR-CALNAME:Spithurst HUB
X-ORIGINAL-URL:https://spithursthub.co.uk
X-WR-CALDESC:Events for Spithurst HUB
REFRESH-INTERVAL;VALUE=DURATION:PT1H
X-Robots-Tag:noindex
X-PUBLISHED-TTL:PT1H
BEGIN:VTIMEZONE
TZID:Europe/London
BEGIN:DAYLIGHT
TZOFFSETFROM:+0000
TZOFFSETTO:+0100
TZNAME:BST
DTSTART:20250330T010000
END:DAYLIGHT
BEGIN:STANDARD
TZOFFSETFROM:+0100
TZOFFSETTO:+0000
TZNAME:GMT
DTSTART:20251026T010000
END:STANDARD
BEGIN:DAYLIGHT
TZOFFSETFROM:+0000
TZOFFSETTO:+0100
TZNAME:BST
DTSTART:20260329T010000
END:DAYLIGHT
BEGIN:STANDARD
TZOFFSETFROM:+0100
TZOFFSETTO:+0000
TZNAME:GMT
DTSTART:20261025T010000
END:STANDARD
BEGIN:DAYLIGHT
TZOFFSETFROM:+0000
TZOFFSETTO:+0100
TZNAME:BST
DTSTART:20270328T010000
END:DAYLIGHT
BEGIN:STANDARD
TZOFFSETFROM:+0100
TZOFFSETTO:+0000
TZNAME:GMT
DTSTART:20271031T010000
END:STANDARD
END:VTIMEZONE
BEGIN:VEVENT
DTSTART;TZID=Europe/London:20260422T190000
DTEND;TZID=Europe/London:20260422T200000
DTSTAMP:20260419T180647
CREATED:20260409T163249Z
LAST-MODIFIED:20260409T163249Z
UID:10000266-1776884400-1776888000@spithursthub.co.uk
SUMMARY:Gentle Yoga and Sound Bath
DESCRIPTION:Reclaim clarity\, connection\, and calm through a therapeutic journey of body\, mind\, and purpose.
URL:https://spithursthub.co.uk/event/gentle-yoga-and-sound-bath/2026-04-22/
END:VEVENT
BEGIN:VEVENT
DTSTART;TZID=Europe/London:20260429T190000
DTEND;TZID=Europe/London:20260429T200000
DTSTAMP:20260419T180647
CREATED:20260409T163249Z
LAST-MODIFIED:20260409T163249Z
UID:10000267-1777489200-1777492800@spithursthub.co.uk
SUMMARY:Gentle Yoga and Sound Bath
DESCRIPTION:Reclaim clarity\, connection\, and calm through a therapeutic journey of body\, mind\, and purpose.
URL:https://spithursthub.co.uk/event/gentle-yoga-and-sound-bath/2026-04-29/
END:VEVENT
BEGIN:VEVENT
DTSTART;TZID=Europe/London:20260506T190000
DTEND;TZID=Europe/London:20260506T200000
DTSTAMP:20260419T180647
CREATED:20260409T163249Z
LAST-MODIFIED:20260409T163249Z
UID:10000268-1778094000-1778097600@spithursthub.co.uk
SUMMARY:Gentle Yoga and Sound Bath
DESCRIPTION:Reclaim clarity\, connection\, and calm through a therapeutic journey of body\, mind\, and purpose.
URL:https://spithursthub.co.uk/event/gentle-yoga-and-sound-bath/2026-05-06/
END:VEVENT
BEGIN:VEVENT
DTSTART;TZID=Europe/London:20260513T190000
DTEND;TZID=Europe/London:20260513T200000
DTSTAMP:20260419T180647
CREATED:20260409T163249Z
LAST-MODIFIED:20260409T163249Z
UID:10000269-1778698800-1778702400@spithursthub.co.uk
SUMMARY:Gentle Yoga and Sound Bath
DESCRIPTION:Reclaim clarity\, connection\, and calm through a therapeutic journey of body\, mind\, and purpose.
URL:https://spithursthub.co.uk/event/gentle-yoga-and-sound-bath/2026-05-13/
END:VEVENT
BEGIN:VEVENT
DTSTART;TZID=Europe/London:20260520T190000
DTEND;TZID=Europe/London:20260520T200000
DTSTAMP:20260419T180647
CREATED:20260409T163249Z
LAST-MODIFIED:20260409T163249Z
UID:10000270-1779303600-1779307200@spithursthub.co.uk
SUMMARY:Gentle Yoga and Sound Bath
DESCRIPTION:Reclaim clarity\, connection\, and calm through a therapeutic journey of body\, mind\, and purpose.
URL:https://spithursthub.co.uk/event/gentle-yoga-and-sound-bath/2026-05-20/
END:VEVENT
BEGIN:VEVENT
DTSTART;TZID=Europe/London:20260527T190000
DTEND;TZID=Europe/London:20260527T200000
DTSTAMP:20260419T180647
CREATED:20260409T163249Z
LAST-MODIFIED:20260409T163249Z
UID:10000271-1779908400-1779912000@spithursthub.co.uk
SUMMARY:Gentle Yoga and Sound Bath
DESCRIPTION:Reclaim clarity\, connection\, and calm through a therapeutic journey of body\, mind\, and purpose.
URL:https://spithursthub.co.uk/event/gentle-yoga-and-sound-bath/2026-05-27/
END:VEVENT
BEGIN:VEVENT
DTSTART;TZID=Europe/London:20260603T190000
DTEND;TZID=Europe/London:20260603T200000
DTSTAMP:20260419T180647
CREATED:20260409T163249Z
LAST-MODIFIED:20260409T163249Z
UID:10000272-1780513200-1780516800@spithursthub.co.uk
SUMMARY:Gentle Yoga and Sound Bath
DESCRIPTION:Reclaim clarity\, connection\, and calm through a therapeutic journey of body\, mind\, and purpose.
URL:https://spithursthub.co.uk/event/gentle-yoga-and-sound-bath/2026-06-03/
END:VEVENT
BEGIN:VEVENT
DTSTART;TZID=Europe/London:20260610T190000
DTEND;TZID=Europe/London:20260610T200000
DTSTAMP:20260419T180647
CREATED:20260409T163249Z
LAST-MODIFIED:20260409T163249Z
UID:10000273-1781118000-1781121600@spithursthub.co.uk
SUMMARY:Gentle Yoga and Sound Bath
DESCRIPTION:Reclaim clarity\, connection\, and calm through a therapeutic journey of body\, mind\, and purpose.
URL:https://spithursthub.co.uk/event/gentle-yoga-and-sound-bath/2026-06-10/
END:VEVENT
BEGIN:VEVENT
DTSTART;TZID=Europe/London:20260617T190000
DTEND;TZID=Europe/London:20260617T200000
DTSTAMP:20260419T180647
CREATED:20260409T163249Z
LAST-MODIFIED:20260409T163249Z
UID:10000274-1781722800-1781726400@spithursthub.co.uk
SUMMARY:Gentle Yoga and Sound Bath
DESCRIPTION:Reclaim clarity\, connection\, and calm through a therapeutic journey of body\, mind\, and purpose.
URL:https://spithursthub.co.uk/event/gentle-yoga-and-sound-bath/2026-06-17/
END:VEVENT
BEGIN:VEVENT
DTSTART;TZID=Europe/London:20260624T190000
DTEND;TZID=Europe/London:20260624T200000
DTSTAMP:20260419T180647
CREATED:20260409T163249Z
LAST-MODIFIED:20260409T163249Z
UID:10000275-1782327600-1782331200@spithursthub.co.uk
SUMMARY:Gentle Yoga and Sound Bath
DESCRIPTION:Reclaim clarity\, connection\, and calm through a therapeutic journey of body\, mind\, and purpose.
URL:https://spithursthub.co.uk/event/gentle-yoga-and-sound-bath/2026-06-24/
END:VEVENT
BEGIN:VEVENT
DTSTART;TZID=Europe/London:20260701T190000
DTEND;TZID=Europe/London:20260701T200000
DTSTAMP:20260419T180647
CREATED:20260409T163249Z
LAST-MODIFIED:20260409T163249Z
UID:10000276-1782932400-1782936000@spithursthub.co.uk
SUMMARY:Gentle Yoga and Sound Bath
DESCRIPTION:Reclaim clarity\, connection\, and calm through a therapeutic journey of body\, mind\, and purpose.
URL:https://spithursthub.co.uk/event/gentle-yoga-and-sound-bath/2026-07-01/
END:VEVENT
BEGIN:VEVENT
DTSTART;TZID=Europe/London:20260708T190000
DTEND;TZID=Europe/London:20260708T200000
DTSTAMP:20260419T180647
CREATED:20260409T163249Z
LAST-MODIFIED:20260409T163249Z
UID:10000277-1783537200-1783540800@spithursthub.co.uk
SUMMARY:Gentle Yoga and Sound Bath
DESCRIPTION:Reclaim clarity\, connection\, and calm through a therapeutic journey of body\, mind\, and purpose.
URL:https://spithursthub.co.uk/event/gentle-yoga-and-sound-bath/2026-07-08/
END:VEVENT
BEGIN:VEVENT
DTSTART;TZID=Europe/London:20260715T190000
DTEND;TZID=Europe/London:20260715T200000
DTSTAMP:20260419T180647
CREATED:20260409T163249Z
LAST-MODIFIED:20260409T163249Z
UID:10000278-1784142000-1784145600@spithursthub.co.uk
SUMMARY:Gentle Yoga and Sound Bath
DESCRIPTION:Reclaim clarity\, connection\, and calm through a therapeutic journey of body\, mind\, and purpose.
URL:https://spithursthub.co.uk/event/gentle-yoga-and-sound-bath/2026-07-15/
END:VEVENT
BEGIN:VEVENT
DTSTART;TZID=Europe/London:20260722T190000
DTEND;TZID=Europe/London:20260722T200000
DTSTAMP:20260419T180647
CREATED:20260409T163249Z
LAST-MODIFIED:20260409T163249Z
UID:10000279-1784746800-1784750400@spithursthub.co.uk
SUMMARY:Gentle Yoga and Sound Bath
DESCRIPTION:Reclaim clarity\, connection\, and calm through a therapeutic journey of body\, mind\, and purpose.
URL:https://spithursthub.co.uk/event/gentle-yoga-and-sound-bath/2026-07-22/
END:VEVENT
BEGIN:VEVENT
DTSTART;TZID=Europe/London:20260729T190000
DTEND;TZID=Europe/London:20260729T200000
DTSTAMP:20260419T180647
CREATED:20260409T163249Z
LAST-MODIFIED:20260409T163249Z
UID:10000280-1785351600-1785355200@spithursthub.co.uk
SUMMARY:Gentle Yoga and Sound Bath
DESCRIPTION:Reclaim clarity\, connection\, and calm through a therapeutic journey of body\, mind\, and purpose.
URL:https://spithursthub.co.uk/event/gentle-yoga-and-sound-bath/2026-07-29/
END:VEVENT
BEGIN:VEVENT
DTSTART;TZID=Europe/London:20260805T190000
DTEND;TZID=Europe/London:20260805T200000
DTSTAMP:20260419T180647
CREATED:20260409T163249Z
LAST-MODIFIED:20260409T163249Z
UID:10000281-1785956400-1785960000@spithursthub.co.uk
SUMMARY:Gentle Yoga and Sound Bath
DESCRIPTION:Reclaim clarity\, connection\, and calm through a therapeutic journey of body\, mind\, and purpose.
URL:https://spithursthub.co.uk/event/gentle-yoga-and-sound-bath/2026-08-05/
END:VEVENT
BEGIN:VEVENT
DTSTART;TZID=Europe/London:20260812T190000
DTEND;TZID=Europe/London:20260812T200000
DTSTAMP:20260419T180647
CREATED:20260409T163249Z
LAST-MODIFIED:20260409T163249Z
UID:10000282-1786561200-1786564800@spithursthub.co.uk
SUMMARY:Gentle Yoga and Sound Bath
DESCRIPTION:Reclaim clarity\, connection\, and calm through a therapeutic journey of body\, mind\, and purpose.
URL:https://spithursthub.co.uk/event/gentle-yoga-and-sound-bath/2026-08-12/
END:VEVENT
BEGIN:VEVENT
DTSTART;TZID=Europe/London:20260819T190000
DTEND;TZID=Europe/London:20260819T200000
DTSTAMP:20260419T180647
CREATED:20260409T163249Z
LAST-MODIFIED:20260409T163249Z
UID:10000283-1787166000-1787169600@spithursthub.co.uk
SUMMARY:Gentle Yoga and Sound Bath
DESCRIPTION:Reclaim clarity\, connection\, and calm through a therapeutic journey of body\, mind\, and purpose.
URL:https://spithursthub.co.uk/event/gentle-yoga-and-sound-bath/2026-08-19/
END:VEVENT
BEGIN:VEVENT
DTSTART;TZID=Europe/London:20260826T190000
DTEND;TZID=Europe/London:20260826T200000
DTSTAMP:20260419T180647
CREATED:20260409T163249Z
LAST-MODIFIED:20260409T163249Z
UID:10000284-1787770800-1787774400@spithursthub.co.uk
SUMMARY:Gentle Yoga and Sound Bath
DESCRIPTION:Reclaim clarity\, connection\, and calm through a therapeutic journey of body\, mind\, and purpose.
URL:https://spithursthub.co.uk/event/gentle-yoga-and-sound-bath/2026-08-26/
END:VEVENT
BEGIN:VEVENT
DTSTART;TZID=Europe/London:20260902T190000
DTEND;TZID=Europe/London:20260902T200000
DTSTAMP:20260419T180647
CREATED:20260409T163249Z
LAST-MODIFIED:20260409T163249Z
UID:10000285-1788375600-1788379200@spithursthub.co.uk
SUMMARY:Gentle Yoga and Sound Bath
DESCRIPTION:Reclaim clarity\, connection\, and calm through a therapeutic journey of body\, mind\, and purpose.
URL:https://spithursthub.co.uk/event/gentle-yoga-and-sound-bath/2026-09-02/
END:VEVENT
BEGIN:VEVENT
DTSTART;TZID=Europe/London:20260909T190000
DTEND;TZID=Europe/London:20260909T200000
DTSTAMP:20260419T180647
CREATED:20260409T163249Z
LAST-MODIFIED:20260409T163249Z
UID:10000286-1788980400-1788984000@spithursthub.co.uk
SUMMARY:Gentle Yoga and Sound Bath
DESCRIPTION:Reclaim clarity\, connection\, and calm through a therapeutic journey of body\, mind\, and purpose.
URL:https://spithursthub.co.uk/event/gentle-yoga-and-sound-bath/2026-09-09/
END:VEVENT
BEGIN:VEVENT
DTSTART;TZID=Europe/London:20260916T190000
DTEND;TZID=Europe/London:20260916T200000
DTSTAMP:20260419T180647
CREATED:20260409T163249Z
LAST-MODIFIED:20260409T163249Z
UID:10000287-1789585200-1789588800@spithursthub.co.uk
SUMMARY:Gentle Yoga and Sound Bath
DESCRIPTION:Reclaim clarity\, connection\, and calm through a therapeutic journey of body\, mind\, and purpose.
URL:https://spithursthub.co.uk/event/gentle-yoga-and-sound-bath/2026-09-16/
END:VEVENT
BEGIN:VEVENT
DTSTART;TZID=Europe/London:20260923T190000
DTEND;TZID=Europe/London:20260923T200000
DTSTAMP:20260419T180647
CREATED:20260409T163249Z
LAST-MODIFIED:20260409T163249Z
UID:10000288-1790190000-1790193600@spithursthub.co.uk
SUMMARY:Gentle Yoga and Sound Bath
DESCRIPTION:Reclaim clarity\, connection\, and calm through a therapeutic journey of body\, mind\, and purpose.
URL:https://spithursthub.co.uk/event/gentle-yoga-and-sound-bath/2026-09-23/
END:VEVENT
BEGIN:VEVENT
DTSTART;TZID=Europe/London:20260930T190000
DTEND;TZID=Europe/London:20260930T200000
DTSTAMP:20260419T180647
CREATED:20260409T163249Z
LAST-MODIFIED:20260409T163249Z
UID:10000289-1790794800-1790798400@spithursthub.co.uk
SUMMARY:Gentle Yoga and Sound Bath
DESCRIPTION:Reclaim clarity\, connection\, and calm through a therapeutic journey of body\, mind\, and purpose.
URL:https://spithursthub.co.uk/event/gentle-yoga-and-sound-bath/2026-09-30/
END:VEVENT
BEGIN:VEVENT
DTSTART;TZID=Europe/London:20261007T190000
DTEND;TZID=Europe/London:20261007T200000
DTSTAMP:20260419T180647
CREATED:20260409T163249Z
LAST-MODIFIED:20260409T163249Z
UID:10000290-1791399600-1791403200@spithursthub.co.uk
SUMMARY:Gentle Yoga and Sound Bath
DESCRIPTION:Reclaim clarity\, connection\, and calm through a therapeutic journey of body\, mind\, and purpose.
URL:https://spithursthub.co.uk/event/gentle-yoga-and-sound-bath/2026-10-07/
END:VEVENT
BEGIN:VEVENT
DTSTART;TZID=Europe/London:20261014T190000
DTEND;TZID=Europe/London:20261014T200000
DTSTAMP:20260419T180647
CREATED:20260409T163249Z
LAST-MODIFIED:20260409T163249Z
UID:10000291-1792004400-1792008000@spithursthub.co.uk
SUMMARY:Gentle Yoga and Sound Bath
DESCRIPTION:Reclaim clarity\, connection\, and calm through a therapeutic journey of body\, mind\, and purpose.
URL:https://spithursthub.co.uk/event/gentle-yoga-and-sound-bath/2026-10-14/
END:VEVENT
BEGIN:VEVENT
DTSTART;TZID=Europe/London:20261021T190000
DTEND;TZID=Europe/London:20261021T200000
DTSTAMP:20260419T180647
CREATED:20260409T163249Z
LAST-MODIFIED:20260409T163249Z
UID:10000292-1792609200-1792612800@spithursthub.co.uk
SUMMARY:Gentle Yoga and Sound Bath
DESCRIPTION:Reclaim clarity\, connection\, and calm through a therapeutic journey of body\, mind\, and purpose.
URL:https://spithursthub.co.uk/event/gentle-yoga-and-sound-bath/2026-10-21/
END:VEVENT
BEGIN:VEVENT
DTSTART;TZID=Europe/London:20261028T190000
DTEND;TZID=Europe/London:20261028T200000
DTSTAMP:20260419T180647
CREATED:20260409T163249Z
LAST-MODIFIED:20260409T163249Z
UID:10000293-1793214000-1793217600@spithursthub.co.uk
SUMMARY:Gentle Yoga and Sound Bath
DESCRIPTION:Reclaim clarity\, connection\, and calm through a therapeutic journey of body\, mind\, and purpose.
URL:https://spithursthub.co.uk/event/gentle-yoga-and-sound-bath/2026-10-28/
END:VEVENT
BEGIN:VEVENT
DTSTART;TZID=Europe/London:20261104T190000
DTEND;TZID=Europe/London:20261104T200000
DTSTAMP:20260419T180647
CREATED:20260409T163249Z
LAST-MODIFIED:20260409T163249Z
UID:10000294-1793818800-1793822400@spithursthub.co.uk
SUMMARY:Gentle Yoga and Sound Bath
DESCRIPTION:Reclaim clarity\, connection\, and calm through a therapeutic journey of body\, mind\, and purpose.
URL:https://spithursthub.co.uk/event/gentle-yoga-and-sound-bath/2026-11-04/
END:VEVENT
BEGIN:VEVENT
DTSTART;TZID=Europe/London:20261111T190000
DTEND;TZID=Europe/London:20261111T200000
DTSTAMP:20260419T180647
CREATED:20260409T163249Z
LAST-MODIFIED:20260409T163249Z
UID:10000295-1794423600-1794427200@spithursthub.co.uk
SUMMARY:Gentle Yoga and Sound Bath
DESCRIPTION:Reclaim clarity\, connection\, and calm through a therapeutic journey of body\, mind\, and purpose.
URL:https://spithursthub.co.uk/event/gentle-yoga-and-sound-bath/2026-11-11/
END:VEVENT
END:VCALENDAR