BEGIN:VCALENDAR
VERSION:2.0
PRODID:-//Spithurst HUB - ECPv6.15.20//NONSGML v1.0//EN
CALSCALE:GREGORIAN
METHOD:PUBLISH
X-WR-CALNAME:Spithurst HUB
X-ORIGINAL-URL:https://spithursthub.co.uk
X-WR-CALDESC:Events for Spithurst HUB
REFRESH-INTERVAL;VALUE=DURATION:PT1H
X-Robots-Tag:noindex
X-PUBLISHED-TTL:PT1H
BEGIN:VTIMEZONE
TZID:Europe/London
BEGIN:DAYLIGHT
TZOFFSETFROM:+0000
TZOFFSETTO:+0100
TZNAME:BST
DTSTART:20250330T010000
END:DAYLIGHT
BEGIN:STANDARD
TZOFFSETFROM:+0100
TZOFFSETTO:+0000
TZNAME:GMT
DTSTART:20251026T010000
END:STANDARD
BEGIN:DAYLIGHT
TZOFFSETFROM:+0000
TZOFFSETTO:+0100
TZNAME:BST
DTSTART:20260329T010000
END:DAYLIGHT
BEGIN:STANDARD
TZOFFSETFROM:+0100
TZOFFSETTO:+0000
TZNAME:GMT
DTSTART:20261025T010000
END:STANDARD
BEGIN:DAYLIGHT
TZOFFSETFROM:+0000
TZOFFSETTO:+0100
TZNAME:BST
DTSTART:20270328T010000
END:DAYLIGHT
BEGIN:STANDARD
TZOFFSETFROM:+0100
TZOFFSETTO:+0000
TZNAME:GMT
DTSTART:20271031T010000
END:STANDARD
END:VTIMEZONE
BEGIN:VEVENT
DTSTART;TZID=Europe/London:20260423T130000
DTEND;TZID=Europe/London:20260423T140000
DTSTAMP:20260419T180641
CREATED:20260409T163351Z
LAST-MODIFIED:20260410T092140Z
UID:10000527-1776949200-1776952800@spithursthub.co.uk
SUMMARY:Lunchtime Yoga
DESCRIPTION:
URL:https://spithursthub.co.uk/event/lunchtime-yoga/2026-04-23/
ATTACH;FMTTYPE=image/jpeg:https://spithursthub.co.uk/wp-content/uploads/2026/04/3330731f-2625-4186-958f-4357bd0c5b51-e1776155026694.jpg
END:VEVENT
BEGIN:VEVENT
DTSTART;TZID=Europe/London:20260430T130000
DTEND;TZID=Europe/London:20260430T140000
DTSTAMP:20260419T180641
CREATED:20260409T163351Z
LAST-MODIFIED:20260410T092140Z
UID:10000528-1777554000-1777557600@spithursthub.co.uk
SUMMARY:Lunchtime Yoga
DESCRIPTION:
URL:https://spithursthub.co.uk/event/lunchtime-yoga/2026-04-30/
ATTACH;FMTTYPE=image/jpeg:https://spithursthub.co.uk/wp-content/uploads/2026/04/3330731f-2625-4186-958f-4357bd0c5b51-e1776155026694.jpg
END:VEVENT
BEGIN:VEVENT
DTSTART;TZID=Europe/London:20260507T130000
DTEND;TZID=Europe/London:20260507T140000
DTSTAMP:20260419T180641
CREATED:20260409T163351Z
LAST-MODIFIED:20260410T092140Z
UID:10000529-1778158800-1778162400@spithursthub.co.uk
SUMMARY:Lunchtime Yoga
DESCRIPTION:
URL:https://spithursthub.co.uk/event/lunchtime-yoga/2026-05-07/
ATTACH;FMTTYPE=image/jpeg:https://spithursthub.co.uk/wp-content/uploads/2026/04/3330731f-2625-4186-958f-4357bd0c5b51-e1776155026694.jpg
END:VEVENT
BEGIN:VEVENT
DTSTART;TZID=Europe/London:20260514T130000
DTEND;TZID=Europe/London:20260514T140000
DTSTAMP:20260419T180641
CREATED:20260409T163351Z
LAST-MODIFIED:20260410T092140Z
UID:10000530-1778763600-1778767200@spithursthub.co.uk
SUMMARY:Lunchtime Yoga
DESCRIPTION:
URL:https://spithursthub.co.uk/event/lunchtime-yoga/2026-05-14/
ATTACH;FMTTYPE=image/jpeg:https://spithursthub.co.uk/wp-content/uploads/2026/04/3330731f-2625-4186-958f-4357bd0c5b51-e1776155026694.jpg
END:VEVENT
BEGIN:VEVENT
DTSTART;TZID=Europe/London:20260521T130000
DTEND;TZID=Europe/London:20260521T140000
DTSTAMP:20260419T180641
CREATED:20260409T163351Z
LAST-MODIFIED:20260410T092140Z
UID:10000531-1779368400-1779372000@spithursthub.co.uk
SUMMARY:Lunchtime Yoga
DESCRIPTION:
URL:https://spithursthub.co.uk/event/lunchtime-yoga/2026-05-21/
ATTACH;FMTTYPE=image/jpeg:https://spithursthub.co.uk/wp-content/uploads/2026/04/3330731f-2625-4186-958f-4357bd0c5b51-e1776155026694.jpg
END:VEVENT
BEGIN:VEVENT
DTSTART;TZID=Europe/London:20260528T130000
DTEND;TZID=Europe/London:20260528T140000
DTSTAMP:20260419T180641
CREATED:20260409T163351Z
LAST-MODIFIED:20260410T092140Z
UID:10000532-1779973200-1779976800@spithursthub.co.uk
SUMMARY:Lunchtime Yoga
DESCRIPTION:
URL:https://spithursthub.co.uk/event/lunchtime-yoga/2026-05-28/
ATTACH;FMTTYPE=image/jpeg:https://spithursthub.co.uk/wp-content/uploads/2026/04/3330731f-2625-4186-958f-4357bd0c5b51-e1776155026694.jpg
END:VEVENT
BEGIN:VEVENT
DTSTART;TZID=Europe/London:20260604T130000
DTEND;TZID=Europe/London:20260604T140000
DTSTAMP:20260419T180641
CREATED:20260409T163351Z
LAST-MODIFIED:20260410T092140Z
UID:10000533-1780578000-1780581600@spithursthub.co.uk
SUMMARY:Lunchtime Yoga
DESCRIPTION:
URL:https://spithursthub.co.uk/event/lunchtime-yoga/2026-06-04/
ATTACH;FMTTYPE=image/jpeg:https://spithursthub.co.uk/wp-content/uploads/2026/04/3330731f-2625-4186-958f-4357bd0c5b51-e1776155026694.jpg
END:VEVENT
BEGIN:VEVENT
DTSTART;TZID=Europe/London:20260611T130000
DTEND;TZID=Europe/London:20260611T140000
DTSTAMP:20260419T180641
CREATED:20260409T163351Z
LAST-MODIFIED:20260410T092140Z
UID:10000534-1781182800-1781186400@spithursthub.co.uk
SUMMARY:Lunchtime Yoga
DESCRIPTION:
URL:https://spithursthub.co.uk/event/lunchtime-yoga/2026-06-11/
ATTACH;FMTTYPE=image/jpeg:https://spithursthub.co.uk/wp-content/uploads/2026/04/3330731f-2625-4186-958f-4357bd0c5b51-e1776155026694.jpg
END:VEVENT
BEGIN:VEVENT
DTSTART;TZID=Europe/London:20260618T130000
DTEND;TZID=Europe/London:20260618T140000
DTSTAMP:20260419T180641
CREATED:20260409T163351Z
LAST-MODIFIED:20260410T092140Z
UID:10000535-1781787600-1781791200@spithursthub.co.uk
SUMMARY:Lunchtime Yoga
DESCRIPTION:
URL:https://spithursthub.co.uk/event/lunchtime-yoga/2026-06-18/
ATTACH;FMTTYPE=image/jpeg:https://spithursthub.co.uk/wp-content/uploads/2026/04/3330731f-2625-4186-958f-4357bd0c5b51-e1776155026694.jpg
END:VEVENT
BEGIN:VEVENT
DTSTART;TZID=Europe/London:20260625T130000
DTEND;TZID=Europe/London:20260625T140000
DTSTAMP:20260419T180641
CREATED:20260409T163351Z
LAST-MODIFIED:20260410T092140Z
UID:10000536-1782392400-1782396000@spithursthub.co.uk
SUMMARY:Lunchtime Yoga
DESCRIPTION:
URL:https://spithursthub.co.uk/event/lunchtime-yoga/2026-06-25/
ATTACH;FMTTYPE=image/jpeg:https://spithursthub.co.uk/wp-content/uploads/2026/04/3330731f-2625-4186-958f-4357bd0c5b51-e1776155026694.jpg
END:VEVENT
BEGIN:VEVENT
DTSTART;TZID=Europe/London:20260702T130000
DTEND;TZID=Europe/London:20260702T140000
DTSTAMP:20260419T180641
CREATED:20260409T163351Z
LAST-MODIFIED:20260410T092140Z
UID:10000537-1782997200-1783000800@spithursthub.co.uk
SUMMARY:Lunchtime Yoga
DESCRIPTION:
URL:https://spithursthub.co.uk/event/lunchtime-yoga/2026-07-02/
ATTACH;FMTTYPE=image/jpeg:https://spithursthub.co.uk/wp-content/uploads/2026/04/3330731f-2625-4186-958f-4357bd0c5b51-e1776155026694.jpg
END:VEVENT
BEGIN:VEVENT
DTSTART;TZID=Europe/London:20260709T130000
DTEND;TZID=Europe/London:20260709T140000
DTSTAMP:20260419T180641
CREATED:20260409T163351Z
LAST-MODIFIED:20260410T092140Z
UID:10000538-1783602000-1783605600@spithursthub.co.uk
SUMMARY:Lunchtime Yoga
DESCRIPTION:
URL:https://spithursthub.co.uk/event/lunchtime-yoga/2026-07-09/
ATTACH;FMTTYPE=image/jpeg:https://spithursthub.co.uk/wp-content/uploads/2026/04/3330731f-2625-4186-958f-4357bd0c5b51-e1776155026694.jpg
END:VEVENT
BEGIN:VEVENT
DTSTART;TZID=Europe/London:20260716T130000
DTEND;TZID=Europe/London:20260716T140000
DTSTAMP:20260419T180641
CREATED:20260409T163351Z
LAST-MODIFIED:20260410T092140Z
UID:10000539-1784206800-1784210400@spithursthub.co.uk
SUMMARY:Lunchtime Yoga
DESCRIPTION:
URL:https://spithursthub.co.uk/event/lunchtime-yoga/2026-07-16/
ATTACH;FMTTYPE=image/jpeg:https://spithursthub.co.uk/wp-content/uploads/2026/04/3330731f-2625-4186-958f-4357bd0c5b51-e1776155026694.jpg
END:VEVENT
BEGIN:VEVENT
DTSTART;TZID=Europe/London:20260723T130000
DTEND;TZID=Europe/London:20260723T140000
DTSTAMP:20260419T180641
CREATED:20260409T163351Z
LAST-MODIFIED:20260410T092140Z
UID:10000540-1784811600-1784815200@spithursthub.co.uk
SUMMARY:Lunchtime Yoga
DESCRIPTION:
URL:https://spithursthub.co.uk/event/lunchtime-yoga/2026-07-23/
ATTACH;FMTTYPE=image/jpeg:https://spithursthub.co.uk/wp-content/uploads/2026/04/3330731f-2625-4186-958f-4357bd0c5b51-e1776155026694.jpg
END:VEVENT
BEGIN:VEVENT
DTSTART;TZID=Europe/London:20260730T130000
DTEND;TZID=Europe/London:20260730T140000
DTSTAMP:20260419T180641
CREATED:20260409T163351Z
LAST-MODIFIED:20260410T092140Z
UID:10000541-1785416400-1785420000@spithursthub.co.uk
SUMMARY:Lunchtime Yoga
DESCRIPTION:
URL:https://spithursthub.co.uk/event/lunchtime-yoga/2026-07-30/
ATTACH;FMTTYPE=image/jpeg:https://spithursthub.co.uk/wp-content/uploads/2026/04/3330731f-2625-4186-958f-4357bd0c5b51-e1776155026694.jpg
END:VEVENT
BEGIN:VEVENT
DTSTART;TZID=Europe/London:20260806T130000
DTEND;TZID=Europe/London:20260806T140000
DTSTAMP:20260419T180641
CREATED:20260409T163351Z
LAST-MODIFIED:20260410T092140Z
UID:10000542-1786021200-1786024800@spithursthub.co.uk
SUMMARY:Lunchtime Yoga
DESCRIPTION:
URL:https://spithursthub.co.uk/event/lunchtime-yoga/2026-08-06/
ATTACH;FMTTYPE=image/jpeg:https://spithursthub.co.uk/wp-content/uploads/2026/04/3330731f-2625-4186-958f-4357bd0c5b51-e1776155026694.jpg
END:VEVENT
BEGIN:VEVENT
DTSTART;TZID=Europe/London:20260813T130000
DTEND;TZID=Europe/London:20260813T140000
DTSTAMP:20260419T180641
CREATED:20260409T163351Z
LAST-MODIFIED:20260410T092140Z
UID:10000543-1786626000-1786629600@spithursthub.co.uk
SUMMARY:Lunchtime Yoga
DESCRIPTION:
URL:https://spithursthub.co.uk/event/lunchtime-yoga/2026-08-13/
ATTACH;FMTTYPE=image/jpeg:https://spithursthub.co.uk/wp-content/uploads/2026/04/3330731f-2625-4186-958f-4357bd0c5b51-e1776155026694.jpg
END:VEVENT
BEGIN:VEVENT
DTSTART;TZID=Europe/London:20260820T130000
DTEND;TZID=Europe/London:20260820T140000
DTSTAMP:20260419T180641
CREATED:20260409T163351Z
LAST-MODIFIED:20260410T092140Z
UID:10000544-1787230800-1787234400@spithursthub.co.uk
SUMMARY:Lunchtime Yoga
DESCRIPTION:
URL:https://spithursthub.co.uk/event/lunchtime-yoga/2026-08-20/
ATTACH;FMTTYPE=image/jpeg:https://spithursthub.co.uk/wp-content/uploads/2026/04/3330731f-2625-4186-958f-4357bd0c5b51-e1776155026694.jpg
END:VEVENT
BEGIN:VEVENT
DTSTART;TZID=Europe/London:20260827T130000
DTEND;TZID=Europe/London:20260827T140000
DTSTAMP:20260419T180641
CREATED:20260409T163351Z
LAST-MODIFIED:20260410T092140Z
UID:10000545-1787835600-1787839200@spithursthub.co.uk
SUMMARY:Lunchtime Yoga
DESCRIPTION:
URL:https://spithursthub.co.uk/event/lunchtime-yoga/2026-08-27/
ATTACH;FMTTYPE=image/jpeg:https://spithursthub.co.uk/wp-content/uploads/2026/04/3330731f-2625-4186-958f-4357bd0c5b51-e1776155026694.jpg
END:VEVENT
BEGIN:VEVENT
DTSTART;TZID=Europe/London:20260903T130000
DTEND;TZID=Europe/London:20260903T140000
DTSTAMP:20260419T180641
CREATED:20260409T163351Z
LAST-MODIFIED:20260410T092140Z
UID:10000546-1788440400-1788444000@spithursthub.co.uk
SUMMARY:Lunchtime Yoga
DESCRIPTION:
URL:https://spithursthub.co.uk/event/lunchtime-yoga/2026-09-03/
ATTACH;FMTTYPE=image/jpeg:https://spithursthub.co.uk/wp-content/uploads/2026/04/3330731f-2625-4186-958f-4357bd0c5b51-e1776155026694.jpg
END:VEVENT
BEGIN:VEVENT
DTSTART;TZID=Europe/London:20260910T130000
DTEND;TZID=Europe/London:20260910T140000
DTSTAMP:20260419T180641
CREATED:20260409T163351Z
LAST-MODIFIED:20260410T092140Z
UID:10000547-1789045200-1789048800@spithursthub.co.uk
SUMMARY:Lunchtime Yoga
DESCRIPTION:
URL:https://spithursthub.co.uk/event/lunchtime-yoga/2026-09-10/
ATTACH;FMTTYPE=image/jpeg:https://spithursthub.co.uk/wp-content/uploads/2026/04/3330731f-2625-4186-958f-4357bd0c5b51-e1776155026694.jpg
END:VEVENT
BEGIN:VEVENT
DTSTART;TZID=Europe/London:20260917T130000
DTEND;TZID=Europe/London:20260917T140000
DTSTAMP:20260419T180641
CREATED:20260409T163351Z
LAST-MODIFIED:20260410T092140Z
UID:10000548-1789650000-1789653600@spithursthub.co.uk
SUMMARY:Lunchtime Yoga
DESCRIPTION:
URL:https://spithursthub.co.uk/event/lunchtime-yoga/2026-09-17/
ATTACH;FMTTYPE=image/jpeg:https://spithursthub.co.uk/wp-content/uploads/2026/04/3330731f-2625-4186-958f-4357bd0c5b51-e1776155026694.jpg
END:VEVENT
BEGIN:VEVENT
DTSTART;TZID=Europe/London:20260924T130000
DTEND;TZID=Europe/London:20260924T140000
DTSTAMP:20260419T180641
CREATED:20260409T163351Z
LAST-MODIFIED:20260410T092140Z
UID:10000549-1790254800-1790258400@spithursthub.co.uk
SUMMARY:Lunchtime Yoga
DESCRIPTION:
URL:https://spithursthub.co.uk/event/lunchtime-yoga/2026-09-24/
ATTACH;FMTTYPE=image/jpeg:https://spithursthub.co.uk/wp-content/uploads/2026/04/3330731f-2625-4186-958f-4357bd0c5b51-e1776155026694.jpg
END:VEVENT
BEGIN:VEVENT
DTSTART;TZID=Europe/London:20261001T130000
DTEND;TZID=Europe/London:20261001T140000
DTSTAMP:20260419T180641
CREATED:20260409T163351Z
LAST-MODIFIED:20260410T092140Z
UID:10000550-1790859600-1790863200@spithursthub.co.uk
SUMMARY:Lunchtime Yoga
DESCRIPTION:
URL:https://spithursthub.co.uk/event/lunchtime-yoga/2026-10-01/
ATTACH;FMTTYPE=image/jpeg:https://spithursthub.co.uk/wp-content/uploads/2026/04/3330731f-2625-4186-958f-4357bd0c5b51-e1776155026694.jpg
END:VEVENT
BEGIN:VEVENT
DTSTART;TZID=Europe/London:20261008T130000
DTEND;TZID=Europe/London:20261008T140000
DTSTAMP:20260419T180641
CREATED:20260409T163351Z
LAST-MODIFIED:20260410T092140Z
UID:10000551-1791464400-1791468000@spithursthub.co.uk
SUMMARY:Lunchtime Yoga
DESCRIPTION:
URL:https://spithursthub.co.uk/event/lunchtime-yoga/2026-10-08/
ATTACH;FMTTYPE=image/jpeg:https://spithursthub.co.uk/wp-content/uploads/2026/04/3330731f-2625-4186-958f-4357bd0c5b51-e1776155026694.jpg
END:VEVENT
BEGIN:VEVENT
DTSTART;TZID=Europe/London:20261015T130000
DTEND;TZID=Europe/London:20261015T140000
DTSTAMP:20260419T180641
CREATED:20260409T163351Z
LAST-MODIFIED:20260410T092140Z
UID:10000552-1792069200-1792072800@spithursthub.co.uk
SUMMARY:Lunchtime Yoga
DESCRIPTION:
URL:https://spithursthub.co.uk/event/lunchtime-yoga/2026-10-15/
ATTACH;FMTTYPE=image/jpeg:https://spithursthub.co.uk/wp-content/uploads/2026/04/3330731f-2625-4186-958f-4357bd0c5b51-e1776155026694.jpg
END:VEVENT
BEGIN:VEVENT
DTSTART;TZID=Europe/London:20261022T130000
DTEND;TZID=Europe/London:20261022T140000
DTSTAMP:20260419T180641
CREATED:20260409T163351Z
LAST-MODIFIED:20260410T092140Z
UID:10000553-1792674000-1792677600@spithursthub.co.uk
SUMMARY:Lunchtime Yoga
DESCRIPTION:
URL:https://spithursthub.co.uk/event/lunchtime-yoga/2026-10-22/
ATTACH;FMTTYPE=image/jpeg:https://spithursthub.co.uk/wp-content/uploads/2026/04/3330731f-2625-4186-958f-4357bd0c5b51-e1776155026694.jpg
END:VEVENT
BEGIN:VEVENT
DTSTART;TZID=Europe/London:20261029T130000
DTEND;TZID=Europe/London:20261029T140000
DTSTAMP:20260419T180641
CREATED:20260409T163351Z
LAST-MODIFIED:20260410T092140Z
UID:10000554-1793278800-1793282400@spithursthub.co.uk
SUMMARY:Lunchtime Yoga
DESCRIPTION:
URL:https://spithursthub.co.uk/event/lunchtime-yoga/2026-10-29/
ATTACH;FMTTYPE=image/jpeg:https://spithursthub.co.uk/wp-content/uploads/2026/04/3330731f-2625-4186-958f-4357bd0c5b51-e1776155026694.jpg
END:VEVENT
BEGIN:VEVENT
DTSTART;TZID=Europe/London:20261105T130000
DTEND;TZID=Europe/London:20261105T140000
DTSTAMP:20260419T180641
CREATED:20260409T163351Z
LAST-MODIFIED:20260410T092140Z
UID:10000555-1793883600-1793887200@spithursthub.co.uk
SUMMARY:Lunchtime Yoga
DESCRIPTION:
URL:https://spithursthub.co.uk/event/lunchtime-yoga/2026-11-05/
ATTACH;FMTTYPE=image/jpeg:https://spithursthub.co.uk/wp-content/uploads/2026/04/3330731f-2625-4186-958f-4357bd0c5b51-e1776155026694.jpg
END:VEVENT
BEGIN:VEVENT
DTSTART;TZID=Europe/London:20261112T130000
DTEND;TZID=Europe/London:20261112T140000
DTSTAMP:20260419T180641
CREATED:20260409T163351Z
LAST-MODIFIED:20260410T092140Z
UID:10000556-1794488400-1794492000@spithursthub.co.uk
SUMMARY:Lunchtime Yoga
DESCRIPTION:
URL:https://spithursthub.co.uk/event/lunchtime-yoga/2026-11-12/
ATTACH;FMTTYPE=image/jpeg:https://spithursthub.co.uk/wp-content/uploads/2026/04/3330731f-2625-4186-958f-4357bd0c5b51-e1776155026694.jpg
END:VEVENT
END:VCALENDAR