BEGIN:VCALENDAR
VERSION:2.0
PRODID:-//Spithurst HUB - ECPv6.15.20//NONSGML v1.0//EN
CALSCALE:GREGORIAN
METHOD:PUBLISH
X-WR-CALNAME:Spithurst HUB
X-ORIGINAL-URL:https://spithursthub.co.uk
X-WR-CALDESC:Events for Spithurst HUB
REFRESH-INTERVAL;VALUE=DURATION:PT1H
X-Robots-Tag:noindex
X-PUBLISHED-TTL:PT1H
BEGIN:VTIMEZONE
TZID:Europe/London
BEGIN:DAYLIGHT
TZOFFSETFROM:+0000
TZOFFSETTO:+0100
TZNAME:BST
DTSTART:20250330T010000
END:DAYLIGHT
BEGIN:STANDARD
TZOFFSETFROM:+0100
TZOFFSETTO:+0000
TZNAME:GMT
DTSTART:20251026T010000
END:STANDARD
BEGIN:DAYLIGHT
TZOFFSETFROM:+0000
TZOFFSETTO:+0100
TZNAME:BST
DTSTART:20260329T010000
END:DAYLIGHT
BEGIN:STANDARD
TZOFFSETFROM:+0100
TZOFFSETTO:+0000
TZNAME:GMT
DTSTART:20261025T010000
END:STANDARD
BEGIN:DAYLIGHT
TZOFFSETFROM:+0000
TZOFFSETTO:+0100
TZNAME:BST
DTSTART:20270328T010000
END:DAYLIGHT
BEGIN:STANDARD
TZOFFSETFROM:+0100
TZOFFSETTO:+0000
TZNAME:GMT
DTSTART:20271031T010000
END:STANDARD
END:VTIMEZONE
BEGIN:VEVENT
DTSTART;TZID=Europe/London:20260424T130000
DTEND;TZID=Europe/London:20260424T173000
DTSTAMP:20260419T175628
CREATED:20260409T163508Z
LAST-MODIFIED:20260409T163508Z
UID:10000788-1777035600-1777051800@spithursthub.co.uk
SUMMARY:Hubbery Bakery
DESCRIPTION:Swedish Homemade Produce
URL:https://spithursthub.co.uk/event/hubbery-bakery/2026-04-24/
END:VEVENT
BEGIN:VEVENT
DTSTART;TZID=Europe/London:20260501T130000
DTEND;TZID=Europe/London:20260501T173000
DTSTAMP:20260419T175628
CREATED:20260409T163508Z
LAST-MODIFIED:20260409T163508Z
UID:10000789-1777640400-1777656600@spithursthub.co.uk
SUMMARY:Hubbery Bakery
DESCRIPTION:Swedish Homemade Produce
URL:https://spithursthub.co.uk/event/hubbery-bakery/2026-05-01/
END:VEVENT
BEGIN:VEVENT
DTSTART;TZID=Europe/London:20260508T130000
DTEND;TZID=Europe/London:20260508T173000
DTSTAMP:20260419T175628
CREATED:20260409T163508Z
LAST-MODIFIED:20260409T163508Z
UID:10000790-1778245200-1778261400@spithursthub.co.uk
SUMMARY:Hubbery Bakery
DESCRIPTION:Swedish Homemade Produce
URL:https://spithursthub.co.uk/event/hubbery-bakery/2026-05-08/
END:VEVENT
BEGIN:VEVENT
DTSTART;TZID=Europe/London:20260515T130000
DTEND;TZID=Europe/London:20260515T173000
DTSTAMP:20260419T175628
CREATED:20260409T163508Z
LAST-MODIFIED:20260409T163508Z
UID:10000791-1778850000-1778866200@spithursthub.co.uk
SUMMARY:Hubbery Bakery
DESCRIPTION:Swedish Homemade Produce
URL:https://spithursthub.co.uk/event/hubbery-bakery/2026-05-15/
END:VEVENT
BEGIN:VEVENT
DTSTART;TZID=Europe/London:20260522T130000
DTEND;TZID=Europe/London:20260522T173000
DTSTAMP:20260419T175628
CREATED:20260409T163508Z
LAST-MODIFIED:20260409T163508Z
UID:10000792-1779454800-1779471000@spithursthub.co.uk
SUMMARY:Hubbery Bakery
DESCRIPTION:Swedish Homemade Produce
URL:https://spithursthub.co.uk/event/hubbery-bakery/2026-05-22/
END:VEVENT
BEGIN:VEVENT
DTSTART;TZID=Europe/London:20260529T130000
DTEND;TZID=Europe/London:20260529T173000
DTSTAMP:20260419T175628
CREATED:20260409T163508Z
LAST-MODIFIED:20260409T163508Z
UID:10000793-1780059600-1780075800@spithursthub.co.uk
SUMMARY:Hubbery Bakery
DESCRIPTION:Swedish Homemade Produce
URL:https://spithursthub.co.uk/event/hubbery-bakery/2026-05-29/
END:VEVENT
BEGIN:VEVENT
DTSTART;TZID=Europe/London:20260605T130000
DTEND;TZID=Europe/London:20260605T173000
DTSTAMP:20260419T175628
CREATED:20260409T163508Z
LAST-MODIFIED:20260409T163508Z
UID:10000794-1780664400-1780680600@spithursthub.co.uk
SUMMARY:Hubbery Bakery
DESCRIPTION:Swedish Homemade Produce
URL:https://spithursthub.co.uk/event/hubbery-bakery/2026-06-05/
END:VEVENT
BEGIN:VEVENT
DTSTART;TZID=Europe/London:20260612T130000
DTEND;TZID=Europe/London:20260612T173000
DTSTAMP:20260419T175628
CREATED:20260409T163508Z
LAST-MODIFIED:20260409T163508Z
UID:10000795-1781269200-1781285400@spithursthub.co.uk
SUMMARY:Hubbery Bakery
DESCRIPTION:Swedish Homemade Produce
URL:https://spithursthub.co.uk/event/hubbery-bakery/2026-06-12/
END:VEVENT
BEGIN:VEVENT
DTSTART;TZID=Europe/London:20260619T130000
DTEND;TZID=Europe/London:20260619T173000
DTSTAMP:20260419T175628
CREATED:20260409T163508Z
LAST-MODIFIED:20260409T163508Z
UID:10000796-1781874000-1781890200@spithursthub.co.uk
SUMMARY:Hubbery Bakery
DESCRIPTION:Swedish Homemade Produce
URL:https://spithursthub.co.uk/event/hubbery-bakery/2026-06-19/
END:VEVENT
BEGIN:VEVENT
DTSTART;TZID=Europe/London:20260626T130000
DTEND;TZID=Europe/London:20260626T173000
DTSTAMP:20260419T175628
CREATED:20260409T163508Z
LAST-MODIFIED:20260409T163508Z
UID:10000797-1782478800-1782495000@spithursthub.co.uk
SUMMARY:Hubbery Bakery
DESCRIPTION:Swedish Homemade Produce
URL:https://spithursthub.co.uk/event/hubbery-bakery/2026-06-26/
END:VEVENT
BEGIN:VEVENT
DTSTART;TZID=Europe/London:20260703T130000
DTEND;TZID=Europe/London:20260703T173000
DTSTAMP:20260419T175628
CREATED:20260409T163508Z
LAST-MODIFIED:20260409T163508Z
UID:10000798-1783083600-1783099800@spithursthub.co.uk
SUMMARY:Hubbery Bakery
DESCRIPTION:Swedish Homemade Produce
URL:https://spithursthub.co.uk/event/hubbery-bakery/2026-07-03/
END:VEVENT
BEGIN:VEVENT
DTSTART;TZID=Europe/London:20260710T130000
DTEND;TZID=Europe/London:20260710T173000
DTSTAMP:20260419T175628
CREATED:20260409T163508Z
LAST-MODIFIED:20260409T163508Z
UID:10000799-1783688400-1783704600@spithursthub.co.uk
SUMMARY:Hubbery Bakery
DESCRIPTION:Swedish Homemade Produce
URL:https://spithursthub.co.uk/event/hubbery-bakery/2026-07-10/
END:VEVENT
BEGIN:VEVENT
DTSTART;TZID=Europe/London:20260717T130000
DTEND;TZID=Europe/London:20260717T173000
DTSTAMP:20260419T175628
CREATED:20260409T163508Z
LAST-MODIFIED:20260409T163508Z
UID:10000800-1784293200-1784309400@spithursthub.co.uk
SUMMARY:Hubbery Bakery
DESCRIPTION:Swedish Homemade Produce
URL:https://spithursthub.co.uk/event/hubbery-bakery/2026-07-17/
END:VEVENT
BEGIN:VEVENT
DTSTART;TZID=Europe/London:20260724T130000
DTEND;TZID=Europe/London:20260724T173000
DTSTAMP:20260419T175628
CREATED:20260409T163508Z
LAST-MODIFIED:20260409T163508Z
UID:10000801-1784898000-1784914200@spithursthub.co.uk
SUMMARY:Hubbery Bakery
DESCRIPTION:Swedish Homemade Produce
URL:https://spithursthub.co.uk/event/hubbery-bakery/2026-07-24/
END:VEVENT
BEGIN:VEVENT
DTSTART;TZID=Europe/London:20260731T130000
DTEND;TZID=Europe/London:20260731T173000
DTSTAMP:20260419T175628
CREATED:20260409T163508Z
LAST-MODIFIED:20260409T163508Z
UID:10000802-1785502800-1785519000@spithursthub.co.uk
SUMMARY:Hubbery Bakery
DESCRIPTION:Swedish Homemade Produce
URL:https://spithursthub.co.uk/event/hubbery-bakery/2026-07-31/
END:VEVENT
BEGIN:VEVENT
DTSTART;TZID=Europe/London:20260807T130000
DTEND;TZID=Europe/London:20260807T173000
DTSTAMP:20260419T175628
CREATED:20260409T163508Z
LAST-MODIFIED:20260409T163508Z
UID:10000803-1786107600-1786123800@spithursthub.co.uk
SUMMARY:Hubbery Bakery
DESCRIPTION:Swedish Homemade Produce
URL:https://spithursthub.co.uk/event/hubbery-bakery/2026-08-07/
END:VEVENT
BEGIN:VEVENT
DTSTART;TZID=Europe/London:20260814T130000
DTEND;TZID=Europe/London:20260814T173000
DTSTAMP:20260419T175628
CREATED:20260409T163508Z
LAST-MODIFIED:20260409T163508Z
UID:10000804-1786712400-1786728600@spithursthub.co.uk
SUMMARY:Hubbery Bakery
DESCRIPTION:Swedish Homemade Produce
URL:https://spithursthub.co.uk/event/hubbery-bakery/2026-08-14/
END:VEVENT
BEGIN:VEVENT
DTSTART;TZID=Europe/London:20260821T130000
DTEND;TZID=Europe/London:20260821T173000
DTSTAMP:20260419T175628
CREATED:20260409T163508Z
LAST-MODIFIED:20260409T163508Z
UID:10000805-1787317200-1787333400@spithursthub.co.uk
SUMMARY:Hubbery Bakery
DESCRIPTION:Swedish Homemade Produce
URL:https://spithursthub.co.uk/event/hubbery-bakery/2026-08-21/
END:VEVENT
BEGIN:VEVENT
DTSTART;TZID=Europe/London:20260828T130000
DTEND;TZID=Europe/London:20260828T173000
DTSTAMP:20260419T175628
CREATED:20260409T163508Z
LAST-MODIFIED:20260409T163508Z
UID:10000806-1787922000-1787938200@spithursthub.co.uk
SUMMARY:Hubbery Bakery
DESCRIPTION:Swedish Homemade Produce
URL:https://spithursthub.co.uk/event/hubbery-bakery/2026-08-28/
END:VEVENT
BEGIN:VEVENT
DTSTART;TZID=Europe/London:20260904T130000
DTEND;TZID=Europe/London:20260904T173000
DTSTAMP:20260419T175628
CREATED:20260409T163508Z
LAST-MODIFIED:20260409T163508Z
UID:10000807-1788526800-1788543000@spithursthub.co.uk
SUMMARY:Hubbery Bakery
DESCRIPTION:Swedish Homemade Produce
URL:https://spithursthub.co.uk/event/hubbery-bakery/2026-09-04/
END:VEVENT
BEGIN:VEVENT
DTSTART;TZID=Europe/London:20260911T130000
DTEND;TZID=Europe/London:20260911T173000
DTSTAMP:20260419T175628
CREATED:20260409T163508Z
LAST-MODIFIED:20260409T163508Z
UID:10000808-1789131600-1789147800@spithursthub.co.uk
SUMMARY:Hubbery Bakery
DESCRIPTION:Swedish Homemade Produce
URL:https://spithursthub.co.uk/event/hubbery-bakery/2026-09-11/
END:VEVENT
BEGIN:VEVENT
DTSTART;TZID=Europe/London:20260918T130000
DTEND;TZID=Europe/London:20260918T173000
DTSTAMP:20260419T175628
CREATED:20260409T163508Z
LAST-MODIFIED:20260409T163508Z
UID:10000809-1789736400-1789752600@spithursthub.co.uk
SUMMARY:Hubbery Bakery
DESCRIPTION:Swedish Homemade Produce
URL:https://spithursthub.co.uk/event/hubbery-bakery/2026-09-18/
END:VEVENT
BEGIN:VEVENT
DTSTART;TZID=Europe/London:20260925T130000
DTEND;TZID=Europe/London:20260925T173000
DTSTAMP:20260419T175628
CREATED:20260409T163508Z
LAST-MODIFIED:20260409T163508Z
UID:10000810-1790341200-1790357400@spithursthub.co.uk
SUMMARY:Hubbery Bakery
DESCRIPTION:Swedish Homemade Produce
URL:https://spithursthub.co.uk/event/hubbery-bakery/2026-09-25/
END:VEVENT
BEGIN:VEVENT
DTSTART;TZID=Europe/London:20261002T130000
DTEND;TZID=Europe/London:20261002T173000
DTSTAMP:20260419T175628
CREATED:20260409T163508Z
LAST-MODIFIED:20260409T163508Z
UID:10000811-1790946000-1790962200@spithursthub.co.uk
SUMMARY:Hubbery Bakery
DESCRIPTION:Swedish Homemade Produce
URL:https://spithursthub.co.uk/event/hubbery-bakery/2026-10-02/
END:VEVENT
BEGIN:VEVENT
DTSTART;TZID=Europe/London:20261009T130000
DTEND;TZID=Europe/London:20261009T173000
DTSTAMP:20260419T175628
CREATED:20260409T163508Z
LAST-MODIFIED:20260409T163508Z
UID:10000812-1791550800-1791567000@spithursthub.co.uk
SUMMARY:Hubbery Bakery
DESCRIPTION:Swedish Homemade Produce
URL:https://spithursthub.co.uk/event/hubbery-bakery/2026-10-09/
END:VEVENT
BEGIN:VEVENT
DTSTART;TZID=Europe/London:20261016T130000
DTEND;TZID=Europe/London:20261016T173000
DTSTAMP:20260419T175628
CREATED:20260409T163508Z
LAST-MODIFIED:20260409T163508Z
UID:10000813-1792155600-1792171800@spithursthub.co.uk
SUMMARY:Hubbery Bakery
DESCRIPTION:Swedish Homemade Produce
URL:https://spithursthub.co.uk/event/hubbery-bakery/2026-10-16/
END:VEVENT
BEGIN:VEVENT
DTSTART;TZID=Europe/London:20261023T130000
DTEND;TZID=Europe/London:20261023T173000
DTSTAMP:20260419T175628
CREATED:20260409T163508Z
LAST-MODIFIED:20260409T163508Z
UID:10000814-1792760400-1792776600@spithursthub.co.uk
SUMMARY:Hubbery Bakery
DESCRIPTION:Swedish Homemade Produce
URL:https://spithursthub.co.uk/event/hubbery-bakery/2026-10-23/
END:VEVENT
BEGIN:VEVENT
DTSTART;TZID=Europe/London:20261030T130000
DTEND;TZID=Europe/London:20261030T173000
DTSTAMP:20260419T175628
CREATED:20260409T163508Z
LAST-MODIFIED:20260409T163508Z
UID:10000815-1793365200-1793381400@spithursthub.co.uk
SUMMARY:Hubbery Bakery
DESCRIPTION:Swedish Homemade Produce
URL:https://spithursthub.co.uk/event/hubbery-bakery/2026-10-30/
END:VEVENT
BEGIN:VEVENT
DTSTART;TZID=Europe/London:20261106T130000
DTEND;TZID=Europe/London:20261106T173000
DTSTAMP:20260419T175628
CREATED:20260409T163508Z
LAST-MODIFIED:20260409T163508Z
UID:10000816-1793970000-1793986200@spithursthub.co.uk
SUMMARY:Hubbery Bakery
DESCRIPTION:Swedish Homemade Produce
URL:https://spithursthub.co.uk/event/hubbery-bakery/2026-11-06/
END:VEVENT
BEGIN:VEVENT
DTSTART;TZID=Europe/London:20261113T130000
DTEND;TZID=Europe/London:20261113T173000
DTSTAMP:20260419T175628
CREATED:20260409T163508Z
LAST-MODIFIED:20260409T163508Z
UID:10000817-1794574800-1794591000@spithursthub.co.uk
SUMMARY:Hubbery Bakery
DESCRIPTION:Swedish Homemade Produce
URL:https://spithursthub.co.uk/event/hubbery-bakery/2026-11-13/
END:VEVENT
END:VCALENDAR