BEGIN:VCALENDAR
VERSION:2.0
PRODID:-//Spithurst HUB - ECPv6.15.20//NONSGML v1.0//EN
CALSCALE:GREGORIAN
METHOD:PUBLISH
X-WR-CALNAME:Spithurst HUB
X-ORIGINAL-URL:https://spithursthub.co.uk
X-WR-CALDESC:Events for Spithurst HUB
REFRESH-INTERVAL;VALUE=DURATION:PT1H
X-Robots-Tag:noindex
X-PUBLISHED-TTL:PT1H
BEGIN:VTIMEZONE
TZID:Europe/London
BEGIN:DAYLIGHT
TZOFFSETFROM:+0000
TZOFFSETTO:+0100
TZNAME:BST
DTSTART:20250330T010000
END:DAYLIGHT
BEGIN:STANDARD
TZOFFSETFROM:+0100
TZOFFSETTO:+0000
TZNAME:GMT
DTSTART:20251026T010000
END:STANDARD
BEGIN:DAYLIGHT
TZOFFSETFROM:+0000
TZOFFSETTO:+0100
TZNAME:BST
DTSTART:20260329T010000
END:DAYLIGHT
BEGIN:STANDARD
TZOFFSETFROM:+0100
TZOFFSETTO:+0000
TZNAME:GMT
DTSTART:20261025T010000
END:STANDARD
BEGIN:DAYLIGHT
TZOFFSETFROM:+0000
TZOFFSETTO:+0100
TZNAME:BST
DTSTART:20270328T010000
END:DAYLIGHT
BEGIN:STANDARD
TZOFFSETFROM:+0100
TZOFFSETTO:+0000
TZNAME:GMT
DTSTART:20271031T010000
END:STANDARD
END:VTIMEZONE
BEGIN:VEVENT
DTSTART;TZID=Europe/London:20260424T100000
DTEND;TZID=Europe/London:20260424T140000
DTSTAMP:20260419T180653
CREATED:20260414T091039Z
LAST-MODIFIED:20260414T091039Z
UID:10001630-1777024800-1777039200@spithursthub.co.uk
SUMMARY:The Wild Botanica Clinic
DESCRIPTION:Open for drop ins\, to book appointments\, talk to herbalists and to buy supplements\, herbal teas\, cacao and adaptogenic products.
URL:https://spithursthub.co.uk/event/the-wild-botanica-clinic/2026-04-24/
END:VEVENT
BEGIN:VEVENT
DTSTART;TZID=Europe/London:20260501T100000
DTEND;TZID=Europe/London:20260501T140000
DTSTAMP:20260419T180653
CREATED:20260414T091039Z
LAST-MODIFIED:20260414T091039Z
UID:10001631-1777629600-1777644000@spithursthub.co.uk
SUMMARY:The Wild Botanica Clinic
DESCRIPTION:Open for drop ins\, to book appointments\, talk to herbalists and to buy supplements\, herbal teas\, cacao and adaptogenic products.
URL:https://spithursthub.co.uk/event/the-wild-botanica-clinic/2026-05-01/
END:VEVENT
BEGIN:VEVENT
DTSTART;TZID=Europe/London:20260508T100000
DTEND;TZID=Europe/London:20260508T140000
DTSTAMP:20260419T180653
CREATED:20260414T091039Z
LAST-MODIFIED:20260414T091039Z
UID:10001632-1778234400-1778248800@spithursthub.co.uk
SUMMARY:The Wild Botanica Clinic
DESCRIPTION:Open for drop ins\, to book appointments\, talk to herbalists and to buy supplements\, herbal teas\, cacao and adaptogenic products.
URL:https://spithursthub.co.uk/event/the-wild-botanica-clinic/2026-05-08/
END:VEVENT
BEGIN:VEVENT
DTSTART;TZID=Europe/London:20260515T100000
DTEND;TZID=Europe/London:20260515T140000
DTSTAMP:20260419T180653
CREATED:20260414T091039Z
LAST-MODIFIED:20260414T091039Z
UID:10001633-1778839200-1778853600@spithursthub.co.uk
SUMMARY:The Wild Botanica Clinic
DESCRIPTION:Open for drop ins\, to book appointments\, talk to herbalists and to buy supplements\, herbal teas\, cacao and adaptogenic products.
URL:https://spithursthub.co.uk/event/the-wild-botanica-clinic/2026-05-15/
END:VEVENT
BEGIN:VEVENT
DTSTART;TZID=Europe/London:20260522T100000
DTEND;TZID=Europe/London:20260522T140000
DTSTAMP:20260419T180653
CREATED:20260414T091039Z
LAST-MODIFIED:20260414T091039Z
UID:10001634-1779444000-1779458400@spithursthub.co.uk
SUMMARY:The Wild Botanica Clinic
DESCRIPTION:Open for drop ins\, to book appointments\, talk to herbalists and to buy supplements\, herbal teas\, cacao and adaptogenic products.
URL:https://spithursthub.co.uk/event/the-wild-botanica-clinic/2026-05-22/
END:VEVENT
BEGIN:VEVENT
DTSTART;TZID=Europe/London:20260529T100000
DTEND;TZID=Europe/London:20260529T140000
DTSTAMP:20260419T180653
CREATED:20260414T091039Z
LAST-MODIFIED:20260414T091039Z
UID:10001635-1780048800-1780063200@spithursthub.co.uk
SUMMARY:The Wild Botanica Clinic
DESCRIPTION:Open for drop ins\, to book appointments\, talk to herbalists and to buy supplements\, herbal teas\, cacao and adaptogenic products.
URL:https://spithursthub.co.uk/event/the-wild-botanica-clinic/2026-05-29/
END:VEVENT
BEGIN:VEVENT
DTSTART;TZID=Europe/London:20260605T100000
DTEND;TZID=Europe/London:20260605T140000
DTSTAMP:20260419T180653
CREATED:20260414T091039Z
LAST-MODIFIED:20260414T091039Z
UID:10001636-1780653600-1780668000@spithursthub.co.uk
SUMMARY:The Wild Botanica Clinic
DESCRIPTION:Open for drop ins\, to book appointments\, talk to herbalists and to buy supplements\, herbal teas\, cacao and adaptogenic products.
URL:https://spithursthub.co.uk/event/the-wild-botanica-clinic/2026-06-05/
END:VEVENT
BEGIN:VEVENT
DTSTART;TZID=Europe/London:20260612T100000
DTEND;TZID=Europe/London:20260612T140000
DTSTAMP:20260419T180653
CREATED:20260414T091039Z
LAST-MODIFIED:20260414T091039Z
UID:10001637-1781258400-1781272800@spithursthub.co.uk
SUMMARY:The Wild Botanica Clinic
DESCRIPTION:Open for drop ins\, to book appointments\, talk to herbalists and to buy supplements\, herbal teas\, cacao and adaptogenic products.
URL:https://spithursthub.co.uk/event/the-wild-botanica-clinic/2026-06-12/
END:VEVENT
BEGIN:VEVENT
DTSTART;TZID=Europe/London:20260619T100000
DTEND;TZID=Europe/London:20260619T140000
DTSTAMP:20260419T180653
CREATED:20260414T091039Z
LAST-MODIFIED:20260414T091039Z
UID:10001638-1781863200-1781877600@spithursthub.co.uk
SUMMARY:The Wild Botanica Clinic
DESCRIPTION:Open for drop ins\, to book appointments\, talk to herbalists and to buy supplements\, herbal teas\, cacao and adaptogenic products.
URL:https://spithursthub.co.uk/event/the-wild-botanica-clinic/2026-06-19/
END:VEVENT
BEGIN:VEVENT
DTSTART;TZID=Europe/London:20260626T100000
DTEND;TZID=Europe/London:20260626T140000
DTSTAMP:20260419T180653
CREATED:20260414T091039Z
LAST-MODIFIED:20260414T091039Z
UID:10001639-1782468000-1782482400@spithursthub.co.uk
SUMMARY:The Wild Botanica Clinic
DESCRIPTION:Open for drop ins\, to book appointments\, talk to herbalists and to buy supplements\, herbal teas\, cacao and adaptogenic products.
URL:https://spithursthub.co.uk/event/the-wild-botanica-clinic/2026-06-26/
END:VEVENT
BEGIN:VEVENT
DTSTART;TZID=Europe/London:20260703T100000
DTEND;TZID=Europe/London:20260703T140000
DTSTAMP:20260419T180653
CREATED:20260414T091039Z
LAST-MODIFIED:20260414T091039Z
UID:10001640-1783072800-1783087200@spithursthub.co.uk
SUMMARY:The Wild Botanica Clinic
DESCRIPTION:Open for drop ins\, to book appointments\, talk to herbalists and to buy supplements\, herbal teas\, cacao and adaptogenic products.
URL:https://spithursthub.co.uk/event/the-wild-botanica-clinic/2026-07-03/
END:VEVENT
BEGIN:VEVENT
DTSTART;TZID=Europe/London:20260710T100000
DTEND;TZID=Europe/London:20260710T140000
DTSTAMP:20260419T180653
CREATED:20260414T091039Z
LAST-MODIFIED:20260414T091039Z
UID:10001641-1783677600-1783692000@spithursthub.co.uk
SUMMARY:The Wild Botanica Clinic
DESCRIPTION:Open for drop ins\, to book appointments\, talk to herbalists and to buy supplements\, herbal teas\, cacao and adaptogenic products.
URL:https://spithursthub.co.uk/event/the-wild-botanica-clinic/2026-07-10/
END:VEVENT
BEGIN:VEVENT
DTSTART;TZID=Europe/London:20260717T100000
DTEND;TZID=Europe/London:20260717T140000
DTSTAMP:20260419T180653
CREATED:20260414T091039Z
LAST-MODIFIED:20260414T091039Z
UID:10001642-1784282400-1784296800@spithursthub.co.uk
SUMMARY:The Wild Botanica Clinic
DESCRIPTION:Open for drop ins\, to book appointments\, talk to herbalists and to buy supplements\, herbal teas\, cacao and adaptogenic products.
URL:https://spithursthub.co.uk/event/the-wild-botanica-clinic/2026-07-17/
END:VEVENT
BEGIN:VEVENT
DTSTART;TZID=Europe/London:20260724T100000
DTEND;TZID=Europe/London:20260724T140000
DTSTAMP:20260419T180653
CREATED:20260414T091039Z
LAST-MODIFIED:20260414T091039Z
UID:10001643-1784887200-1784901600@spithursthub.co.uk
SUMMARY:The Wild Botanica Clinic
DESCRIPTION:Open for drop ins\, to book appointments\, talk to herbalists and to buy supplements\, herbal teas\, cacao and adaptogenic products.
URL:https://spithursthub.co.uk/event/the-wild-botanica-clinic/2026-07-24/
END:VEVENT
BEGIN:VEVENT
DTSTART;TZID=Europe/London:20260731T100000
DTEND;TZID=Europe/London:20260731T140000
DTSTAMP:20260419T180653
CREATED:20260414T091039Z
LAST-MODIFIED:20260414T091039Z
UID:10001644-1785492000-1785506400@spithursthub.co.uk
SUMMARY:The Wild Botanica Clinic
DESCRIPTION:Open for drop ins\, to book appointments\, talk to herbalists and to buy supplements\, herbal teas\, cacao and adaptogenic products.
URL:https://spithursthub.co.uk/event/the-wild-botanica-clinic/2026-07-31/
END:VEVENT
BEGIN:VEVENT
DTSTART;TZID=Europe/London:20260807T100000
DTEND;TZID=Europe/London:20260807T140000
DTSTAMP:20260419T180653
CREATED:20260414T091039Z
LAST-MODIFIED:20260414T091039Z
UID:10001645-1786096800-1786111200@spithursthub.co.uk
SUMMARY:The Wild Botanica Clinic
DESCRIPTION:Open for drop ins\, to book appointments\, talk to herbalists and to buy supplements\, herbal teas\, cacao and adaptogenic products.
URL:https://spithursthub.co.uk/event/the-wild-botanica-clinic/2026-08-07/
END:VEVENT
BEGIN:VEVENT
DTSTART;TZID=Europe/London:20260814T100000
DTEND;TZID=Europe/London:20260814T140000
DTSTAMP:20260419T180653
CREATED:20260414T091039Z
LAST-MODIFIED:20260414T091039Z
UID:10001646-1786701600-1786716000@spithursthub.co.uk
SUMMARY:The Wild Botanica Clinic
DESCRIPTION:Open for drop ins\, to book appointments\, talk to herbalists and to buy supplements\, herbal teas\, cacao and adaptogenic products.
URL:https://spithursthub.co.uk/event/the-wild-botanica-clinic/2026-08-14/
END:VEVENT
BEGIN:VEVENT
DTSTART;TZID=Europe/London:20260821T100000
DTEND;TZID=Europe/London:20260821T140000
DTSTAMP:20260419T180653
CREATED:20260414T091039Z
LAST-MODIFIED:20260414T091039Z
UID:10001647-1787306400-1787320800@spithursthub.co.uk
SUMMARY:The Wild Botanica Clinic
DESCRIPTION:Open for drop ins\, to book appointments\, talk to herbalists and to buy supplements\, herbal teas\, cacao and adaptogenic products.
URL:https://spithursthub.co.uk/event/the-wild-botanica-clinic/2026-08-21/
END:VEVENT
BEGIN:VEVENT
DTSTART;TZID=Europe/London:20260828T100000
DTEND;TZID=Europe/London:20260828T140000
DTSTAMP:20260419T180653
CREATED:20260414T091039Z
LAST-MODIFIED:20260414T091039Z
UID:10001648-1787911200-1787925600@spithursthub.co.uk
SUMMARY:The Wild Botanica Clinic
DESCRIPTION:Open for drop ins\, to book appointments\, talk to herbalists and to buy supplements\, herbal teas\, cacao and adaptogenic products.
URL:https://spithursthub.co.uk/event/the-wild-botanica-clinic/2026-08-28/
END:VEVENT
BEGIN:VEVENT
DTSTART;TZID=Europe/London:20260904T100000
DTEND;TZID=Europe/London:20260904T140000
DTSTAMP:20260419T180653
CREATED:20260414T091039Z
LAST-MODIFIED:20260414T091039Z
UID:10001649-1788516000-1788530400@spithursthub.co.uk
SUMMARY:The Wild Botanica Clinic
DESCRIPTION:Open for drop ins\, to book appointments\, talk to herbalists and to buy supplements\, herbal teas\, cacao and adaptogenic products.
URL:https://spithursthub.co.uk/event/the-wild-botanica-clinic/2026-09-04/
END:VEVENT
BEGIN:VEVENT
DTSTART;TZID=Europe/London:20260911T100000
DTEND;TZID=Europe/London:20260911T140000
DTSTAMP:20260419T180653
CREATED:20260414T091039Z
LAST-MODIFIED:20260414T091039Z
UID:10001650-1789120800-1789135200@spithursthub.co.uk
SUMMARY:The Wild Botanica Clinic
DESCRIPTION:Open for drop ins\, to book appointments\, talk to herbalists and to buy supplements\, herbal teas\, cacao and adaptogenic products.
URL:https://spithursthub.co.uk/event/the-wild-botanica-clinic/2026-09-11/
END:VEVENT
BEGIN:VEVENT
DTSTART;TZID=Europe/London:20260918T100000
DTEND;TZID=Europe/London:20260918T140000
DTSTAMP:20260419T180653
CREATED:20260414T091039Z
LAST-MODIFIED:20260414T091039Z
UID:10001651-1789725600-1789740000@spithursthub.co.uk
SUMMARY:The Wild Botanica Clinic
DESCRIPTION:Open for drop ins\, to book appointments\, talk to herbalists and to buy supplements\, herbal teas\, cacao and adaptogenic products.
URL:https://spithursthub.co.uk/event/the-wild-botanica-clinic/2026-09-18/
END:VEVENT
BEGIN:VEVENT
DTSTART;TZID=Europe/London:20260925T100000
DTEND;TZID=Europe/London:20260925T140000
DTSTAMP:20260419T180653
CREATED:20260414T091039Z
LAST-MODIFIED:20260414T091039Z
UID:10001652-1790330400-1790344800@spithursthub.co.uk
SUMMARY:The Wild Botanica Clinic
DESCRIPTION:Open for drop ins\, to book appointments\, talk to herbalists and to buy supplements\, herbal teas\, cacao and adaptogenic products.
URL:https://spithursthub.co.uk/event/the-wild-botanica-clinic/2026-09-25/
END:VEVENT
BEGIN:VEVENT
DTSTART;TZID=Europe/London:20261002T100000
DTEND;TZID=Europe/London:20261002T140000
DTSTAMP:20260419T180653
CREATED:20260414T091039Z
LAST-MODIFIED:20260414T091039Z
UID:10001653-1790935200-1790949600@spithursthub.co.uk
SUMMARY:The Wild Botanica Clinic
DESCRIPTION:Open for drop ins\, to book appointments\, talk to herbalists and to buy supplements\, herbal teas\, cacao and adaptogenic products.
URL:https://spithursthub.co.uk/event/the-wild-botanica-clinic/2026-10-02/
END:VEVENT
BEGIN:VEVENT
DTSTART;TZID=Europe/London:20261009T100000
DTEND;TZID=Europe/London:20261009T140000
DTSTAMP:20260419T180653
CREATED:20260414T091039Z
LAST-MODIFIED:20260414T091039Z
UID:10001654-1791540000-1791554400@spithursthub.co.uk
SUMMARY:The Wild Botanica Clinic
DESCRIPTION:Open for drop ins\, to book appointments\, talk to herbalists and to buy supplements\, herbal teas\, cacao and adaptogenic products.
URL:https://spithursthub.co.uk/event/the-wild-botanica-clinic/2026-10-09/
END:VEVENT
BEGIN:VEVENT
DTSTART;TZID=Europe/London:20261016T100000
DTEND;TZID=Europe/London:20261016T140000
DTSTAMP:20260419T180653
CREATED:20260414T091039Z
LAST-MODIFIED:20260414T091039Z
UID:10001655-1792144800-1792159200@spithursthub.co.uk
SUMMARY:The Wild Botanica Clinic
DESCRIPTION:Open for drop ins\, to book appointments\, talk to herbalists and to buy supplements\, herbal teas\, cacao and adaptogenic products.
URL:https://spithursthub.co.uk/event/the-wild-botanica-clinic/2026-10-16/
END:VEVENT
BEGIN:VEVENT
DTSTART;TZID=Europe/London:20261023T100000
DTEND;TZID=Europe/London:20261023T140000
DTSTAMP:20260419T180653
CREATED:20260414T091039Z
LAST-MODIFIED:20260414T091039Z
UID:10001656-1792749600-1792764000@spithursthub.co.uk
SUMMARY:The Wild Botanica Clinic
DESCRIPTION:Open for drop ins\, to book appointments\, talk to herbalists and to buy supplements\, herbal teas\, cacao and adaptogenic products.
URL:https://spithursthub.co.uk/event/the-wild-botanica-clinic/2026-10-23/
END:VEVENT
BEGIN:VEVENT
DTSTART;TZID=Europe/London:20261030T100000
DTEND;TZID=Europe/London:20261030T140000
DTSTAMP:20260419T180653
CREATED:20260414T091039Z
LAST-MODIFIED:20260414T091039Z
UID:10001657-1793354400-1793368800@spithursthub.co.uk
SUMMARY:The Wild Botanica Clinic
DESCRIPTION:Open for drop ins\, to book appointments\, talk to herbalists and to buy supplements\, herbal teas\, cacao and adaptogenic products.
URL:https://spithursthub.co.uk/event/the-wild-botanica-clinic/2026-10-30/
END:VEVENT
BEGIN:VEVENT
DTSTART;TZID=Europe/London:20261106T100000
DTEND;TZID=Europe/London:20261106T140000
DTSTAMP:20260419T180653
CREATED:20260414T091039Z
LAST-MODIFIED:20260414T091039Z
UID:10001658-1793959200-1793973600@spithursthub.co.uk
SUMMARY:The Wild Botanica Clinic
DESCRIPTION:Open for drop ins\, to book appointments\, talk to herbalists and to buy supplements\, herbal teas\, cacao and adaptogenic products.
URL:https://spithursthub.co.uk/event/the-wild-botanica-clinic/2026-11-06/
END:VEVENT
BEGIN:VEVENT
DTSTART;TZID=Europe/London:20261113T100000
DTEND;TZID=Europe/London:20261113T140000
DTSTAMP:20260419T180653
CREATED:20260414T091039Z
LAST-MODIFIED:20260414T091039Z
UID:10001659-1794564000-1794578400@spithursthub.co.uk
SUMMARY:The Wild Botanica Clinic
DESCRIPTION:Open for drop ins\, to book appointments\, talk to herbalists and to buy supplements\, herbal teas\, cacao and adaptogenic products.
URL:https://spithursthub.co.uk/event/the-wild-botanica-clinic/2026-11-13/
END:VEVENT
END:VCALENDAR