BEGIN:VCALENDAR
VERSION:2.0
PRODID:-//Spithurst HUB - ECPv6.15.20//NONSGML v1.0//EN
CALSCALE:GREGORIAN
METHOD:PUBLISH
X-WR-CALNAME:Spithurst HUB
X-ORIGINAL-URL:https://spithursthub.co.uk
X-WR-CALDESC:Events for Spithurst HUB
REFRESH-INTERVAL;VALUE=DURATION:PT1H
X-Robots-Tag:noindex
X-PUBLISHED-TTL:PT1H
BEGIN:VTIMEZONE
TZID:Europe/London
BEGIN:DAYLIGHT
TZOFFSETFROM:+0000
TZOFFSETTO:+0100
TZNAME:BST
DTSTART:20250330T010000
END:DAYLIGHT
BEGIN:STANDARD
TZOFFSETFROM:+0100
TZOFFSETTO:+0000
TZNAME:GMT
DTSTART:20251026T010000
END:STANDARD
BEGIN:DAYLIGHT
TZOFFSETFROM:+0000
TZOFFSETTO:+0100
TZNAME:BST
DTSTART:20260329T010000
END:DAYLIGHT
BEGIN:STANDARD
TZOFFSETFROM:+0100
TZOFFSETTO:+0000
TZNAME:GMT
DTSTART:20261025T010000
END:STANDARD
BEGIN:DAYLIGHT
TZOFFSETFROM:+0000
TZOFFSETTO:+0100
TZNAME:BST
DTSTART:20270328T010000
END:DAYLIGHT
BEGIN:STANDARD
TZOFFSETFROM:+0100
TZOFFSETTO:+0000
TZNAME:GMT
DTSTART:20271031T010000
END:STANDARD
END:VTIMEZONE
BEGIN:VEVENT
DTSTART;TZID=Europe/London:20260421T110000
DTEND;TZID=Europe/London:20260421T183000
DTSTAMP:20260420T002048
CREATED:20260414T091306Z
LAST-MODIFIED:20260419T112454Z
UID:10001891-1776769200-1776796200@spithursthub.co.uk
SUMMARY:Wildish Healing
DESCRIPTION:Reiki & Sound
URL:https://spithursthub.co.uk/event/wildish-healing-2/2026-04-21/
ATTACH;FMTTYPE=image/jpeg:https://spithursthub.co.uk/wp-content/uploads/2026/04/Reiki-and-Sound-Healing-Barcombe-Lewes-Brighitta-e1776597794896.jpeg
ORGANIZER;CN="Brighitta Moser-Clark":MAILTO:brighitta@brighitta.com
END:VEVENT
BEGIN:VEVENT
DTSTART;TZID=Europe/London:20260422T160000
DTEND;TZID=Europe/London:20260422T190000
DTSTAMP:20260420T002048
CREATED:20260409T162232Z
LAST-MODIFIED:20260414T081927Z
UID:10000005-1776873600-1776884400@spithursthub.co.uk
SUMMARY:River Wolf Sauna
DESCRIPTION:Relax and recharge with a traditional wood-fired sauna session in a peaceful natural setting. Each booking includes 50 minutes of sauna time\, giving you space to enjoy gentle heat cycles\, cool down between rounds\, and fully unwind. \nSauna bathing can support relaxation\, circulation\, muscle recovery and mental clarity\, especially when alternating heat with fresh air or a cold plunge where available.
URL:https://spithursthub.co.uk/event/river-wolf-sauna/2026-04-22/
ATTACH;FMTTYPE=image/jpeg:https://spithursthub.co.uk/wp-content/uploads/2026/04/River-Wolf-Wild-Sauna-2-scaled-1-e1776154750514.jpg
END:VEVENT
BEGIN:VEVENT
DTSTART;TZID=Europe/London:20260422T190000
DTEND;TZID=Europe/London:20260422T200000
DTSTAMP:20260420T002048
CREATED:20260409T163249Z
LAST-MODIFIED:20260409T163249Z
UID:10000266-1776884400-1776888000@spithursthub.co.uk
SUMMARY:Gentle Yoga and Sound Bath
DESCRIPTION:Reclaim clarity\, connection\, and calm through a therapeutic journey of body\, mind\, and purpose.
URL:https://spithursthub.co.uk/event/gentle-yoga-and-sound-bath/2026-04-22/
END:VEVENT
BEGIN:VEVENT
DTSTART;TZID=Europe/London:20260423T110000
DTEND;TZID=Europe/London:20260423T183000
DTSTAMP:20260420T002048
CREATED:20260414T091538Z
LAST-MODIFIED:20260419T115603Z
UID:10002935-1776942000-1776969000@spithursthub.co.uk
SUMMARY:Wildish Healing
DESCRIPTION:Reiki & Sound \nMore info…
URL:https://spithursthub.co.uk/event/wildish-healing-3/2026-04-23/
ATTACH;FMTTYPE=image/jpeg:https://spithursthub.co.uk/wp-content/uploads/2026/04/Reiki-and-Sound-Healing-Barcombe-Lewes-Brighitta-e1776597794896.jpeg
ORGANIZER;CN="Brighitta Moser-Clark":MAILTO:brighitta@brighitta.com
END:VEVENT
BEGIN:VEVENT
DTSTART;TZID=Europe/London:20260423T130000
DTEND;TZID=Europe/London:20260423T140000
DTSTAMP:20260420T002048
CREATED:20260409T163351Z
LAST-MODIFIED:20260410T092140Z
UID:10000527-1776949200-1776952800@spithursthub.co.uk
SUMMARY:Lunchtime Yoga
DESCRIPTION:
URL:https://spithursthub.co.uk/event/lunchtime-yoga/2026-04-23/
ATTACH;FMTTYPE=image/jpeg:https://spithursthub.co.uk/wp-content/uploads/2026/04/3330731f-2625-4186-958f-4357bd0c5b51-e1776155026694.jpg
END:VEVENT
BEGIN:VEVENT
DTSTART;TZID=Europe/London:20260423T160000
DTEND;TZID=Europe/London:20260423T190000
DTSTAMP:20260420T002048
CREATED:20260414T074242Z
LAST-MODIFIED:20260414T082103Z
UID:10001367-1776960000-1776970800@spithursthub.co.uk
SUMMARY:River Wolf Sauna
DESCRIPTION:Relax and recharge with a traditional wood-fired sauna session in a peaceful natural setting. Each booking includes 50 minutes of sauna time\, giving you space to enjoy gentle heat cycles\, cool down between rounds\, and fully unwind. \nSauna bathing can support relaxation\, circulation\, muscle recovery and mental clarity\, especially when alternating heat with fresh air or a cold plunge where available.
URL:https://spithursthub.co.uk/event/river-wolf-sauna-2/2026-04-23/
ATTACH;FMTTYPE=image/jpeg:https://spithursthub.co.uk/wp-content/uploads/2026/04/River-Wolf-Wild-Sauna-2-scaled-1-e1776154750514.jpg
END:VEVENT
BEGIN:VEVENT
DTSTART;TZID=Europe/London:20260424T100000
DTEND;TZID=Europe/London:20260424T140000
DTSTAMP:20260420T002048
CREATED:20260414T091039Z
LAST-MODIFIED:20260414T091039Z
UID:10001630-1777024800-1777039200@spithursthub.co.uk
SUMMARY:The Wild Botanica Clinic
DESCRIPTION:Open for drop ins\, to book appointments\, talk to herbalists and to buy supplements\, herbal teas\, cacao and adaptogenic products.
URL:https://spithursthub.co.uk/event/the-wild-botanica-clinic/2026-04-24/
END:VEVENT
BEGIN:VEVENT
DTSTART;TZID=Europe/London:20260424T110000
DTEND;TZID=Europe/London:20260424T183000
DTSTAMP:20260420T002048
CREATED:20260414T091500Z
LAST-MODIFIED:20260419T112408Z
UID:10003196-1777028400-1777055400@spithursthub.co.uk
SUMMARY:Wildish Healing
DESCRIPTION:Reiki & Sound
URL:https://spithursthub.co.uk/event/wildish-healing/2026-04-24/
ATTACH;FMTTYPE=image/jpeg:https://spithursthub.co.uk/wp-content/uploads/2026/04/Reiki-and-Sound-Healing-Barcombe-Lewes-Brighitta-e1776597794896.jpeg
ORGANIZER;CN="Brighitta Moser-Clark":MAILTO:brighitta@brighitta.com
END:VEVENT
BEGIN:VEVENT
DTSTART;TZID=Europe/London:20260424T130000
DTEND;TZID=Europe/London:20260424T173000
DTSTAMP:20260420T002048
CREATED:20260409T163508Z
LAST-MODIFIED:20260409T163508Z
UID:10000788-1777035600-1777051800@spithursthub.co.uk
SUMMARY:Hubbery Bakery
DESCRIPTION:Swedish Homemade Produce
URL:https://spithursthub.co.uk/event/hubbery-bakery/2026-04-24/
END:VEVENT
END:VCALENDAR