BEGIN:VCALENDAR
VERSION:2.0
PRODID:-//Spithurst HUB - ECPv6.15.20//NONSGML v1.0//EN
CALSCALE:GREGORIAN
METHOD:PUBLISH
X-WR-CALNAME:Spithurst HUB
X-ORIGINAL-URL:https://spithursthub.co.uk
X-WR-CALDESC:Events for Spithurst HUB
REFRESH-INTERVAL;VALUE=DURATION:PT1H
X-Robots-Tag:noindex
X-PUBLISHED-TTL:PT1H
BEGIN:VTIMEZONE
TZID:Europe/London
BEGIN:DAYLIGHT
TZOFFSETFROM:+0000
TZOFFSETTO:+0100
TZNAME:BST
DTSTART:20260329T010000
END:DAYLIGHT
BEGIN:STANDARD
TZOFFSETFROM:+0100
TZOFFSETTO:+0000
TZNAME:GMT
DTSTART:20261025T010000
END:STANDARD
BEGIN:DAYLIGHT
TZOFFSETFROM:+0000
TZOFFSETTO:+0100
TZNAME:BST
DTSTART:20270328T010000
END:DAYLIGHT
BEGIN:STANDARD
TZOFFSETFROM:+0100
TZOFFSETTO:+0000
TZNAME:GMT
DTSTART:20271031T010000
END:STANDARD
BEGIN:DAYLIGHT
TZOFFSETFROM:+0000
TZOFFSETTO:+0100
TZNAME:BST
DTSTART:20280326T010000
END:DAYLIGHT
BEGIN:STANDARD
TZOFFSETFROM:+0100
TZOFFSETTO:+0000
TZNAME:GMT
DTSTART:20281029T010000
END:STANDARD
BEGIN:DAYLIGHT
TZOFFSETFROM:+0000
TZOFFSETTO:+0100
TZNAME:BST
DTSTART:20290325T010000
END:DAYLIGHT
BEGIN:STANDARD
TZOFFSETFROM:+0100
TZOFFSETTO:+0000
TZNAME:GMT
DTSTART:20291028T010000
END:STANDARD
END:VTIMEZONE
BEGIN:VEVENT
DTSTART;TZID=Europe/London:20271104T110000
DTEND;TZID=Europe/London:20271104T183000
DTSTAMP:20260422T182939
CREATED:20260414T091538Z
LAST-MODIFIED:20260419T115603Z
UID:10003015-1825326000-1825353000@spithursthub.co.uk
SUMMARY:Wildish Healing
DESCRIPTION:Reiki & Sound \nMore info…
URL:https://spithursthub.co.uk/event/wildish-healing-3/2027-11-04/
ATTACH;FMTTYPE=image/jpeg:https://spithursthub.co.uk/wp-content/uploads/2026/04/Reiki-and-Sound-Healing-Barcombe-Lewes-Brighitta-e1776597794896.jpeg
ORGANIZER;CN="Brighitta Moser-Clark":MAILTO:brighitta@brighitta.com
END:VEVENT
BEGIN:VEVENT
DTSTART;TZID=Europe/London:20271105T110000
DTEND;TZID=Europe/London:20271105T183000
DTSTAMP:20260422T182939
CREATED:20260414T091500Z
LAST-MODIFIED:20260419T112408Z
UID:10003276-1825412400-1825439400@spithursthub.co.uk
SUMMARY:Wildish Healing
DESCRIPTION:Reiki & Sound
URL:https://spithursthub.co.uk/event/wildish-healing/2027-11-05/
ATTACH;FMTTYPE=image/jpeg:https://spithursthub.co.uk/wp-content/uploads/2026/04/Reiki-and-Sound-Healing-Barcombe-Lewes-Brighitta-e1776597794896.jpeg
ORGANIZER;CN="Brighitta Moser-Clark":MAILTO:brighitta@brighitta.com
END:VEVENT
BEGIN:VEVENT
DTSTART;TZID=Europe/London:20271109T110000
DTEND;TZID=Europe/London:20271109T183000
DTSTAMP:20260422T182939
CREATED:20260414T091306Z
LAST-MODIFIED:20260419T112454Z
UID:10001972-1825758000-1825785000@spithursthub.co.uk
SUMMARY:Wildish Healing
DESCRIPTION:Reiki & Sound
URL:https://spithursthub.co.uk/event/wildish-healing-2/2027-11-09/
ATTACH;FMTTYPE=image/jpeg:https://spithursthub.co.uk/wp-content/uploads/2026/04/Reiki-and-Sound-Healing-Barcombe-Lewes-Brighitta-e1776597794896.jpeg
ORGANIZER;CN="Brighitta Moser-Clark":MAILTO:brighitta@brighitta.com
END:VEVENT
BEGIN:VEVENT
DTSTART;TZID=Europe/London:20271111T110000
DTEND;TZID=Europe/London:20271111T183000
DTSTAMP:20260422T182939
CREATED:20260414T091538Z
LAST-MODIFIED:20260419T115603Z
UID:10003016-1825930800-1825957800@spithursthub.co.uk
SUMMARY:Wildish Healing
DESCRIPTION:Reiki & Sound \nMore info…
URL:https://spithursthub.co.uk/event/wildish-healing-3/2027-11-11/
ATTACH;FMTTYPE=image/jpeg:https://spithursthub.co.uk/wp-content/uploads/2026/04/Reiki-and-Sound-Healing-Barcombe-Lewes-Brighitta-e1776597794896.jpeg
ORGANIZER;CN="Brighitta Moser-Clark":MAILTO:brighitta@brighitta.com
END:VEVENT
BEGIN:VEVENT
DTSTART;TZID=Europe/London:20271112T110000
DTEND;TZID=Europe/London:20271112T183000
DTSTAMP:20260422T182939
CREATED:20260414T091500Z
LAST-MODIFIED:20260419T112408Z
UID:10003277-1826017200-1826044200@spithursthub.co.uk
SUMMARY:Wildish Healing
DESCRIPTION:Reiki & Sound
URL:https://spithursthub.co.uk/event/wildish-healing/2027-11-12/
ATTACH;FMTTYPE=image/jpeg:https://spithursthub.co.uk/wp-content/uploads/2026/04/Reiki-and-Sound-Healing-Barcombe-Lewes-Brighitta-e1776597794896.jpeg
ORGANIZER;CN="Brighitta Moser-Clark":MAILTO:brighitta@brighitta.com
END:VEVENT
BEGIN:VEVENT
DTSTART;TZID=Europe/London:20271116T110000
DTEND;TZID=Europe/London:20271116T183000
DTSTAMP:20260422T182939
CREATED:20260414T091306Z
LAST-MODIFIED:20260419T112454Z
UID:10001973-1826362800-1826389800@spithursthub.co.uk
SUMMARY:Wildish Healing
DESCRIPTION:Reiki & Sound
URL:https://spithursthub.co.uk/event/wildish-healing-2/2027-11-16/
ATTACH;FMTTYPE=image/jpeg:https://spithursthub.co.uk/wp-content/uploads/2026/04/Reiki-and-Sound-Healing-Barcombe-Lewes-Brighitta-e1776597794896.jpeg
ORGANIZER;CN="Brighitta Moser-Clark":MAILTO:brighitta@brighitta.com
END:VEVENT
BEGIN:VEVENT
DTSTART;TZID=Europe/London:20271118T110000
DTEND;TZID=Europe/London:20271118T183000
DTSTAMP:20260422T182939
CREATED:20260414T091538Z
LAST-MODIFIED:20260419T115603Z
UID:10003017-1826535600-1826562600@spithursthub.co.uk
SUMMARY:Wildish Healing
DESCRIPTION:Reiki & Sound \nMore info…
URL:https://spithursthub.co.uk/event/wildish-healing-3/2027-11-18/
ATTACH;FMTTYPE=image/jpeg:https://spithursthub.co.uk/wp-content/uploads/2026/04/Reiki-and-Sound-Healing-Barcombe-Lewes-Brighitta-e1776597794896.jpeg
ORGANIZER;CN="Brighitta Moser-Clark":MAILTO:brighitta@brighitta.com
END:VEVENT
BEGIN:VEVENT
DTSTART;TZID=Europe/London:20271119T110000
DTEND;TZID=Europe/London:20271119T183000
DTSTAMP:20260422T182939
CREATED:20260414T091500Z
LAST-MODIFIED:20260419T112408Z
UID:10003278-1826622000-1826649000@spithursthub.co.uk
SUMMARY:Wildish Healing
DESCRIPTION:Reiki & Sound
URL:https://spithursthub.co.uk/event/wildish-healing/2027-11-19/
ATTACH;FMTTYPE=image/jpeg:https://spithursthub.co.uk/wp-content/uploads/2026/04/Reiki-and-Sound-Healing-Barcombe-Lewes-Brighitta-e1776597794896.jpeg
ORGANIZER;CN="Brighitta Moser-Clark":MAILTO:brighitta@brighitta.com
END:VEVENT
BEGIN:VEVENT
DTSTART;TZID=Europe/London:20271123T110000
DTEND;TZID=Europe/London:20271123T183000
DTSTAMP:20260422T182939
CREATED:20260414T091306Z
LAST-MODIFIED:20260419T112454Z
UID:10001974-1826967600-1826994600@spithursthub.co.uk
SUMMARY:Wildish Healing
DESCRIPTION:Reiki & Sound
URL:https://spithursthub.co.uk/event/wildish-healing-2/2027-11-23/
ATTACH;FMTTYPE=image/jpeg:https://spithursthub.co.uk/wp-content/uploads/2026/04/Reiki-and-Sound-Healing-Barcombe-Lewes-Brighitta-e1776597794896.jpeg
ORGANIZER;CN="Brighitta Moser-Clark":MAILTO:brighitta@brighitta.com
END:VEVENT
BEGIN:VEVENT
DTSTART;TZID=Europe/London:20271125T110000
DTEND;TZID=Europe/London:20271125T183000
DTSTAMP:20260422T182939
CREATED:20260414T091538Z
LAST-MODIFIED:20260419T115603Z
UID:10003018-1827140400-1827167400@spithursthub.co.uk
SUMMARY:Wildish Healing
DESCRIPTION:Reiki & Sound \nMore info…
URL:https://spithursthub.co.uk/event/wildish-healing-3/2027-11-25/
ATTACH;FMTTYPE=image/jpeg:https://spithursthub.co.uk/wp-content/uploads/2026/04/Reiki-and-Sound-Healing-Barcombe-Lewes-Brighitta-e1776597794896.jpeg
ORGANIZER;CN="Brighitta Moser-Clark":MAILTO:brighitta@brighitta.com
END:VEVENT
BEGIN:VEVENT
DTSTART;TZID=Europe/London:20271126T110000
DTEND;TZID=Europe/London:20271126T183000
DTSTAMP:20260422T182939
CREATED:20260414T091500Z
LAST-MODIFIED:20260419T112408Z
UID:10003279-1827226800-1827253800@spithursthub.co.uk
SUMMARY:Wildish Healing
DESCRIPTION:Reiki & Sound
URL:https://spithursthub.co.uk/event/wildish-healing/2027-11-26/
ATTACH;FMTTYPE=image/jpeg:https://spithursthub.co.uk/wp-content/uploads/2026/04/Reiki-and-Sound-Healing-Barcombe-Lewes-Brighitta-e1776597794896.jpeg
ORGANIZER;CN="Brighitta Moser-Clark":MAILTO:brighitta@brighitta.com
END:VEVENT
BEGIN:VEVENT
DTSTART;TZID=Europe/London:20271130T110000
DTEND;TZID=Europe/London:20271130T183000
DTSTAMP:20260422T182939
CREATED:20260414T091306Z
LAST-MODIFIED:20260419T112454Z
UID:10001975-1827572400-1827599400@spithursthub.co.uk
SUMMARY:Wildish Healing
DESCRIPTION:Reiki & Sound
URL:https://spithursthub.co.uk/event/wildish-healing-2/2027-11-30/
ATTACH;FMTTYPE=image/jpeg:https://spithursthub.co.uk/wp-content/uploads/2026/04/Reiki-and-Sound-Healing-Barcombe-Lewes-Brighitta-e1776597794896.jpeg
ORGANIZER;CN="Brighitta Moser-Clark":MAILTO:brighitta@brighitta.com
END:VEVENT
BEGIN:VEVENT
DTSTART;TZID=Europe/London:20271202T110000
DTEND;TZID=Europe/London:20271202T183000
DTSTAMP:20260422T182939
CREATED:20260414T091538Z
LAST-MODIFIED:20260419T115603Z
UID:10003019-1827745200-1827772200@spithursthub.co.uk
SUMMARY:Wildish Healing
DESCRIPTION:Reiki & Sound \nMore info…
URL:https://spithursthub.co.uk/event/wildish-healing-3/2027-12-02/
ATTACH;FMTTYPE=image/jpeg:https://spithursthub.co.uk/wp-content/uploads/2026/04/Reiki-and-Sound-Healing-Barcombe-Lewes-Brighitta-e1776597794896.jpeg
ORGANIZER;CN="Brighitta Moser-Clark":MAILTO:brighitta@brighitta.com
END:VEVENT
BEGIN:VEVENT
DTSTART;TZID=Europe/London:20271203T110000
DTEND;TZID=Europe/London:20271203T183000
DTSTAMP:20260422T182939
CREATED:20260414T091500Z
LAST-MODIFIED:20260419T112408Z
UID:10003280-1827831600-1827858600@spithursthub.co.uk
SUMMARY:Wildish Healing
DESCRIPTION:Reiki & Sound
URL:https://spithursthub.co.uk/event/wildish-healing/2027-12-03/
ATTACH;FMTTYPE=image/jpeg:https://spithursthub.co.uk/wp-content/uploads/2026/04/Reiki-and-Sound-Healing-Barcombe-Lewes-Brighitta-e1776597794896.jpeg
ORGANIZER;CN="Brighitta Moser-Clark":MAILTO:brighitta@brighitta.com
END:VEVENT
BEGIN:VEVENT
DTSTART;TZID=Europe/London:20271207T110000
DTEND;TZID=Europe/London:20271207T183000
DTSTAMP:20260422T182939
CREATED:20260414T091306Z
LAST-MODIFIED:20260419T112454Z
UID:10001976-1828177200-1828204200@spithursthub.co.uk
SUMMARY:Wildish Healing
DESCRIPTION:Reiki & Sound
URL:https://spithursthub.co.uk/event/wildish-healing-2/2027-12-07/
ATTACH;FMTTYPE=image/jpeg:https://spithursthub.co.uk/wp-content/uploads/2026/04/Reiki-and-Sound-Healing-Barcombe-Lewes-Brighitta-e1776597794896.jpeg
ORGANIZER;CN="Brighitta Moser-Clark":MAILTO:brighitta@brighitta.com
END:VEVENT
BEGIN:VEVENT
DTSTART;TZID=Europe/London:20271209T110000
DTEND;TZID=Europe/London:20271209T183000
DTSTAMP:20260422T182939
CREATED:20260414T091538Z
LAST-MODIFIED:20260419T115603Z
UID:10003020-1828350000-1828377000@spithursthub.co.uk
SUMMARY:Wildish Healing
DESCRIPTION:Reiki & Sound \nMore info…
URL:https://spithursthub.co.uk/event/wildish-healing-3/2027-12-09/
ATTACH;FMTTYPE=image/jpeg:https://spithursthub.co.uk/wp-content/uploads/2026/04/Reiki-and-Sound-Healing-Barcombe-Lewes-Brighitta-e1776597794896.jpeg
ORGANIZER;CN="Brighitta Moser-Clark":MAILTO:brighitta@brighitta.com
END:VEVENT
BEGIN:VEVENT
DTSTART;TZID=Europe/London:20271210T110000
DTEND;TZID=Europe/London:20271210T183000
DTSTAMP:20260422T182939
CREATED:20260414T091500Z
LAST-MODIFIED:20260419T112408Z
UID:10003281-1828436400-1828463400@spithursthub.co.uk
SUMMARY:Wildish Healing
DESCRIPTION:Reiki & Sound
URL:https://spithursthub.co.uk/event/wildish-healing/2027-12-10/
ATTACH;FMTTYPE=image/jpeg:https://spithursthub.co.uk/wp-content/uploads/2026/04/Reiki-and-Sound-Healing-Barcombe-Lewes-Brighitta-e1776597794896.jpeg
ORGANIZER;CN="Brighitta Moser-Clark":MAILTO:brighitta@brighitta.com
END:VEVENT
BEGIN:VEVENT
DTSTART;TZID=Europe/London:20271214T110000
DTEND;TZID=Europe/London:20271214T183000
DTSTAMP:20260422T182939
CREATED:20260414T091306Z
LAST-MODIFIED:20260419T112454Z
UID:10001977-1828782000-1828809000@spithursthub.co.uk
SUMMARY:Wildish Healing
DESCRIPTION:Reiki & Sound
URL:https://spithursthub.co.uk/event/wildish-healing-2/2027-12-14/
ATTACH;FMTTYPE=image/jpeg:https://spithursthub.co.uk/wp-content/uploads/2026/04/Reiki-and-Sound-Healing-Barcombe-Lewes-Brighitta-e1776597794896.jpeg
ORGANIZER;CN="Brighitta Moser-Clark":MAILTO:brighitta@brighitta.com
END:VEVENT
BEGIN:VEVENT
DTSTART;TZID=Europe/London:20271216T110000
DTEND;TZID=Europe/London:20271216T183000
DTSTAMP:20260422T182939
CREATED:20260414T091538Z
LAST-MODIFIED:20260419T115603Z
UID:10003021-1828954800-1828981800@spithursthub.co.uk
SUMMARY:Wildish Healing
DESCRIPTION:Reiki & Sound \nMore info…
URL:https://spithursthub.co.uk/event/wildish-healing-3/2027-12-16/
ATTACH;FMTTYPE=image/jpeg:https://spithursthub.co.uk/wp-content/uploads/2026/04/Reiki-and-Sound-Healing-Barcombe-Lewes-Brighitta-e1776597794896.jpeg
ORGANIZER;CN="Brighitta Moser-Clark":MAILTO:brighitta@brighitta.com
END:VEVENT
BEGIN:VEVENT
DTSTART;TZID=Europe/London:20271217T110000
DTEND;TZID=Europe/London:20271217T183000
DTSTAMP:20260422T182939
CREATED:20260414T091500Z
LAST-MODIFIED:20260419T112408Z
UID:10003282-1829041200-1829068200@spithursthub.co.uk
SUMMARY:Wildish Healing
DESCRIPTION:Reiki & Sound
URL:https://spithursthub.co.uk/event/wildish-healing/2027-12-17/
ATTACH;FMTTYPE=image/jpeg:https://spithursthub.co.uk/wp-content/uploads/2026/04/Reiki-and-Sound-Healing-Barcombe-Lewes-Brighitta-e1776597794896.jpeg
ORGANIZER;CN="Brighitta Moser-Clark":MAILTO:brighitta@brighitta.com
END:VEVENT
BEGIN:VEVENT
DTSTART;TZID=Europe/London:20271221T110000
DTEND;TZID=Europe/London:20271221T183000
DTSTAMP:20260422T182939
CREATED:20260414T091306Z
LAST-MODIFIED:20260419T112454Z
UID:10001978-1829386800-1829413800@spithursthub.co.uk
SUMMARY:Wildish Healing
DESCRIPTION:Reiki & Sound
URL:https://spithursthub.co.uk/event/wildish-healing-2/2027-12-21/
ATTACH;FMTTYPE=image/jpeg:https://spithursthub.co.uk/wp-content/uploads/2026/04/Reiki-and-Sound-Healing-Barcombe-Lewes-Brighitta-e1776597794896.jpeg
ORGANIZER;CN="Brighitta Moser-Clark":MAILTO:brighitta@brighitta.com
END:VEVENT
BEGIN:VEVENT
DTSTART;TZID=Europe/London:20271223T110000
DTEND;TZID=Europe/London:20271223T183000
DTSTAMP:20260422T182939
CREATED:20260414T091538Z
LAST-MODIFIED:20260419T115603Z
UID:10003022-1829559600-1829586600@spithursthub.co.uk
SUMMARY:Wildish Healing
DESCRIPTION:Reiki & Sound \nMore info…
URL:https://spithursthub.co.uk/event/wildish-healing-3/2027-12-23/
ATTACH;FMTTYPE=image/jpeg:https://spithursthub.co.uk/wp-content/uploads/2026/04/Reiki-and-Sound-Healing-Barcombe-Lewes-Brighitta-e1776597794896.jpeg
ORGANIZER;CN="Brighitta Moser-Clark":MAILTO:brighitta@brighitta.com
END:VEVENT
BEGIN:VEVENT
DTSTART;TZID=Europe/London:20271224T110000
DTEND;TZID=Europe/London:20271224T183000
DTSTAMP:20260422T182939
CREATED:20260414T091500Z
LAST-MODIFIED:20260419T112408Z
UID:10003283-1829646000-1829673000@spithursthub.co.uk
SUMMARY:Wildish Healing
DESCRIPTION:Reiki & Sound
URL:https://spithursthub.co.uk/event/wildish-healing/2027-12-24/
ATTACH;FMTTYPE=image/jpeg:https://spithursthub.co.uk/wp-content/uploads/2026/04/Reiki-and-Sound-Healing-Barcombe-Lewes-Brighitta-e1776597794896.jpeg
ORGANIZER;CN="Brighitta Moser-Clark":MAILTO:brighitta@brighitta.com
END:VEVENT
BEGIN:VEVENT
DTSTART;TZID=Europe/London:20271228T110000
DTEND;TZID=Europe/London:20271228T183000
DTSTAMP:20260422T182939
CREATED:20260414T091306Z
LAST-MODIFIED:20260419T112454Z
UID:10001979-1829991600-1830018600@spithursthub.co.uk
SUMMARY:Wildish Healing
DESCRIPTION:Reiki & Sound
URL:https://spithursthub.co.uk/event/wildish-healing-2/2027-12-28/
ATTACH;FMTTYPE=image/jpeg:https://spithursthub.co.uk/wp-content/uploads/2026/04/Reiki-and-Sound-Healing-Barcombe-Lewes-Brighitta-e1776597794896.jpeg
ORGANIZER;CN="Brighitta Moser-Clark":MAILTO:brighitta@brighitta.com
END:VEVENT
BEGIN:VEVENT
DTSTART;TZID=Europe/London:20271230T110000
DTEND;TZID=Europe/London:20271230T183000
DTSTAMP:20260422T182939
CREATED:20260414T091538Z
LAST-MODIFIED:20260419T115603Z
UID:10003023-1830164400-1830191400@spithursthub.co.uk
SUMMARY:Wildish Healing
DESCRIPTION:Reiki & Sound \nMore info…
URL:https://spithursthub.co.uk/event/wildish-healing-3/2027-12-30/
ATTACH;FMTTYPE=image/jpeg:https://spithursthub.co.uk/wp-content/uploads/2026/04/Reiki-and-Sound-Healing-Barcombe-Lewes-Brighitta-e1776597794896.jpeg
ORGANIZER;CN="Brighitta Moser-Clark":MAILTO:brighitta@brighitta.com
END:VEVENT
BEGIN:VEVENT
DTSTART;TZID=Europe/London:20271231T110000
DTEND;TZID=Europe/London:20271231T183000
DTSTAMP:20260422T182939
CREATED:20260414T091500Z
LAST-MODIFIED:20260419T112408Z
UID:10003284-1830250800-1830277800@spithursthub.co.uk
SUMMARY:Wildish Healing
DESCRIPTION:Reiki & Sound
URL:https://spithursthub.co.uk/event/wildish-healing/2027-12-31/
ATTACH;FMTTYPE=image/jpeg:https://spithursthub.co.uk/wp-content/uploads/2026/04/Reiki-and-Sound-Healing-Barcombe-Lewes-Brighitta-e1776597794896.jpeg
ORGANIZER;CN="Brighitta Moser-Clark":MAILTO:brighitta@brighitta.com
END:VEVENT
BEGIN:VEVENT
DTSTART;TZID=Europe/London:20280104T110000
DTEND;TZID=Europe/London:20280104T183000
DTSTAMP:20260422T182939
CREATED:20260414T091306Z
LAST-MODIFIED:20260419T112454Z
UID:10001980-1830596400-1830623400@spithursthub.co.uk
SUMMARY:Wildish Healing
DESCRIPTION:Reiki & Sound
URL:https://spithursthub.co.uk/event/wildish-healing-2/2028-01-04/
ATTACH;FMTTYPE=image/jpeg:https://spithursthub.co.uk/wp-content/uploads/2026/04/Reiki-and-Sound-Healing-Barcombe-Lewes-Brighitta-e1776597794896.jpeg
ORGANIZER;CN="Brighitta Moser-Clark":MAILTO:brighitta@brighitta.com
END:VEVENT
BEGIN:VEVENT
DTSTART;TZID=Europe/London:20280106T110000
DTEND;TZID=Europe/London:20280106T183000
DTSTAMP:20260422T182939
CREATED:20260414T091538Z
LAST-MODIFIED:20260419T115603Z
UID:10003024-1830769200-1830796200@spithursthub.co.uk
SUMMARY:Wildish Healing
DESCRIPTION:Reiki & Sound \nMore info…
URL:https://spithursthub.co.uk/event/wildish-healing-3/2028-01-06/
ATTACH;FMTTYPE=image/jpeg:https://spithursthub.co.uk/wp-content/uploads/2026/04/Reiki-and-Sound-Healing-Barcombe-Lewes-Brighitta-e1776597794896.jpeg
ORGANIZER;CN="Brighitta Moser-Clark":MAILTO:brighitta@brighitta.com
END:VEVENT
BEGIN:VEVENT
DTSTART;TZID=Europe/London:20280107T110000
DTEND;TZID=Europe/London:20280107T183000
DTSTAMP:20260422T182939
CREATED:20260414T091500Z
LAST-MODIFIED:20260419T112408Z
UID:10003285-1830855600-1830882600@spithursthub.co.uk
SUMMARY:Wildish Healing
DESCRIPTION:Reiki & Sound
URL:https://spithursthub.co.uk/event/wildish-healing/2028-01-07/
ATTACH;FMTTYPE=image/jpeg:https://spithursthub.co.uk/wp-content/uploads/2026/04/Reiki-and-Sound-Healing-Barcombe-Lewes-Brighitta-e1776597794896.jpeg
ORGANIZER;CN="Brighitta Moser-Clark":MAILTO:brighitta@brighitta.com
END:VEVENT
BEGIN:VEVENT
DTSTART;TZID=Europe/London:20280111T110000
DTEND;TZID=Europe/London:20280111T183000
DTSTAMP:20260422T182939
CREATED:20260414T091306Z
LAST-MODIFIED:20260419T112454Z
UID:10001981-1831201200-1831228200@spithursthub.co.uk
SUMMARY:Wildish Healing
DESCRIPTION:Reiki & Sound
URL:https://spithursthub.co.uk/event/wildish-healing-2/2028-01-11/
ATTACH;FMTTYPE=image/jpeg:https://spithursthub.co.uk/wp-content/uploads/2026/04/Reiki-and-Sound-Healing-Barcombe-Lewes-Brighitta-e1776597794896.jpeg
ORGANIZER;CN="Brighitta Moser-Clark":MAILTO:brighitta@brighitta.com
END:VEVENT
END:VCALENDAR