BEGIN:VCALENDAR
VERSION:2.0
PRODID:-//Spithurst HUB - ECPv6.15.20//NONSGML v1.0//EN
CALSCALE:GREGORIAN
METHOD:PUBLISH
X-WR-CALNAME:Spithurst HUB
X-ORIGINAL-URL:https://spithursthub.co.uk
X-WR-CALDESC:Events for Spithurst HUB
REFRESH-INTERVAL;VALUE=DURATION:PT1H
X-Robots-Tag:noindex
X-PUBLISHED-TTL:PT1H
BEGIN:VTIMEZONE
TZID:Europe/London
BEGIN:DAYLIGHT
TZOFFSETFROM:+0000
TZOFFSETTO:+0100
TZNAME:BST
DTSTART:20260329T010000
END:DAYLIGHT
BEGIN:STANDARD
TZOFFSETFROM:+0100
TZOFFSETTO:+0000
TZNAME:GMT
DTSTART:20261025T010000
END:STANDARD
BEGIN:DAYLIGHT
TZOFFSETFROM:+0000
TZOFFSETTO:+0100
TZNAME:BST
DTSTART:20270328T010000
END:DAYLIGHT
BEGIN:STANDARD
TZOFFSETFROM:+0100
TZOFFSETTO:+0000
TZNAME:GMT
DTSTART:20271031T010000
END:STANDARD
BEGIN:DAYLIGHT
TZOFFSETFROM:+0000
TZOFFSETTO:+0100
TZNAME:BST
DTSTART:20280326T010000
END:DAYLIGHT
BEGIN:STANDARD
TZOFFSETFROM:+0100
TZOFFSETTO:+0000
TZNAME:GMT
DTSTART:20281029T010000
END:STANDARD
BEGIN:DAYLIGHT
TZOFFSETFROM:+0000
TZOFFSETTO:+0100
TZNAME:BST
DTSTART:20290325T010000
END:DAYLIGHT
BEGIN:STANDARD
TZOFFSETFROM:+0100
TZOFFSETTO:+0000
TZNAME:GMT
DTSTART:20291028T010000
END:STANDARD
END:VTIMEZONE
BEGIN:VEVENT
DTSTART;TZID=Europe/London:20271230T110000
DTEND;TZID=Europe/London:20271230T183000
DTSTAMP:20260422T231048
CREATED:20260414T091538Z
LAST-MODIFIED:20260419T115603Z
UID:10003023-1830164400-1830191400@spithursthub.co.uk
SUMMARY:Wildish Healing
DESCRIPTION:Reiki & Sound \nMore info…
URL:https://spithursthub.co.uk/event/wildish-healing-3/2027-12-30/
ATTACH;FMTTYPE=image/jpeg:https://spithursthub.co.uk/wp-content/uploads/2026/04/Reiki-and-Sound-Healing-Barcombe-Lewes-Brighitta-e1776597794896.jpeg
ORGANIZER;CN="Brighitta Moser-Clark":MAILTO:brighitta@brighitta.com
END:VEVENT
BEGIN:VEVENT
DTSTART;TZID=Europe/London:20271231T110000
DTEND;TZID=Europe/London:20271231T183000
DTSTAMP:20260422T231048
CREATED:20260414T091500Z
LAST-MODIFIED:20260419T112408Z
UID:10003284-1830250800-1830277800@spithursthub.co.uk
SUMMARY:Wildish Healing
DESCRIPTION:Reiki & Sound
URL:https://spithursthub.co.uk/event/wildish-healing/2027-12-31/
ATTACH;FMTTYPE=image/jpeg:https://spithursthub.co.uk/wp-content/uploads/2026/04/Reiki-and-Sound-Healing-Barcombe-Lewes-Brighitta-e1776597794896.jpeg
ORGANIZER;CN="Brighitta Moser-Clark":MAILTO:brighitta@brighitta.com
END:VEVENT
BEGIN:VEVENT
DTSTART;TZID=Europe/London:20280104T110000
DTEND;TZID=Europe/London:20280104T183000
DTSTAMP:20260422T231048
CREATED:20260414T091306Z
LAST-MODIFIED:20260419T112454Z
UID:10001980-1830596400-1830623400@spithursthub.co.uk
SUMMARY:Wildish Healing
DESCRIPTION:Reiki & Sound
URL:https://spithursthub.co.uk/event/wildish-healing-2/2028-01-04/
ATTACH;FMTTYPE=image/jpeg:https://spithursthub.co.uk/wp-content/uploads/2026/04/Reiki-and-Sound-Healing-Barcombe-Lewes-Brighitta-e1776597794896.jpeg
ORGANIZER;CN="Brighitta Moser-Clark":MAILTO:brighitta@brighitta.com
END:VEVENT
BEGIN:VEVENT
DTSTART;TZID=Europe/London:20280106T110000
DTEND;TZID=Europe/London:20280106T183000
DTSTAMP:20260422T231048
CREATED:20260414T091538Z
LAST-MODIFIED:20260419T115603Z
UID:10003024-1830769200-1830796200@spithursthub.co.uk
SUMMARY:Wildish Healing
DESCRIPTION:Reiki & Sound \nMore info…
URL:https://spithursthub.co.uk/event/wildish-healing-3/2028-01-06/
ATTACH;FMTTYPE=image/jpeg:https://spithursthub.co.uk/wp-content/uploads/2026/04/Reiki-and-Sound-Healing-Barcombe-Lewes-Brighitta-e1776597794896.jpeg
ORGANIZER;CN="Brighitta Moser-Clark":MAILTO:brighitta@brighitta.com
END:VEVENT
BEGIN:VEVENT
DTSTART;TZID=Europe/London:20280107T110000
DTEND;TZID=Europe/London:20280107T183000
DTSTAMP:20260422T231048
CREATED:20260414T091500Z
LAST-MODIFIED:20260419T112408Z
UID:10003285-1830855600-1830882600@spithursthub.co.uk
SUMMARY:Wildish Healing
DESCRIPTION:Reiki & Sound
URL:https://spithursthub.co.uk/event/wildish-healing/2028-01-07/
ATTACH;FMTTYPE=image/jpeg:https://spithursthub.co.uk/wp-content/uploads/2026/04/Reiki-and-Sound-Healing-Barcombe-Lewes-Brighitta-e1776597794896.jpeg
ORGANIZER;CN="Brighitta Moser-Clark":MAILTO:brighitta@brighitta.com
END:VEVENT
BEGIN:VEVENT
DTSTART;TZID=Europe/London:20280111T110000
DTEND;TZID=Europe/London:20280111T183000
DTSTAMP:20260422T231048
CREATED:20260414T091306Z
LAST-MODIFIED:20260419T112454Z
UID:10001981-1831201200-1831228200@spithursthub.co.uk
SUMMARY:Wildish Healing
DESCRIPTION:Reiki & Sound
URL:https://spithursthub.co.uk/event/wildish-healing-2/2028-01-11/
ATTACH;FMTTYPE=image/jpeg:https://spithursthub.co.uk/wp-content/uploads/2026/04/Reiki-and-Sound-Healing-Barcombe-Lewes-Brighitta-e1776597794896.jpeg
ORGANIZER;CN="Brighitta Moser-Clark":MAILTO:brighitta@brighitta.com
END:VEVENT
BEGIN:VEVENT
DTSTART;TZID=Europe/London:20280113T110000
DTEND;TZID=Europe/London:20280113T183000
DTSTAMP:20260422T231048
CREATED:20260414T091538Z
LAST-MODIFIED:20260419T115603Z
UID:10003025-1831374000-1831401000@spithursthub.co.uk
SUMMARY:Wildish Healing
DESCRIPTION:Reiki & Sound \nMore info…
URL:https://spithursthub.co.uk/event/wildish-healing-3/2028-01-13/
ATTACH;FMTTYPE=image/jpeg:https://spithursthub.co.uk/wp-content/uploads/2026/04/Reiki-and-Sound-Healing-Barcombe-Lewes-Brighitta-e1776597794896.jpeg
ORGANIZER;CN="Brighitta Moser-Clark":MAILTO:brighitta@brighitta.com
END:VEVENT
BEGIN:VEVENT
DTSTART;TZID=Europe/London:20280114T110000
DTEND;TZID=Europe/London:20280114T183000
DTSTAMP:20260422T231048
CREATED:20260414T091500Z
LAST-MODIFIED:20260419T112408Z
UID:10003286-1831460400-1831487400@spithursthub.co.uk
SUMMARY:Wildish Healing
DESCRIPTION:Reiki & Sound
URL:https://spithursthub.co.uk/event/wildish-healing/2028-01-14/
ATTACH;FMTTYPE=image/jpeg:https://spithursthub.co.uk/wp-content/uploads/2026/04/Reiki-and-Sound-Healing-Barcombe-Lewes-Brighitta-e1776597794896.jpeg
ORGANIZER;CN="Brighitta Moser-Clark":MAILTO:brighitta@brighitta.com
END:VEVENT
BEGIN:VEVENT
DTSTART;TZID=Europe/London:20280118T110000
DTEND;TZID=Europe/London:20280118T183000
DTSTAMP:20260422T231048
CREATED:20260414T091306Z
LAST-MODIFIED:20260419T112454Z
UID:10001982-1831806000-1831833000@spithursthub.co.uk
SUMMARY:Wildish Healing
DESCRIPTION:Reiki & Sound
URL:https://spithursthub.co.uk/event/wildish-healing-2/2028-01-18/
ATTACH;FMTTYPE=image/jpeg:https://spithursthub.co.uk/wp-content/uploads/2026/04/Reiki-and-Sound-Healing-Barcombe-Lewes-Brighitta-e1776597794896.jpeg
ORGANIZER;CN="Brighitta Moser-Clark":MAILTO:brighitta@brighitta.com
END:VEVENT
BEGIN:VEVENT
DTSTART;TZID=Europe/London:20280120T110000
DTEND;TZID=Europe/London:20280120T183000
DTSTAMP:20260422T231048
CREATED:20260414T091538Z
LAST-MODIFIED:20260419T115603Z
UID:10003026-1831978800-1832005800@spithursthub.co.uk
SUMMARY:Wildish Healing
DESCRIPTION:Reiki & Sound \nMore info…
URL:https://spithursthub.co.uk/event/wildish-healing-3/2028-01-20/
ATTACH;FMTTYPE=image/jpeg:https://spithursthub.co.uk/wp-content/uploads/2026/04/Reiki-and-Sound-Healing-Barcombe-Lewes-Brighitta-e1776597794896.jpeg
ORGANIZER;CN="Brighitta Moser-Clark":MAILTO:brighitta@brighitta.com
END:VEVENT
BEGIN:VEVENT
DTSTART;TZID=Europe/London:20280121T110000
DTEND;TZID=Europe/London:20280121T183000
DTSTAMP:20260422T231048
CREATED:20260414T091500Z
LAST-MODIFIED:20260419T112408Z
UID:10003287-1832065200-1832092200@spithursthub.co.uk
SUMMARY:Wildish Healing
DESCRIPTION:Reiki & Sound
URL:https://spithursthub.co.uk/event/wildish-healing/2028-01-21/
ATTACH;FMTTYPE=image/jpeg:https://spithursthub.co.uk/wp-content/uploads/2026/04/Reiki-and-Sound-Healing-Barcombe-Lewes-Brighitta-e1776597794896.jpeg
ORGANIZER;CN="Brighitta Moser-Clark":MAILTO:brighitta@brighitta.com
END:VEVENT
BEGIN:VEVENT
DTSTART;TZID=Europe/London:20280125T110000
DTEND;TZID=Europe/London:20280125T183000
DTSTAMP:20260422T231048
CREATED:20260414T091306Z
LAST-MODIFIED:20260419T112454Z
UID:10001983-1832410800-1832437800@spithursthub.co.uk
SUMMARY:Wildish Healing
DESCRIPTION:Reiki & Sound
URL:https://spithursthub.co.uk/event/wildish-healing-2/2028-01-25/
ATTACH;FMTTYPE=image/jpeg:https://spithursthub.co.uk/wp-content/uploads/2026/04/Reiki-and-Sound-Healing-Barcombe-Lewes-Brighitta-e1776597794896.jpeg
ORGANIZER;CN="Brighitta Moser-Clark":MAILTO:brighitta@brighitta.com
END:VEVENT
BEGIN:VEVENT
DTSTART;TZID=Europe/London:20280127T110000
DTEND;TZID=Europe/London:20280127T183000
DTSTAMP:20260422T231048
CREATED:20260414T091538Z
LAST-MODIFIED:20260419T115603Z
UID:10003027-1832583600-1832610600@spithursthub.co.uk
SUMMARY:Wildish Healing
DESCRIPTION:Reiki & Sound \nMore info…
URL:https://spithursthub.co.uk/event/wildish-healing-3/2028-01-27/
ATTACH;FMTTYPE=image/jpeg:https://spithursthub.co.uk/wp-content/uploads/2026/04/Reiki-and-Sound-Healing-Barcombe-Lewes-Brighitta-e1776597794896.jpeg
ORGANIZER;CN="Brighitta Moser-Clark":MAILTO:brighitta@brighitta.com
END:VEVENT
BEGIN:VEVENT
DTSTART;TZID=Europe/London:20280128T110000
DTEND;TZID=Europe/London:20280128T183000
DTSTAMP:20260422T231048
CREATED:20260414T091500Z
LAST-MODIFIED:20260419T112408Z
UID:10003288-1832670000-1832697000@spithursthub.co.uk
SUMMARY:Wildish Healing
DESCRIPTION:Reiki & Sound
URL:https://spithursthub.co.uk/event/wildish-healing/2028-01-28/
ATTACH;FMTTYPE=image/jpeg:https://spithursthub.co.uk/wp-content/uploads/2026/04/Reiki-and-Sound-Healing-Barcombe-Lewes-Brighitta-e1776597794896.jpeg
ORGANIZER;CN="Brighitta Moser-Clark":MAILTO:brighitta@brighitta.com
END:VEVENT
BEGIN:VEVENT
DTSTART;TZID=Europe/London:20280201T110000
DTEND;TZID=Europe/London:20280201T183000
DTSTAMP:20260422T231048
CREATED:20260414T091306Z
LAST-MODIFIED:20260419T112454Z
UID:10001984-1833015600-1833042600@spithursthub.co.uk
SUMMARY:Wildish Healing
DESCRIPTION:Reiki & Sound
URL:https://spithursthub.co.uk/event/wildish-healing-2/2028-02-01/
ATTACH;FMTTYPE=image/jpeg:https://spithursthub.co.uk/wp-content/uploads/2026/04/Reiki-and-Sound-Healing-Barcombe-Lewes-Brighitta-e1776597794896.jpeg
ORGANIZER;CN="Brighitta Moser-Clark":MAILTO:brighitta@brighitta.com
END:VEVENT
BEGIN:VEVENT
DTSTART;TZID=Europe/London:20280203T110000
DTEND;TZID=Europe/London:20280203T183000
DTSTAMP:20260422T231048
CREATED:20260414T091538Z
LAST-MODIFIED:20260419T115603Z
UID:10003028-1833188400-1833215400@spithursthub.co.uk
SUMMARY:Wildish Healing
DESCRIPTION:Reiki & Sound \nMore info…
URL:https://spithursthub.co.uk/event/wildish-healing-3/2028-02-03/
ATTACH;FMTTYPE=image/jpeg:https://spithursthub.co.uk/wp-content/uploads/2026/04/Reiki-and-Sound-Healing-Barcombe-Lewes-Brighitta-e1776597794896.jpeg
ORGANIZER;CN="Brighitta Moser-Clark":MAILTO:brighitta@brighitta.com
END:VEVENT
BEGIN:VEVENT
DTSTART;TZID=Europe/London:20280204T110000
DTEND;TZID=Europe/London:20280204T183000
DTSTAMP:20260422T231048
CREATED:20260414T091500Z
LAST-MODIFIED:20260419T112408Z
UID:10003289-1833274800-1833301800@spithursthub.co.uk
SUMMARY:Wildish Healing
DESCRIPTION:Reiki & Sound
URL:https://spithursthub.co.uk/event/wildish-healing/2028-02-04/
ATTACH;FMTTYPE=image/jpeg:https://spithursthub.co.uk/wp-content/uploads/2026/04/Reiki-and-Sound-Healing-Barcombe-Lewes-Brighitta-e1776597794896.jpeg
ORGANIZER;CN="Brighitta Moser-Clark":MAILTO:brighitta@brighitta.com
END:VEVENT
BEGIN:VEVENT
DTSTART;TZID=Europe/London:20280208T110000
DTEND;TZID=Europe/London:20280208T183000
DTSTAMP:20260422T231048
CREATED:20260414T091306Z
LAST-MODIFIED:20260419T112454Z
UID:10001985-1833620400-1833647400@spithursthub.co.uk
SUMMARY:Wildish Healing
DESCRIPTION:Reiki & Sound
URL:https://spithursthub.co.uk/event/wildish-healing-2/2028-02-08/
ATTACH;FMTTYPE=image/jpeg:https://spithursthub.co.uk/wp-content/uploads/2026/04/Reiki-and-Sound-Healing-Barcombe-Lewes-Brighitta-e1776597794896.jpeg
ORGANIZER;CN="Brighitta Moser-Clark":MAILTO:brighitta@brighitta.com
END:VEVENT
BEGIN:VEVENT
DTSTART;TZID=Europe/London:20280210T110000
DTEND;TZID=Europe/London:20280210T183000
DTSTAMP:20260422T231048
CREATED:20260414T091538Z
LAST-MODIFIED:20260419T115603Z
UID:10003029-1833793200-1833820200@spithursthub.co.uk
SUMMARY:Wildish Healing
DESCRIPTION:Reiki & Sound \nMore info…
URL:https://spithursthub.co.uk/event/wildish-healing-3/2028-02-10/
ATTACH;FMTTYPE=image/jpeg:https://spithursthub.co.uk/wp-content/uploads/2026/04/Reiki-and-Sound-Healing-Barcombe-Lewes-Brighitta-e1776597794896.jpeg
ORGANIZER;CN="Brighitta Moser-Clark":MAILTO:brighitta@brighitta.com
END:VEVENT
BEGIN:VEVENT
DTSTART;TZID=Europe/London:20280211T110000
DTEND;TZID=Europe/London:20280211T183000
DTSTAMP:20260422T231048
CREATED:20260414T091500Z
LAST-MODIFIED:20260419T112408Z
UID:10003290-1833879600-1833906600@spithursthub.co.uk
SUMMARY:Wildish Healing
DESCRIPTION:Reiki & Sound
URL:https://spithursthub.co.uk/event/wildish-healing/2028-02-11/
ATTACH;FMTTYPE=image/jpeg:https://spithursthub.co.uk/wp-content/uploads/2026/04/Reiki-and-Sound-Healing-Barcombe-Lewes-Brighitta-e1776597794896.jpeg
ORGANIZER;CN="Brighitta Moser-Clark":MAILTO:brighitta@brighitta.com
END:VEVENT
BEGIN:VEVENT
DTSTART;TZID=Europe/London:20280215T110000
DTEND;TZID=Europe/London:20280215T183000
DTSTAMP:20260422T231048
CREATED:20260414T091306Z
LAST-MODIFIED:20260419T112454Z
UID:10001986-1834225200-1834252200@spithursthub.co.uk
SUMMARY:Wildish Healing
DESCRIPTION:Reiki & Sound
URL:https://spithursthub.co.uk/event/wildish-healing-2/2028-02-15/
ATTACH;FMTTYPE=image/jpeg:https://spithursthub.co.uk/wp-content/uploads/2026/04/Reiki-and-Sound-Healing-Barcombe-Lewes-Brighitta-e1776597794896.jpeg
ORGANIZER;CN="Brighitta Moser-Clark":MAILTO:brighitta@brighitta.com
END:VEVENT
BEGIN:VEVENT
DTSTART;TZID=Europe/London:20280217T110000
DTEND;TZID=Europe/London:20280217T183000
DTSTAMP:20260422T231048
CREATED:20260414T091538Z
LAST-MODIFIED:20260419T115603Z
UID:10003030-1834398000-1834425000@spithursthub.co.uk
SUMMARY:Wildish Healing
DESCRIPTION:Reiki & Sound \nMore info…
URL:https://spithursthub.co.uk/event/wildish-healing-3/2028-02-17/
ATTACH;FMTTYPE=image/jpeg:https://spithursthub.co.uk/wp-content/uploads/2026/04/Reiki-and-Sound-Healing-Barcombe-Lewes-Brighitta-e1776597794896.jpeg
ORGANIZER;CN="Brighitta Moser-Clark":MAILTO:brighitta@brighitta.com
END:VEVENT
BEGIN:VEVENT
DTSTART;TZID=Europe/London:20280218T110000
DTEND;TZID=Europe/London:20280218T183000
DTSTAMP:20260422T231048
CREATED:20260414T091500Z
LAST-MODIFIED:20260419T112408Z
UID:10003291-1834484400-1834511400@spithursthub.co.uk
SUMMARY:Wildish Healing
DESCRIPTION:Reiki & Sound
URL:https://spithursthub.co.uk/event/wildish-healing/2028-02-18/
ATTACH;FMTTYPE=image/jpeg:https://spithursthub.co.uk/wp-content/uploads/2026/04/Reiki-and-Sound-Healing-Barcombe-Lewes-Brighitta-e1776597794896.jpeg
ORGANIZER;CN="Brighitta Moser-Clark":MAILTO:brighitta@brighitta.com
END:VEVENT
BEGIN:VEVENT
DTSTART;TZID=Europe/London:20280222T110000
DTEND;TZID=Europe/London:20280222T183000
DTSTAMP:20260422T231048
CREATED:20260414T091306Z
LAST-MODIFIED:20260419T112454Z
UID:10001987-1834830000-1834857000@spithursthub.co.uk
SUMMARY:Wildish Healing
DESCRIPTION:Reiki & Sound
URL:https://spithursthub.co.uk/event/wildish-healing-2/2028-02-22/
ATTACH;FMTTYPE=image/jpeg:https://spithursthub.co.uk/wp-content/uploads/2026/04/Reiki-and-Sound-Healing-Barcombe-Lewes-Brighitta-e1776597794896.jpeg
ORGANIZER;CN="Brighitta Moser-Clark":MAILTO:brighitta@brighitta.com
END:VEVENT
BEGIN:VEVENT
DTSTART;TZID=Europe/London:20280224T110000
DTEND;TZID=Europe/London:20280224T183000
DTSTAMP:20260422T231048
CREATED:20260414T091538Z
LAST-MODIFIED:20260419T115603Z
UID:10003031-1835002800-1835029800@spithursthub.co.uk
SUMMARY:Wildish Healing
DESCRIPTION:Reiki & Sound \nMore info…
URL:https://spithursthub.co.uk/event/wildish-healing-3/2028-02-24/
ATTACH;FMTTYPE=image/jpeg:https://spithursthub.co.uk/wp-content/uploads/2026/04/Reiki-and-Sound-Healing-Barcombe-Lewes-Brighitta-e1776597794896.jpeg
ORGANIZER;CN="Brighitta Moser-Clark":MAILTO:brighitta@brighitta.com
END:VEVENT
BEGIN:VEVENT
DTSTART;TZID=Europe/London:20280225T110000
DTEND;TZID=Europe/London:20280225T183000
DTSTAMP:20260422T231048
CREATED:20260414T091500Z
LAST-MODIFIED:20260419T112408Z
UID:10003292-1835089200-1835116200@spithursthub.co.uk
SUMMARY:Wildish Healing
DESCRIPTION:Reiki & Sound
URL:https://spithursthub.co.uk/event/wildish-healing/2028-02-25/
ATTACH;FMTTYPE=image/jpeg:https://spithursthub.co.uk/wp-content/uploads/2026/04/Reiki-and-Sound-Healing-Barcombe-Lewes-Brighitta-e1776597794896.jpeg
ORGANIZER;CN="Brighitta Moser-Clark":MAILTO:brighitta@brighitta.com
END:VEVENT
BEGIN:VEVENT
DTSTART;TZID=Europe/London:20280229T110000
DTEND;TZID=Europe/London:20280229T183000
DTSTAMP:20260422T231048
CREATED:20260414T091306Z
LAST-MODIFIED:20260419T112454Z
UID:10001988-1835434800-1835461800@spithursthub.co.uk
SUMMARY:Wildish Healing
DESCRIPTION:Reiki & Sound
URL:https://spithursthub.co.uk/event/wildish-healing-2/2028-02-29/
ATTACH;FMTTYPE=image/jpeg:https://spithursthub.co.uk/wp-content/uploads/2026/04/Reiki-and-Sound-Healing-Barcombe-Lewes-Brighitta-e1776597794896.jpeg
ORGANIZER;CN="Brighitta Moser-Clark":MAILTO:brighitta@brighitta.com
END:VEVENT
BEGIN:VEVENT
DTSTART;TZID=Europe/London:20280302T110000
DTEND;TZID=Europe/London:20280302T183000
DTSTAMP:20260422T231048
CREATED:20260414T091538Z
LAST-MODIFIED:20260419T115603Z
UID:10003032-1835607600-1835634600@spithursthub.co.uk
SUMMARY:Wildish Healing
DESCRIPTION:Reiki & Sound \nMore info…
URL:https://spithursthub.co.uk/event/wildish-healing-3/2028-03-02/
ATTACH;FMTTYPE=image/jpeg:https://spithursthub.co.uk/wp-content/uploads/2026/04/Reiki-and-Sound-Healing-Barcombe-Lewes-Brighitta-e1776597794896.jpeg
ORGANIZER;CN="Brighitta Moser-Clark":MAILTO:brighitta@brighitta.com
END:VEVENT
BEGIN:VEVENT
DTSTART;TZID=Europe/London:20280303T110000
DTEND;TZID=Europe/London:20280303T183000
DTSTAMP:20260422T231048
CREATED:20260414T091500Z
LAST-MODIFIED:20260419T112408Z
UID:10003293-1835694000-1835721000@spithursthub.co.uk
SUMMARY:Wildish Healing
DESCRIPTION:Reiki & Sound
URL:https://spithursthub.co.uk/event/wildish-healing/2028-03-03/
ATTACH;FMTTYPE=image/jpeg:https://spithursthub.co.uk/wp-content/uploads/2026/04/Reiki-and-Sound-Healing-Barcombe-Lewes-Brighitta-e1776597794896.jpeg
ORGANIZER;CN="Brighitta Moser-Clark":MAILTO:brighitta@brighitta.com
END:VEVENT
BEGIN:VEVENT
DTSTART;TZID=Europe/London:20280307T110000
DTEND;TZID=Europe/London:20280307T183000
DTSTAMP:20260422T231048
CREATED:20260414T091306Z
LAST-MODIFIED:20260419T112454Z
UID:10001989-1836039600-1836066600@spithursthub.co.uk
SUMMARY:Wildish Healing
DESCRIPTION:Reiki & Sound
URL:https://spithursthub.co.uk/event/wildish-healing-2/2028-03-07/
ATTACH;FMTTYPE=image/jpeg:https://spithursthub.co.uk/wp-content/uploads/2026/04/Reiki-and-Sound-Healing-Barcombe-Lewes-Brighitta-e1776597794896.jpeg
ORGANIZER;CN="Brighitta Moser-Clark":MAILTO:brighitta@brighitta.com
END:VEVENT
END:VCALENDAR