BEGIN:VCALENDAR
VERSION:2.0
PRODID:-//Spithurst HUB - ECPv6.15.20//NONSGML v1.0//EN
CALSCALE:GREGORIAN
METHOD:PUBLISH
X-WR-CALNAME:Spithurst HUB
X-ORIGINAL-URL:https://spithursthub.co.uk
X-WR-CALDESC:Events for Spithurst HUB
REFRESH-INTERVAL;VALUE=DURATION:PT1H
X-Robots-Tag:noindex
X-PUBLISHED-TTL:PT1H
BEGIN:VTIMEZONE
TZID:Europe/London
BEGIN:DAYLIGHT
TZOFFSETFROM:+0000
TZOFFSETTO:+0100
TZNAME:BST
DTSTART:20270328T010000
END:DAYLIGHT
BEGIN:STANDARD
TZOFFSETFROM:+0100
TZOFFSETTO:+0000
TZNAME:GMT
DTSTART:20271031T010000
END:STANDARD
BEGIN:DAYLIGHT
TZOFFSETFROM:+0000
TZOFFSETTO:+0100
TZNAME:BST
DTSTART:20280326T010000
END:DAYLIGHT
BEGIN:STANDARD
TZOFFSETFROM:+0100
TZOFFSETTO:+0000
TZNAME:GMT
DTSTART:20281029T010000
END:STANDARD
BEGIN:DAYLIGHT
TZOFFSETFROM:+0000
TZOFFSETTO:+0100
TZNAME:BST
DTSTART:20290325T010000
END:DAYLIGHT
BEGIN:STANDARD
TZOFFSETFROM:+0100
TZOFFSETTO:+0000
TZNAME:GMT
DTSTART:20291028T010000
END:STANDARD
END:VTIMEZONE
BEGIN:VEVENT
DTSTART;TZID=Europe/London:20280224T110000
DTEND;TZID=Europe/London:20280224T183000
DTSTAMP:20260423T055000
CREATED:20260414T091538Z
LAST-MODIFIED:20260419T115603Z
UID:10003031-1835002800-1835029800@spithursthub.co.uk
SUMMARY:Wildish Healing
DESCRIPTION:Reiki & Sound \nMore info…
URL:https://spithursthub.co.uk/event/wildish-healing-3/2028-02-24/
ATTACH;FMTTYPE=image/jpeg:https://spithursthub.co.uk/wp-content/uploads/2026/04/Reiki-and-Sound-Healing-Barcombe-Lewes-Brighitta-e1776597794896.jpeg
ORGANIZER;CN="Brighitta Moser-Clark":MAILTO:brighitta@brighitta.com
END:VEVENT
BEGIN:VEVENT
DTSTART;TZID=Europe/London:20280225T110000
DTEND;TZID=Europe/London:20280225T183000
DTSTAMP:20260423T055001
CREATED:20260414T091500Z
LAST-MODIFIED:20260419T112408Z
UID:10003292-1835089200-1835116200@spithursthub.co.uk
SUMMARY:Wildish Healing
DESCRIPTION:Reiki & Sound
URL:https://spithursthub.co.uk/event/wildish-healing/2028-02-25/
ATTACH;FMTTYPE=image/jpeg:https://spithursthub.co.uk/wp-content/uploads/2026/04/Reiki-and-Sound-Healing-Barcombe-Lewes-Brighitta-e1776597794896.jpeg
ORGANIZER;CN="Brighitta Moser-Clark":MAILTO:brighitta@brighitta.com
END:VEVENT
BEGIN:VEVENT
DTSTART;TZID=Europe/London:20280229T110000
DTEND;TZID=Europe/London:20280229T183000
DTSTAMP:20260423T055001
CREATED:20260414T091306Z
LAST-MODIFIED:20260419T112454Z
UID:10001988-1835434800-1835461800@spithursthub.co.uk
SUMMARY:Wildish Healing
DESCRIPTION:Reiki & Sound
URL:https://spithursthub.co.uk/event/wildish-healing-2/2028-02-29/
ATTACH;FMTTYPE=image/jpeg:https://spithursthub.co.uk/wp-content/uploads/2026/04/Reiki-and-Sound-Healing-Barcombe-Lewes-Brighitta-e1776597794896.jpeg
ORGANIZER;CN="Brighitta Moser-Clark":MAILTO:brighitta@brighitta.com
END:VEVENT
BEGIN:VEVENT
DTSTART;TZID=Europe/London:20280302T110000
DTEND;TZID=Europe/London:20280302T183000
DTSTAMP:20260423T055001
CREATED:20260414T091538Z
LAST-MODIFIED:20260419T115603Z
UID:10003032-1835607600-1835634600@spithursthub.co.uk
SUMMARY:Wildish Healing
DESCRIPTION:Reiki & Sound \nMore info…
URL:https://spithursthub.co.uk/event/wildish-healing-3/2028-03-02/
ATTACH;FMTTYPE=image/jpeg:https://spithursthub.co.uk/wp-content/uploads/2026/04/Reiki-and-Sound-Healing-Barcombe-Lewes-Brighitta-e1776597794896.jpeg
ORGANIZER;CN="Brighitta Moser-Clark":MAILTO:brighitta@brighitta.com
END:VEVENT
BEGIN:VEVENT
DTSTART;TZID=Europe/London:20280303T110000
DTEND;TZID=Europe/London:20280303T183000
DTSTAMP:20260423T055001
CREATED:20260414T091500Z
LAST-MODIFIED:20260419T112408Z
UID:10003293-1835694000-1835721000@spithursthub.co.uk
SUMMARY:Wildish Healing
DESCRIPTION:Reiki & Sound
URL:https://spithursthub.co.uk/event/wildish-healing/2028-03-03/
ATTACH;FMTTYPE=image/jpeg:https://spithursthub.co.uk/wp-content/uploads/2026/04/Reiki-and-Sound-Healing-Barcombe-Lewes-Brighitta-e1776597794896.jpeg
ORGANIZER;CN="Brighitta Moser-Clark":MAILTO:brighitta@brighitta.com
END:VEVENT
BEGIN:VEVENT
DTSTART;TZID=Europe/London:20280307T110000
DTEND;TZID=Europe/London:20280307T183000
DTSTAMP:20260423T055001
CREATED:20260414T091306Z
LAST-MODIFIED:20260419T112454Z
UID:10001989-1836039600-1836066600@spithursthub.co.uk
SUMMARY:Wildish Healing
DESCRIPTION:Reiki & Sound
URL:https://spithursthub.co.uk/event/wildish-healing-2/2028-03-07/
ATTACH;FMTTYPE=image/jpeg:https://spithursthub.co.uk/wp-content/uploads/2026/04/Reiki-and-Sound-Healing-Barcombe-Lewes-Brighitta-e1776597794896.jpeg
ORGANIZER;CN="Brighitta Moser-Clark":MAILTO:brighitta@brighitta.com
END:VEVENT
BEGIN:VEVENT
DTSTART;TZID=Europe/London:20280309T110000
DTEND;TZID=Europe/London:20280309T183000
DTSTAMP:20260423T055001
CREATED:20260414T091538Z
LAST-MODIFIED:20260419T115603Z
UID:10003033-1836212400-1836239400@spithursthub.co.uk
SUMMARY:Wildish Healing
DESCRIPTION:Reiki & Sound \nMore info…
URL:https://spithursthub.co.uk/event/wildish-healing-3/2028-03-09/
ATTACH;FMTTYPE=image/jpeg:https://spithursthub.co.uk/wp-content/uploads/2026/04/Reiki-and-Sound-Healing-Barcombe-Lewes-Brighitta-e1776597794896.jpeg
ORGANIZER;CN="Brighitta Moser-Clark":MAILTO:brighitta@brighitta.com
END:VEVENT
BEGIN:VEVENT
DTSTART;TZID=Europe/London:20280310T110000
DTEND;TZID=Europe/London:20280310T183000
DTSTAMP:20260423T055001
CREATED:20260414T091500Z
LAST-MODIFIED:20260419T112408Z
UID:10003294-1836298800-1836325800@spithursthub.co.uk
SUMMARY:Wildish Healing
DESCRIPTION:Reiki & Sound
URL:https://spithursthub.co.uk/event/wildish-healing/2028-03-10/
ATTACH;FMTTYPE=image/jpeg:https://spithursthub.co.uk/wp-content/uploads/2026/04/Reiki-and-Sound-Healing-Barcombe-Lewes-Brighitta-e1776597794896.jpeg
ORGANIZER;CN="Brighitta Moser-Clark":MAILTO:brighitta@brighitta.com
END:VEVENT
BEGIN:VEVENT
DTSTART;TZID=Europe/London:20280314T110000
DTEND;TZID=Europe/London:20280314T183000
DTSTAMP:20260423T055001
CREATED:20260414T091306Z
LAST-MODIFIED:20260419T112454Z
UID:10001990-1836644400-1836671400@spithursthub.co.uk
SUMMARY:Wildish Healing
DESCRIPTION:Reiki & Sound
URL:https://spithursthub.co.uk/event/wildish-healing-2/2028-03-14/
ATTACH;FMTTYPE=image/jpeg:https://spithursthub.co.uk/wp-content/uploads/2026/04/Reiki-and-Sound-Healing-Barcombe-Lewes-Brighitta-e1776597794896.jpeg
ORGANIZER;CN="Brighitta Moser-Clark":MAILTO:brighitta@brighitta.com
END:VEVENT
BEGIN:VEVENT
DTSTART;TZID=Europe/London:20280316T110000
DTEND;TZID=Europe/London:20280316T183000
DTSTAMP:20260423T055001
CREATED:20260414T091538Z
LAST-MODIFIED:20260419T115603Z
UID:10003034-1836817200-1836844200@spithursthub.co.uk
SUMMARY:Wildish Healing
DESCRIPTION:Reiki & Sound \nMore info…
URL:https://spithursthub.co.uk/event/wildish-healing-3/2028-03-16/
ATTACH;FMTTYPE=image/jpeg:https://spithursthub.co.uk/wp-content/uploads/2026/04/Reiki-and-Sound-Healing-Barcombe-Lewes-Brighitta-e1776597794896.jpeg
ORGANIZER;CN="Brighitta Moser-Clark":MAILTO:brighitta@brighitta.com
END:VEVENT
BEGIN:VEVENT
DTSTART;TZID=Europe/London:20280317T110000
DTEND;TZID=Europe/London:20280317T183000
DTSTAMP:20260423T055001
CREATED:20260414T091500Z
LAST-MODIFIED:20260419T112408Z
UID:10003295-1836903600-1836930600@spithursthub.co.uk
SUMMARY:Wildish Healing
DESCRIPTION:Reiki & Sound
URL:https://spithursthub.co.uk/event/wildish-healing/2028-03-17/
ATTACH;FMTTYPE=image/jpeg:https://spithursthub.co.uk/wp-content/uploads/2026/04/Reiki-and-Sound-Healing-Barcombe-Lewes-Brighitta-e1776597794896.jpeg
ORGANIZER;CN="Brighitta Moser-Clark":MAILTO:brighitta@brighitta.com
END:VEVENT
BEGIN:VEVENT
DTSTART;TZID=Europe/London:20280321T110000
DTEND;TZID=Europe/London:20280321T183000
DTSTAMP:20260423T055001
CREATED:20260414T091306Z
LAST-MODIFIED:20260419T112454Z
UID:10001991-1837249200-1837276200@spithursthub.co.uk
SUMMARY:Wildish Healing
DESCRIPTION:Reiki & Sound
URL:https://spithursthub.co.uk/event/wildish-healing-2/2028-03-21/
ATTACH;FMTTYPE=image/jpeg:https://spithursthub.co.uk/wp-content/uploads/2026/04/Reiki-and-Sound-Healing-Barcombe-Lewes-Brighitta-e1776597794896.jpeg
ORGANIZER;CN="Brighitta Moser-Clark":MAILTO:brighitta@brighitta.com
END:VEVENT
BEGIN:VEVENT
DTSTART;TZID=Europe/London:20280323T110000
DTEND;TZID=Europe/London:20280323T183000
DTSTAMP:20260423T055001
CREATED:20260414T091538Z
LAST-MODIFIED:20260419T115603Z
UID:10003035-1837422000-1837449000@spithursthub.co.uk
SUMMARY:Wildish Healing
DESCRIPTION:Reiki & Sound \nMore info…
URL:https://spithursthub.co.uk/event/wildish-healing-3/2028-03-23/
ATTACH;FMTTYPE=image/jpeg:https://spithursthub.co.uk/wp-content/uploads/2026/04/Reiki-and-Sound-Healing-Barcombe-Lewes-Brighitta-e1776597794896.jpeg
ORGANIZER;CN="Brighitta Moser-Clark":MAILTO:brighitta@brighitta.com
END:VEVENT
BEGIN:VEVENT
DTSTART;TZID=Europe/London:20280324T110000
DTEND;TZID=Europe/London:20280324T183000
DTSTAMP:20260423T055001
CREATED:20260414T091500Z
LAST-MODIFIED:20260419T112408Z
UID:10003296-1837508400-1837535400@spithursthub.co.uk
SUMMARY:Wildish Healing
DESCRIPTION:Reiki & Sound
URL:https://spithursthub.co.uk/event/wildish-healing/2028-03-24/
ATTACH;FMTTYPE=image/jpeg:https://spithursthub.co.uk/wp-content/uploads/2026/04/Reiki-and-Sound-Healing-Barcombe-Lewes-Brighitta-e1776597794896.jpeg
ORGANIZER;CN="Brighitta Moser-Clark":MAILTO:brighitta@brighitta.com
END:VEVENT
BEGIN:VEVENT
DTSTART;TZID=Europe/London:20280328T110000
DTEND;TZID=Europe/London:20280328T183000
DTSTAMP:20260423T055001
CREATED:20260414T091306Z
LAST-MODIFIED:20260419T112454Z
UID:10001992-1837854000-1837881000@spithursthub.co.uk
SUMMARY:Wildish Healing
DESCRIPTION:Reiki & Sound
URL:https://spithursthub.co.uk/event/wildish-healing-2/2028-03-28/
ATTACH;FMTTYPE=image/jpeg:https://spithursthub.co.uk/wp-content/uploads/2026/04/Reiki-and-Sound-Healing-Barcombe-Lewes-Brighitta-e1776597794896.jpeg
ORGANIZER;CN="Brighitta Moser-Clark":MAILTO:brighitta@brighitta.com
END:VEVENT
BEGIN:VEVENT
DTSTART;TZID=Europe/London:20280330T110000
DTEND;TZID=Europe/London:20280330T183000
DTSTAMP:20260423T055001
CREATED:20260414T091538Z
LAST-MODIFIED:20260419T115603Z
UID:10003036-1838026800-1838053800@spithursthub.co.uk
SUMMARY:Wildish Healing
DESCRIPTION:Reiki & Sound \nMore info…
URL:https://spithursthub.co.uk/event/wildish-healing-3/2028-03-30/
ATTACH;FMTTYPE=image/jpeg:https://spithursthub.co.uk/wp-content/uploads/2026/04/Reiki-and-Sound-Healing-Barcombe-Lewes-Brighitta-e1776597794896.jpeg
ORGANIZER;CN="Brighitta Moser-Clark":MAILTO:brighitta@brighitta.com
END:VEVENT
BEGIN:VEVENT
DTSTART;TZID=Europe/London:20280331T110000
DTEND;TZID=Europe/London:20280331T183000
DTSTAMP:20260423T055001
CREATED:20260414T091500Z
LAST-MODIFIED:20260419T112408Z
UID:10003297-1838113200-1838140200@spithursthub.co.uk
SUMMARY:Wildish Healing
DESCRIPTION:Reiki & Sound
URL:https://spithursthub.co.uk/event/wildish-healing/2028-03-31/
ATTACH;FMTTYPE=image/jpeg:https://spithursthub.co.uk/wp-content/uploads/2026/04/Reiki-and-Sound-Healing-Barcombe-Lewes-Brighitta-e1776597794896.jpeg
ORGANIZER;CN="Brighitta Moser-Clark":MAILTO:brighitta@brighitta.com
END:VEVENT
BEGIN:VEVENT
DTSTART;TZID=Europe/London:20280404T110000
DTEND;TZID=Europe/London:20280404T183000
DTSTAMP:20260423T055001
CREATED:20260414T091306Z
LAST-MODIFIED:20260419T112454Z
UID:10001993-1838458800-1838485800@spithursthub.co.uk
SUMMARY:Wildish Healing
DESCRIPTION:Reiki & Sound
URL:https://spithursthub.co.uk/event/wildish-healing-2/2028-04-04/
ATTACH;FMTTYPE=image/jpeg:https://spithursthub.co.uk/wp-content/uploads/2026/04/Reiki-and-Sound-Healing-Barcombe-Lewes-Brighitta-e1776597794896.jpeg
ORGANIZER;CN="Brighitta Moser-Clark":MAILTO:brighitta@brighitta.com
END:VEVENT
BEGIN:VEVENT
DTSTART;TZID=Europe/London:20280406T110000
DTEND;TZID=Europe/London:20280406T183000
DTSTAMP:20260423T055001
CREATED:20260414T091538Z
LAST-MODIFIED:20260419T115603Z
UID:10003037-1838631600-1838658600@spithursthub.co.uk
SUMMARY:Wildish Healing
DESCRIPTION:Reiki & Sound \nMore info…
URL:https://spithursthub.co.uk/event/wildish-healing-3/2028-04-06/
ATTACH;FMTTYPE=image/jpeg:https://spithursthub.co.uk/wp-content/uploads/2026/04/Reiki-and-Sound-Healing-Barcombe-Lewes-Brighitta-e1776597794896.jpeg
ORGANIZER;CN="Brighitta Moser-Clark":MAILTO:brighitta@brighitta.com
END:VEVENT
BEGIN:VEVENT
DTSTART;TZID=Europe/London:20280407T110000
DTEND;TZID=Europe/London:20280407T183000
DTSTAMP:20260423T055001
CREATED:20260414T091500Z
LAST-MODIFIED:20260419T112408Z
UID:10003298-1838718000-1838745000@spithursthub.co.uk
SUMMARY:Wildish Healing
DESCRIPTION:Reiki & Sound
URL:https://spithursthub.co.uk/event/wildish-healing/2028-04-07/
ATTACH;FMTTYPE=image/jpeg:https://spithursthub.co.uk/wp-content/uploads/2026/04/Reiki-and-Sound-Healing-Barcombe-Lewes-Brighitta-e1776597794896.jpeg
ORGANIZER;CN="Brighitta Moser-Clark":MAILTO:brighitta@brighitta.com
END:VEVENT
BEGIN:VEVENT
DTSTART;TZID=Europe/London:20280411T110000
DTEND;TZID=Europe/London:20280411T183000
DTSTAMP:20260423T055001
CREATED:20260414T091306Z
LAST-MODIFIED:20260419T112454Z
UID:10001994-1839063600-1839090600@spithursthub.co.uk
SUMMARY:Wildish Healing
DESCRIPTION:Reiki & Sound
URL:https://spithursthub.co.uk/event/wildish-healing-2/2028-04-11/
ATTACH;FMTTYPE=image/jpeg:https://spithursthub.co.uk/wp-content/uploads/2026/04/Reiki-and-Sound-Healing-Barcombe-Lewes-Brighitta-e1776597794896.jpeg
ORGANIZER;CN="Brighitta Moser-Clark":MAILTO:brighitta@brighitta.com
END:VEVENT
BEGIN:VEVENT
DTSTART;TZID=Europe/London:20280413T110000
DTEND;TZID=Europe/London:20280413T183000
DTSTAMP:20260423T055001
CREATED:20260414T091538Z
LAST-MODIFIED:20260419T115603Z
UID:10003038-1839236400-1839263400@spithursthub.co.uk
SUMMARY:Wildish Healing
DESCRIPTION:Reiki & Sound \nMore info…
URL:https://spithursthub.co.uk/event/wildish-healing-3/2028-04-13/
ATTACH;FMTTYPE=image/jpeg:https://spithursthub.co.uk/wp-content/uploads/2026/04/Reiki-and-Sound-Healing-Barcombe-Lewes-Brighitta-e1776597794896.jpeg
ORGANIZER;CN="Brighitta Moser-Clark":MAILTO:brighitta@brighitta.com
END:VEVENT
BEGIN:VEVENT
DTSTART;TZID=Europe/London:20280414T110000
DTEND;TZID=Europe/London:20280414T183000
DTSTAMP:20260423T055001
CREATED:20260414T091500Z
LAST-MODIFIED:20260419T112408Z
UID:10003299-1839322800-1839349800@spithursthub.co.uk
SUMMARY:Wildish Healing
DESCRIPTION:Reiki & Sound
URL:https://spithursthub.co.uk/event/wildish-healing/2028-04-14/
ATTACH;FMTTYPE=image/jpeg:https://spithursthub.co.uk/wp-content/uploads/2026/04/Reiki-and-Sound-Healing-Barcombe-Lewes-Brighitta-e1776597794896.jpeg
ORGANIZER;CN="Brighitta Moser-Clark":MAILTO:brighitta@brighitta.com
END:VEVENT
BEGIN:VEVENT
DTSTART;TZID=Europe/London:20280418T110000
DTEND;TZID=Europe/London:20280418T183000
DTSTAMP:20260423T055001
CREATED:20260414T091306Z
LAST-MODIFIED:20260419T112454Z
UID:10001995-1839668400-1839695400@spithursthub.co.uk
SUMMARY:Wildish Healing
DESCRIPTION:Reiki & Sound
URL:https://spithursthub.co.uk/event/wildish-healing-2/2028-04-18/
ATTACH;FMTTYPE=image/jpeg:https://spithursthub.co.uk/wp-content/uploads/2026/04/Reiki-and-Sound-Healing-Barcombe-Lewes-Brighitta-e1776597794896.jpeg
ORGANIZER;CN="Brighitta Moser-Clark":MAILTO:brighitta@brighitta.com
END:VEVENT
BEGIN:VEVENT
DTSTART;TZID=Europe/London:20280420T110000
DTEND;TZID=Europe/London:20280420T183000
DTSTAMP:20260423T055001
CREATED:20260414T091538Z
LAST-MODIFIED:20260419T115603Z
UID:10003039-1839841200-1839868200@spithursthub.co.uk
SUMMARY:Wildish Healing
DESCRIPTION:Reiki & Sound \nMore info…
URL:https://spithursthub.co.uk/event/wildish-healing-3/2028-04-20/
ATTACH;FMTTYPE=image/jpeg:https://spithursthub.co.uk/wp-content/uploads/2026/04/Reiki-and-Sound-Healing-Barcombe-Lewes-Brighitta-e1776597794896.jpeg
ORGANIZER;CN="Brighitta Moser-Clark":MAILTO:brighitta@brighitta.com
END:VEVENT
BEGIN:VEVENT
DTSTART;TZID=Europe/London:20280421T110000
DTEND;TZID=Europe/London:20280421T183000
DTSTAMP:20260423T055001
CREATED:20260414T091500Z
LAST-MODIFIED:20260419T112408Z
UID:10003300-1839927600-1839954600@spithursthub.co.uk
SUMMARY:Wildish Healing
DESCRIPTION:Reiki & Sound
URL:https://spithursthub.co.uk/event/wildish-healing/2028-04-21/
ATTACH;FMTTYPE=image/jpeg:https://spithursthub.co.uk/wp-content/uploads/2026/04/Reiki-and-Sound-Healing-Barcombe-Lewes-Brighitta-e1776597794896.jpeg
ORGANIZER;CN="Brighitta Moser-Clark":MAILTO:brighitta@brighitta.com
END:VEVENT
BEGIN:VEVENT
DTSTART;TZID=Europe/London:20280425T110000
DTEND;TZID=Europe/London:20280425T183000
DTSTAMP:20260423T055001
CREATED:20260414T091306Z
LAST-MODIFIED:20260419T112454Z
UID:10001996-1840273200-1840300200@spithursthub.co.uk
SUMMARY:Wildish Healing
DESCRIPTION:Reiki & Sound
URL:https://spithursthub.co.uk/event/wildish-healing-2/2028-04-25/
ATTACH;FMTTYPE=image/jpeg:https://spithursthub.co.uk/wp-content/uploads/2026/04/Reiki-and-Sound-Healing-Barcombe-Lewes-Brighitta-e1776597794896.jpeg
ORGANIZER;CN="Brighitta Moser-Clark":MAILTO:brighitta@brighitta.com
END:VEVENT
BEGIN:VEVENT
DTSTART;TZID=Europe/London:20280427T110000
DTEND;TZID=Europe/London:20280427T183000
DTSTAMP:20260423T055001
CREATED:20260414T091538Z
LAST-MODIFIED:20260419T115603Z
UID:10003040-1840446000-1840473000@spithursthub.co.uk
SUMMARY:Wildish Healing
DESCRIPTION:Reiki & Sound \nMore info…
URL:https://spithursthub.co.uk/event/wildish-healing-3/2028-04-27/
ATTACH;FMTTYPE=image/jpeg:https://spithursthub.co.uk/wp-content/uploads/2026/04/Reiki-and-Sound-Healing-Barcombe-Lewes-Brighitta-e1776597794896.jpeg
ORGANIZER;CN="Brighitta Moser-Clark":MAILTO:brighitta@brighitta.com
END:VEVENT
BEGIN:VEVENT
DTSTART;TZID=Europe/London:20280428T110000
DTEND;TZID=Europe/London:20280428T183000
DTSTAMP:20260423T055001
CREATED:20260414T091500Z
LAST-MODIFIED:20260419T112408Z
UID:10003301-1840532400-1840559400@spithursthub.co.uk
SUMMARY:Wildish Healing
DESCRIPTION:Reiki & Sound
URL:https://spithursthub.co.uk/event/wildish-healing/2028-04-28/
ATTACH;FMTTYPE=image/jpeg:https://spithursthub.co.uk/wp-content/uploads/2026/04/Reiki-and-Sound-Healing-Barcombe-Lewes-Brighitta-e1776597794896.jpeg
ORGANIZER;CN="Brighitta Moser-Clark":MAILTO:brighitta@brighitta.com
END:VEVENT
BEGIN:VEVENT
DTSTART;TZID=Europe/London:20280502T110000
DTEND;TZID=Europe/London:20280502T183000
DTSTAMP:20260423T055001
CREATED:20260414T091306Z
LAST-MODIFIED:20260419T112454Z
UID:10001997-1840878000-1840905000@spithursthub.co.uk
SUMMARY:Wildish Healing
DESCRIPTION:Reiki & Sound
URL:https://spithursthub.co.uk/event/wildish-healing-2/2028-05-02/
ATTACH;FMTTYPE=image/jpeg:https://spithursthub.co.uk/wp-content/uploads/2026/04/Reiki-and-Sound-Healing-Barcombe-Lewes-Brighitta-e1776597794896.jpeg
ORGANIZER;CN="Brighitta Moser-Clark":MAILTO:brighitta@brighitta.com
END:VEVENT
END:VCALENDAR