BEGIN:VCALENDAR
VERSION:2.0
PRODID:-//Spithurst HUB - ECPv6.15.20//NONSGML v1.0//EN
CALSCALE:GREGORIAN
METHOD:PUBLISH
X-WR-CALNAME:Spithurst HUB
X-ORIGINAL-URL:https://spithursthub.co.uk
X-WR-CALDESC:Events for Spithurst HUB
REFRESH-INTERVAL;VALUE=DURATION:PT1H
X-Robots-Tag:noindex
X-PUBLISHED-TTL:PT1H
BEGIN:VTIMEZONE
TZID:Europe/London
BEGIN:DAYLIGHT
TZOFFSETFROM:+0000
TZOFFSETTO:+0100
TZNAME:BST
DTSTART:20250330T010000
END:DAYLIGHT
BEGIN:STANDARD
TZOFFSETFROM:+0100
TZOFFSETTO:+0000
TZNAME:GMT
DTSTART:20251026T010000
END:STANDARD
BEGIN:DAYLIGHT
TZOFFSETFROM:+0000
TZOFFSETTO:+0100
TZNAME:BST
DTSTART:20260329T010000
END:DAYLIGHT
BEGIN:STANDARD
TZOFFSETFROM:+0100
TZOFFSETTO:+0000
TZNAME:GMT
DTSTART:20261025T010000
END:STANDARD
BEGIN:DAYLIGHT
TZOFFSETFROM:+0000
TZOFFSETTO:+0100
TZNAME:BST
DTSTART:20270328T010000
END:DAYLIGHT
BEGIN:STANDARD
TZOFFSETFROM:+0100
TZOFFSETTO:+0000
TZNAME:GMT
DTSTART:20271031T010000
END:STANDARD
END:VTIMEZONE
BEGIN:VEVENT
DTSTART;TZID=Europe/London:20260616T110000
DTEND;TZID=Europe/London:20260616T183000
DTSTAMP:20260421T125551
CREATED:20260414T091306Z
LAST-MODIFIED:20260419T112454Z
UID:10001899-1781607600-1781634600@spithursthub.co.uk
SUMMARY:Wildish Healing
DESCRIPTION:Reiki & Sound
URL:https://spithursthub.co.uk/event/wildish-healing-2/2026-06-16/
ATTACH;FMTTYPE=image/jpeg:https://spithursthub.co.uk/wp-content/uploads/2026/04/Reiki-and-Sound-Healing-Barcombe-Lewes-Brighitta-e1776597794896.jpeg
ORGANIZER;CN="Brighitta Moser-Clark":MAILTO:brighitta@brighitta.com
END:VEVENT
BEGIN:VEVENT
DTSTART;TZID=Europe/London:20260618T110000
DTEND;TZID=Europe/London:20260618T183000
DTSTAMP:20260421T125551
CREATED:20260414T091538Z
LAST-MODIFIED:20260419T115603Z
UID:10002943-1781780400-1781807400@spithursthub.co.uk
SUMMARY:Wildish Healing
DESCRIPTION:Reiki & Sound \nMore info…
URL:https://spithursthub.co.uk/event/wildish-healing-3/2026-06-18/
ATTACH;FMTTYPE=image/jpeg:https://spithursthub.co.uk/wp-content/uploads/2026/04/Reiki-and-Sound-Healing-Barcombe-Lewes-Brighitta-e1776597794896.jpeg
ORGANIZER;CN="Brighitta Moser-Clark":MAILTO:brighitta@brighitta.com
END:VEVENT
BEGIN:VEVENT
DTSTART;TZID=Europe/London:20260619T110000
DTEND;TZID=Europe/London:20260619T183000
DTSTAMP:20260421T125551
CREATED:20260414T091500Z
LAST-MODIFIED:20260419T112408Z
UID:10003204-1781866800-1781893800@spithursthub.co.uk
SUMMARY:Wildish Healing
DESCRIPTION:Reiki & Sound
URL:https://spithursthub.co.uk/event/wildish-healing/2026-06-19/
ATTACH;FMTTYPE=image/jpeg:https://spithursthub.co.uk/wp-content/uploads/2026/04/Reiki-and-Sound-Healing-Barcombe-Lewes-Brighitta-e1776597794896.jpeg
ORGANIZER;CN="Brighitta Moser-Clark":MAILTO:brighitta@brighitta.com
END:VEVENT
BEGIN:VEVENT
DTSTART;TZID=Europe/London:20260623T110000
DTEND;TZID=Europe/London:20260623T183000
DTSTAMP:20260421T125551
CREATED:20260414T091306Z
LAST-MODIFIED:20260419T112454Z
UID:10001900-1782212400-1782239400@spithursthub.co.uk
SUMMARY:Wildish Healing
DESCRIPTION:Reiki & Sound
URL:https://spithursthub.co.uk/event/wildish-healing-2/2026-06-23/
ATTACH;FMTTYPE=image/jpeg:https://spithursthub.co.uk/wp-content/uploads/2026/04/Reiki-and-Sound-Healing-Barcombe-Lewes-Brighitta-e1776597794896.jpeg
ORGANIZER;CN="Brighitta Moser-Clark":MAILTO:brighitta@brighitta.com
END:VEVENT
BEGIN:VEVENT
DTSTART;TZID=Europe/London:20260625T110000
DTEND;TZID=Europe/London:20260625T183000
DTSTAMP:20260421T125551
CREATED:20260414T091538Z
LAST-MODIFIED:20260419T115603Z
UID:10002944-1782385200-1782412200@spithursthub.co.uk
SUMMARY:Wildish Healing
DESCRIPTION:Reiki & Sound \nMore info…
URL:https://spithursthub.co.uk/event/wildish-healing-3/2026-06-25/
ATTACH;FMTTYPE=image/jpeg:https://spithursthub.co.uk/wp-content/uploads/2026/04/Reiki-and-Sound-Healing-Barcombe-Lewes-Brighitta-e1776597794896.jpeg
ORGANIZER;CN="Brighitta Moser-Clark":MAILTO:brighitta@brighitta.com
END:VEVENT
BEGIN:VEVENT
DTSTART;TZID=Europe/London:20260626T110000
DTEND;TZID=Europe/London:20260626T183000
DTSTAMP:20260421T125551
CREATED:20260414T091500Z
LAST-MODIFIED:20260419T112408Z
UID:10003205-1782471600-1782498600@spithursthub.co.uk
SUMMARY:Wildish Healing
DESCRIPTION:Reiki & Sound
URL:https://spithursthub.co.uk/event/wildish-healing/2026-06-26/
ATTACH;FMTTYPE=image/jpeg:https://spithursthub.co.uk/wp-content/uploads/2026/04/Reiki-and-Sound-Healing-Barcombe-Lewes-Brighitta-e1776597794896.jpeg
ORGANIZER;CN="Brighitta Moser-Clark":MAILTO:brighitta@brighitta.com
END:VEVENT
BEGIN:VEVENT
DTSTART;TZID=Europe/London:20260630T110000
DTEND;TZID=Europe/London:20260630T183000
DTSTAMP:20260421T125551
CREATED:20260414T091306Z
LAST-MODIFIED:20260419T112454Z
UID:10001901-1782817200-1782844200@spithursthub.co.uk
SUMMARY:Wildish Healing
DESCRIPTION:Reiki & Sound
URL:https://spithursthub.co.uk/event/wildish-healing-2/2026-06-30/
ATTACH;FMTTYPE=image/jpeg:https://spithursthub.co.uk/wp-content/uploads/2026/04/Reiki-and-Sound-Healing-Barcombe-Lewes-Brighitta-e1776597794896.jpeg
ORGANIZER;CN="Brighitta Moser-Clark":MAILTO:brighitta@brighitta.com
END:VEVENT
BEGIN:VEVENT
DTSTART;TZID=Europe/London:20260702T110000
DTEND;TZID=Europe/London:20260702T183000
DTSTAMP:20260421T125551
CREATED:20260414T091538Z
LAST-MODIFIED:20260419T115603Z
UID:10002945-1782990000-1783017000@spithursthub.co.uk
SUMMARY:Wildish Healing
DESCRIPTION:Reiki & Sound \nMore info…
URL:https://spithursthub.co.uk/event/wildish-healing-3/2026-07-02/
ATTACH;FMTTYPE=image/jpeg:https://spithursthub.co.uk/wp-content/uploads/2026/04/Reiki-and-Sound-Healing-Barcombe-Lewes-Brighitta-e1776597794896.jpeg
ORGANIZER;CN="Brighitta Moser-Clark":MAILTO:brighitta@brighitta.com
END:VEVENT
BEGIN:VEVENT
DTSTART;TZID=Europe/London:20260703T110000
DTEND;TZID=Europe/London:20260703T183000
DTSTAMP:20260421T125551
CREATED:20260414T091500Z
LAST-MODIFIED:20260419T112408Z
UID:10003206-1783076400-1783103400@spithursthub.co.uk
SUMMARY:Wildish Healing
DESCRIPTION:Reiki & Sound
URL:https://spithursthub.co.uk/event/wildish-healing/2026-07-03/
ATTACH;FMTTYPE=image/jpeg:https://spithursthub.co.uk/wp-content/uploads/2026/04/Reiki-and-Sound-Healing-Barcombe-Lewes-Brighitta-e1776597794896.jpeg
ORGANIZER;CN="Brighitta Moser-Clark":MAILTO:brighitta@brighitta.com
END:VEVENT
BEGIN:VEVENT
DTSTART;TZID=Europe/London:20260707T110000
DTEND;TZID=Europe/London:20260707T183000
DTSTAMP:20260421T125551
CREATED:20260414T091306Z
LAST-MODIFIED:20260419T112454Z
UID:10001902-1783422000-1783449000@spithursthub.co.uk
SUMMARY:Wildish Healing
DESCRIPTION:Reiki & Sound
URL:https://spithursthub.co.uk/event/wildish-healing-2/2026-07-07/
ATTACH;FMTTYPE=image/jpeg:https://spithursthub.co.uk/wp-content/uploads/2026/04/Reiki-and-Sound-Healing-Barcombe-Lewes-Brighitta-e1776597794896.jpeg
ORGANIZER;CN="Brighitta Moser-Clark":MAILTO:brighitta@brighitta.com
END:VEVENT
BEGIN:VEVENT
DTSTART;TZID=Europe/London:20260709T110000
DTEND;TZID=Europe/London:20260709T183000
DTSTAMP:20260421T125551
CREATED:20260414T091538Z
LAST-MODIFIED:20260419T115603Z
UID:10002946-1783594800-1783621800@spithursthub.co.uk
SUMMARY:Wildish Healing
DESCRIPTION:Reiki & Sound \nMore info…
URL:https://spithursthub.co.uk/event/wildish-healing-3/2026-07-09/
ATTACH;FMTTYPE=image/jpeg:https://spithursthub.co.uk/wp-content/uploads/2026/04/Reiki-and-Sound-Healing-Barcombe-Lewes-Brighitta-e1776597794896.jpeg
ORGANIZER;CN="Brighitta Moser-Clark":MAILTO:brighitta@brighitta.com
END:VEVENT
BEGIN:VEVENT
DTSTART;TZID=Europe/London:20260710T110000
DTEND;TZID=Europe/London:20260710T183000
DTSTAMP:20260421T125551
CREATED:20260414T091500Z
LAST-MODIFIED:20260419T112408Z
UID:10003207-1783681200-1783708200@spithursthub.co.uk
SUMMARY:Wildish Healing
DESCRIPTION:Reiki & Sound
URL:https://spithursthub.co.uk/event/wildish-healing/2026-07-10/
ATTACH;FMTTYPE=image/jpeg:https://spithursthub.co.uk/wp-content/uploads/2026/04/Reiki-and-Sound-Healing-Barcombe-Lewes-Brighitta-e1776597794896.jpeg
ORGANIZER;CN="Brighitta Moser-Clark":MAILTO:brighitta@brighitta.com
END:VEVENT
BEGIN:VEVENT
DTSTART;TZID=Europe/London:20260714T110000
DTEND;TZID=Europe/London:20260714T183000
DTSTAMP:20260421T125551
CREATED:20260414T091306Z
LAST-MODIFIED:20260419T112454Z
UID:10001903-1784026800-1784053800@spithursthub.co.uk
SUMMARY:Wildish Healing
DESCRIPTION:Reiki & Sound
URL:https://spithursthub.co.uk/event/wildish-healing-2/2026-07-14/
ATTACH;FMTTYPE=image/jpeg:https://spithursthub.co.uk/wp-content/uploads/2026/04/Reiki-and-Sound-Healing-Barcombe-Lewes-Brighitta-e1776597794896.jpeg
ORGANIZER;CN="Brighitta Moser-Clark":MAILTO:brighitta@brighitta.com
END:VEVENT
BEGIN:VEVENT
DTSTART;TZID=Europe/London:20260716T110000
DTEND;TZID=Europe/London:20260716T183000
DTSTAMP:20260421T125551
CREATED:20260414T091538Z
LAST-MODIFIED:20260419T115603Z
UID:10002947-1784199600-1784226600@spithursthub.co.uk
SUMMARY:Wildish Healing
DESCRIPTION:Reiki & Sound \nMore info…
URL:https://spithursthub.co.uk/event/wildish-healing-3/2026-07-16/
ATTACH;FMTTYPE=image/jpeg:https://spithursthub.co.uk/wp-content/uploads/2026/04/Reiki-and-Sound-Healing-Barcombe-Lewes-Brighitta-e1776597794896.jpeg
ORGANIZER;CN="Brighitta Moser-Clark":MAILTO:brighitta@brighitta.com
END:VEVENT
BEGIN:VEVENT
DTSTART;TZID=Europe/London:20260717T110000
DTEND;TZID=Europe/London:20260717T183000
DTSTAMP:20260421T125551
CREATED:20260414T091500Z
LAST-MODIFIED:20260419T112408Z
UID:10003208-1784286000-1784313000@spithursthub.co.uk
SUMMARY:Wildish Healing
DESCRIPTION:Reiki & Sound
URL:https://spithursthub.co.uk/event/wildish-healing/2026-07-17/
ATTACH;FMTTYPE=image/jpeg:https://spithursthub.co.uk/wp-content/uploads/2026/04/Reiki-and-Sound-Healing-Barcombe-Lewes-Brighitta-e1776597794896.jpeg
ORGANIZER;CN="Brighitta Moser-Clark":MAILTO:brighitta@brighitta.com
END:VEVENT
BEGIN:VEVENT
DTSTART;TZID=Europe/London:20260721T110000
DTEND;TZID=Europe/London:20260721T183000
DTSTAMP:20260421T125551
CREATED:20260414T091306Z
LAST-MODIFIED:20260419T112454Z
UID:10001904-1784631600-1784658600@spithursthub.co.uk
SUMMARY:Wildish Healing
DESCRIPTION:Reiki & Sound
URL:https://spithursthub.co.uk/event/wildish-healing-2/2026-07-21/
ATTACH;FMTTYPE=image/jpeg:https://spithursthub.co.uk/wp-content/uploads/2026/04/Reiki-and-Sound-Healing-Barcombe-Lewes-Brighitta-e1776597794896.jpeg
ORGANIZER;CN="Brighitta Moser-Clark":MAILTO:brighitta@brighitta.com
END:VEVENT
BEGIN:VEVENT
DTSTART;TZID=Europe/London:20260723T110000
DTEND;TZID=Europe/London:20260723T183000
DTSTAMP:20260421T125551
CREATED:20260414T091538Z
LAST-MODIFIED:20260419T115603Z
UID:10002948-1784804400-1784831400@spithursthub.co.uk
SUMMARY:Wildish Healing
DESCRIPTION:Reiki & Sound \nMore info…
URL:https://spithursthub.co.uk/event/wildish-healing-3/2026-07-23/
ATTACH;FMTTYPE=image/jpeg:https://spithursthub.co.uk/wp-content/uploads/2026/04/Reiki-and-Sound-Healing-Barcombe-Lewes-Brighitta-e1776597794896.jpeg
ORGANIZER;CN="Brighitta Moser-Clark":MAILTO:brighitta@brighitta.com
END:VEVENT
BEGIN:VEVENT
DTSTART;TZID=Europe/London:20260724T110000
DTEND;TZID=Europe/London:20260724T183000
DTSTAMP:20260421T125551
CREATED:20260414T091500Z
LAST-MODIFIED:20260419T112408Z
UID:10003209-1784890800-1784917800@spithursthub.co.uk
SUMMARY:Wildish Healing
DESCRIPTION:Reiki & Sound
URL:https://spithursthub.co.uk/event/wildish-healing/2026-07-24/
ATTACH;FMTTYPE=image/jpeg:https://spithursthub.co.uk/wp-content/uploads/2026/04/Reiki-and-Sound-Healing-Barcombe-Lewes-Brighitta-e1776597794896.jpeg
ORGANIZER;CN="Brighitta Moser-Clark":MAILTO:brighitta@brighitta.com
END:VEVENT
BEGIN:VEVENT
DTSTART;TZID=Europe/London:20260728T110000
DTEND;TZID=Europe/London:20260728T183000
DTSTAMP:20260421T125551
CREATED:20260414T091306Z
LAST-MODIFIED:20260419T112454Z
UID:10001905-1785236400-1785263400@spithursthub.co.uk
SUMMARY:Wildish Healing
DESCRIPTION:Reiki & Sound
URL:https://spithursthub.co.uk/event/wildish-healing-2/2026-07-28/
ATTACH;FMTTYPE=image/jpeg:https://spithursthub.co.uk/wp-content/uploads/2026/04/Reiki-and-Sound-Healing-Barcombe-Lewes-Brighitta-e1776597794896.jpeg
ORGANIZER;CN="Brighitta Moser-Clark":MAILTO:brighitta@brighitta.com
END:VEVENT
BEGIN:VEVENT
DTSTART;TZID=Europe/London:20260730T110000
DTEND;TZID=Europe/London:20260730T183000
DTSTAMP:20260421T125551
CREATED:20260414T091538Z
LAST-MODIFIED:20260419T115603Z
UID:10002949-1785409200-1785436200@spithursthub.co.uk
SUMMARY:Wildish Healing
DESCRIPTION:Reiki & Sound \nMore info…
URL:https://spithursthub.co.uk/event/wildish-healing-3/2026-07-30/
ATTACH;FMTTYPE=image/jpeg:https://spithursthub.co.uk/wp-content/uploads/2026/04/Reiki-and-Sound-Healing-Barcombe-Lewes-Brighitta-e1776597794896.jpeg
ORGANIZER;CN="Brighitta Moser-Clark":MAILTO:brighitta@brighitta.com
END:VEVENT
BEGIN:VEVENT
DTSTART;TZID=Europe/London:20260731T110000
DTEND;TZID=Europe/London:20260731T183000
DTSTAMP:20260421T125551
CREATED:20260414T091500Z
LAST-MODIFIED:20260419T112408Z
UID:10003210-1785495600-1785522600@spithursthub.co.uk
SUMMARY:Wildish Healing
DESCRIPTION:Reiki & Sound
URL:https://spithursthub.co.uk/event/wildish-healing/2026-07-31/
ATTACH;FMTTYPE=image/jpeg:https://spithursthub.co.uk/wp-content/uploads/2026/04/Reiki-and-Sound-Healing-Barcombe-Lewes-Brighitta-e1776597794896.jpeg
ORGANIZER;CN="Brighitta Moser-Clark":MAILTO:brighitta@brighitta.com
END:VEVENT
BEGIN:VEVENT
DTSTART;TZID=Europe/London:20260804T110000
DTEND;TZID=Europe/London:20260804T183000
DTSTAMP:20260421T125551
CREATED:20260414T091306Z
LAST-MODIFIED:20260419T112454Z
UID:10001906-1785841200-1785868200@spithursthub.co.uk
SUMMARY:Wildish Healing
DESCRIPTION:Reiki & Sound
URL:https://spithursthub.co.uk/event/wildish-healing-2/2026-08-04/
ATTACH;FMTTYPE=image/jpeg:https://spithursthub.co.uk/wp-content/uploads/2026/04/Reiki-and-Sound-Healing-Barcombe-Lewes-Brighitta-e1776597794896.jpeg
ORGANIZER;CN="Brighitta Moser-Clark":MAILTO:brighitta@brighitta.com
END:VEVENT
BEGIN:VEVENT
DTSTART;TZID=Europe/London:20260806T110000
DTEND;TZID=Europe/London:20260806T183000
DTSTAMP:20260421T125551
CREATED:20260414T091538Z
LAST-MODIFIED:20260419T115603Z
UID:10002950-1786014000-1786041000@spithursthub.co.uk
SUMMARY:Wildish Healing
DESCRIPTION:Reiki & Sound \nMore info…
URL:https://spithursthub.co.uk/event/wildish-healing-3/2026-08-06/
ATTACH;FMTTYPE=image/jpeg:https://spithursthub.co.uk/wp-content/uploads/2026/04/Reiki-and-Sound-Healing-Barcombe-Lewes-Brighitta-e1776597794896.jpeg
ORGANIZER;CN="Brighitta Moser-Clark":MAILTO:brighitta@brighitta.com
END:VEVENT
BEGIN:VEVENT
DTSTART;TZID=Europe/London:20260807T110000
DTEND;TZID=Europe/London:20260807T183000
DTSTAMP:20260421T125551
CREATED:20260414T091500Z
LAST-MODIFIED:20260419T112408Z
UID:10003211-1786100400-1786127400@spithursthub.co.uk
SUMMARY:Wildish Healing
DESCRIPTION:Reiki & Sound
URL:https://spithursthub.co.uk/event/wildish-healing/2026-08-07/
ATTACH;FMTTYPE=image/jpeg:https://spithursthub.co.uk/wp-content/uploads/2026/04/Reiki-and-Sound-Healing-Barcombe-Lewes-Brighitta-e1776597794896.jpeg
ORGANIZER;CN="Brighitta Moser-Clark":MAILTO:brighitta@brighitta.com
END:VEVENT
BEGIN:VEVENT
DTSTART;TZID=Europe/London:20260811T110000
DTEND;TZID=Europe/London:20260811T183000
DTSTAMP:20260421T125551
CREATED:20260414T091306Z
LAST-MODIFIED:20260419T112454Z
UID:10001907-1786446000-1786473000@spithursthub.co.uk
SUMMARY:Wildish Healing
DESCRIPTION:Reiki & Sound
URL:https://spithursthub.co.uk/event/wildish-healing-2/2026-08-11/
ATTACH;FMTTYPE=image/jpeg:https://spithursthub.co.uk/wp-content/uploads/2026/04/Reiki-and-Sound-Healing-Barcombe-Lewes-Brighitta-e1776597794896.jpeg
ORGANIZER;CN="Brighitta Moser-Clark":MAILTO:brighitta@brighitta.com
END:VEVENT
BEGIN:VEVENT
DTSTART;TZID=Europe/London:20260813T110000
DTEND;TZID=Europe/London:20260813T183000
DTSTAMP:20260421T125551
CREATED:20260414T091538Z
LAST-MODIFIED:20260419T115603Z
UID:10002951-1786618800-1786645800@spithursthub.co.uk
SUMMARY:Wildish Healing
DESCRIPTION:Reiki & Sound \nMore info…
URL:https://spithursthub.co.uk/event/wildish-healing-3/2026-08-13/
ATTACH;FMTTYPE=image/jpeg:https://spithursthub.co.uk/wp-content/uploads/2026/04/Reiki-and-Sound-Healing-Barcombe-Lewes-Brighitta-e1776597794896.jpeg
ORGANIZER;CN="Brighitta Moser-Clark":MAILTO:brighitta@brighitta.com
END:VEVENT
BEGIN:VEVENT
DTSTART;TZID=Europe/London:20260814T110000
DTEND;TZID=Europe/London:20260814T183000
DTSTAMP:20260421T125551
CREATED:20260414T091500Z
LAST-MODIFIED:20260419T112408Z
UID:10003212-1786705200-1786732200@spithursthub.co.uk
SUMMARY:Wildish Healing
DESCRIPTION:Reiki & Sound
URL:https://spithursthub.co.uk/event/wildish-healing/2026-08-14/
ATTACH;FMTTYPE=image/jpeg:https://spithursthub.co.uk/wp-content/uploads/2026/04/Reiki-and-Sound-Healing-Barcombe-Lewes-Brighitta-e1776597794896.jpeg
ORGANIZER;CN="Brighitta Moser-Clark":MAILTO:brighitta@brighitta.com
END:VEVENT
BEGIN:VEVENT
DTSTART;TZID=Europe/London:20260818T110000
DTEND;TZID=Europe/London:20260818T183000
DTSTAMP:20260421T125551
CREATED:20260414T091306Z
LAST-MODIFIED:20260419T112454Z
UID:10001908-1787050800-1787077800@spithursthub.co.uk
SUMMARY:Wildish Healing
DESCRIPTION:Reiki & Sound
URL:https://spithursthub.co.uk/event/wildish-healing-2/2026-08-18/
ATTACH;FMTTYPE=image/jpeg:https://spithursthub.co.uk/wp-content/uploads/2026/04/Reiki-and-Sound-Healing-Barcombe-Lewes-Brighitta-e1776597794896.jpeg
ORGANIZER;CN="Brighitta Moser-Clark":MAILTO:brighitta@brighitta.com
END:VEVENT
BEGIN:VEVENT
DTSTART;TZID=Europe/London:20260820T110000
DTEND;TZID=Europe/London:20260820T183000
DTSTAMP:20260421T125551
CREATED:20260414T091538Z
LAST-MODIFIED:20260419T115603Z
UID:10002952-1787223600-1787250600@spithursthub.co.uk
SUMMARY:Wildish Healing
DESCRIPTION:Reiki & Sound \nMore info…
URL:https://spithursthub.co.uk/event/wildish-healing-3/2026-08-20/
ATTACH;FMTTYPE=image/jpeg:https://spithursthub.co.uk/wp-content/uploads/2026/04/Reiki-and-Sound-Healing-Barcombe-Lewes-Brighitta-e1776597794896.jpeg
ORGANIZER;CN="Brighitta Moser-Clark":MAILTO:brighitta@brighitta.com
END:VEVENT
BEGIN:VEVENT
DTSTART;TZID=Europe/London:20260821T110000
DTEND;TZID=Europe/London:20260821T183000
DTSTAMP:20260421T125551
CREATED:20260414T091500Z
LAST-MODIFIED:20260419T112408Z
UID:10003213-1787310000-1787337000@spithursthub.co.uk
SUMMARY:Wildish Healing
DESCRIPTION:Reiki & Sound
URL:https://spithursthub.co.uk/event/wildish-healing/2026-08-21/
ATTACH;FMTTYPE=image/jpeg:https://spithursthub.co.uk/wp-content/uploads/2026/04/Reiki-and-Sound-Healing-Barcombe-Lewes-Brighitta-e1776597794896.jpeg
ORGANIZER;CN="Brighitta Moser-Clark":MAILTO:brighitta@brighitta.com
END:VEVENT
END:VCALENDAR