BEGIN:VCALENDAR
VERSION:2.0
PRODID:-//Spithurst HUB - ECPv6.15.20//NONSGML v1.0//EN
CALSCALE:GREGORIAN
METHOD:PUBLISH
X-ORIGINAL-URL:https://spithursthub.co.uk
X-WR-CALDESC:Events for Spithurst HUB
REFRESH-INTERVAL;VALUE=DURATION:PT1H
X-Robots-Tag:noindex
X-PUBLISHED-TTL:PT1H
BEGIN:VTIMEZONE
TZID:Europe/London
BEGIN:DAYLIGHT
TZOFFSETFROM:+0000
TZOFFSETTO:+0100
TZNAME:BST
DTSTART:20270328T010000
END:DAYLIGHT
BEGIN:STANDARD
TZOFFSETFROM:+0100
TZOFFSETTO:+0000
TZNAME:GMT
DTSTART:20271031T010000
END:STANDARD
BEGIN:DAYLIGHT
TZOFFSETFROM:+0000
TZOFFSETTO:+0100
TZNAME:BST
DTSTART:20280326T010000
END:DAYLIGHT
BEGIN:STANDARD
TZOFFSETFROM:+0100
TZOFFSETTO:+0000
TZNAME:GMT
DTSTART:20281029T010000
END:STANDARD
BEGIN:DAYLIGHT
TZOFFSETFROM:+0000
TZOFFSETTO:+0100
TZNAME:BST
DTSTART:20290325T010000
END:DAYLIGHT
BEGIN:STANDARD
TZOFFSETFROM:+0100
TZOFFSETTO:+0000
TZNAME:GMT
DTSTART:20291028T010000
END:STANDARD
END:VTIMEZONE
BEGIN:VEVENT
DTSTART;TZID=Europe/London:20280811T110000
DTEND;TZID=Europe/London:20280811T183000
DTSTAMP:20260424T084428
CREATED:20260414T091500Z
LAST-MODIFIED:20260419T112408Z
UID:10003316-1849604400-1849631400@spithursthub.co.uk
SUMMARY:Wildish Healing
DESCRIPTION:Reiki & Sound
URL:https://spithursthub.co.uk/event/wildish-healing/2028-08-11/
ATTACH;FMTTYPE=image/jpeg:https://spithursthub.co.uk/wp-content/uploads/2026/04/Reiki-and-Sound-Healing-Barcombe-Lewes-Brighitta-e1776597794896.jpeg
ORGANIZER;CN="Brighitta Moser-Clark":MAILTO:brighitta@brighitta.com
END:VEVENT
BEGIN:VEVENT
DTSTART;TZID=Europe/London:20280815T110000
DTEND;TZID=Europe/London:20280815T183000
DTSTAMP:20260424T084428
CREATED:20260414T091306Z
LAST-MODIFIED:20260419T112454Z
UID:10002012-1849950000-1849977000@spithursthub.co.uk
SUMMARY:Wildish Healing
DESCRIPTION:Reiki & Sound
URL:https://spithursthub.co.uk/event/wildish-healing-2/2028-08-15/
ATTACH;FMTTYPE=image/jpeg:https://spithursthub.co.uk/wp-content/uploads/2026/04/Reiki-and-Sound-Healing-Barcombe-Lewes-Brighitta-e1776597794896.jpeg
ORGANIZER;CN="Brighitta Moser-Clark":MAILTO:brighitta@brighitta.com
END:VEVENT
BEGIN:VEVENT
DTSTART;TZID=Europe/London:20280817T110000
DTEND;TZID=Europe/London:20280817T183000
DTSTAMP:20260424T084428
CREATED:20260414T091538Z
LAST-MODIFIED:20260419T115603Z
UID:10003056-1850122800-1850149800@spithursthub.co.uk
SUMMARY:Wildish Healing
DESCRIPTION:Reiki & Sound \nMore info…
URL:https://spithursthub.co.uk/event/wildish-healing-3/2028-08-17/
ATTACH;FMTTYPE=image/jpeg:https://spithursthub.co.uk/wp-content/uploads/2026/04/Reiki-and-Sound-Healing-Barcombe-Lewes-Brighitta-e1776597794896.jpeg
ORGANIZER;CN="Brighitta Moser-Clark":MAILTO:brighitta@brighitta.com
END:VEVENT
BEGIN:VEVENT
DTSTART;TZID=Europe/London:20280818T110000
DTEND;TZID=Europe/London:20280818T183000
DTSTAMP:20260424T084428
CREATED:20260414T091500Z
LAST-MODIFIED:20260419T112408Z
UID:10003317-1850209200-1850236200@spithursthub.co.uk
SUMMARY:Wildish Healing
DESCRIPTION:Reiki & Sound
URL:https://spithursthub.co.uk/event/wildish-healing/2028-08-18/
ATTACH;FMTTYPE=image/jpeg:https://spithursthub.co.uk/wp-content/uploads/2026/04/Reiki-and-Sound-Healing-Barcombe-Lewes-Brighitta-e1776597794896.jpeg
ORGANIZER;CN="Brighitta Moser-Clark":MAILTO:brighitta@brighitta.com
END:VEVENT
BEGIN:VEVENT
DTSTART;TZID=Europe/London:20280822T110000
DTEND;TZID=Europe/London:20280822T183000
DTSTAMP:20260424T084428
CREATED:20260414T091306Z
LAST-MODIFIED:20260419T112454Z
UID:10002013-1850554800-1850581800@spithursthub.co.uk
SUMMARY:Wildish Healing
DESCRIPTION:Reiki & Sound
URL:https://spithursthub.co.uk/event/wildish-healing-2/2028-08-22/
ATTACH;FMTTYPE=image/jpeg:https://spithursthub.co.uk/wp-content/uploads/2026/04/Reiki-and-Sound-Healing-Barcombe-Lewes-Brighitta-e1776597794896.jpeg
ORGANIZER;CN="Brighitta Moser-Clark":MAILTO:brighitta@brighitta.com
END:VEVENT
BEGIN:VEVENT
DTSTART;TZID=Europe/London:20280824T110000
DTEND;TZID=Europe/London:20280824T183000
DTSTAMP:20260424T084428
CREATED:20260414T091538Z
LAST-MODIFIED:20260419T115603Z
UID:10003057-1850727600-1850754600@spithursthub.co.uk
SUMMARY:Wildish Healing
DESCRIPTION:Reiki & Sound \nMore info…
URL:https://spithursthub.co.uk/event/wildish-healing-3/2028-08-24/
ATTACH;FMTTYPE=image/jpeg:https://spithursthub.co.uk/wp-content/uploads/2026/04/Reiki-and-Sound-Healing-Barcombe-Lewes-Brighitta-e1776597794896.jpeg
ORGANIZER;CN="Brighitta Moser-Clark":MAILTO:brighitta@brighitta.com
END:VEVENT
BEGIN:VEVENT
DTSTART;TZID=Europe/London:20280825T110000
DTEND;TZID=Europe/London:20280825T183000
DTSTAMP:20260424T084428
CREATED:20260414T091500Z
LAST-MODIFIED:20260419T112408Z
UID:10003318-1850814000-1850841000@spithursthub.co.uk
SUMMARY:Wildish Healing
DESCRIPTION:Reiki & Sound
URL:https://spithursthub.co.uk/event/wildish-healing/2028-08-25/
ATTACH;FMTTYPE=image/jpeg:https://spithursthub.co.uk/wp-content/uploads/2026/04/Reiki-and-Sound-Healing-Barcombe-Lewes-Brighitta-e1776597794896.jpeg
ORGANIZER;CN="Brighitta Moser-Clark":MAILTO:brighitta@brighitta.com
END:VEVENT
BEGIN:VEVENT
DTSTART;TZID=Europe/London:20280829T110000
DTEND;TZID=Europe/London:20280829T183000
DTSTAMP:20260424T084428
CREATED:20260414T091306Z
LAST-MODIFIED:20260419T112454Z
UID:10002014-1851159600-1851186600@spithursthub.co.uk
SUMMARY:Wildish Healing
DESCRIPTION:Reiki & Sound
URL:https://spithursthub.co.uk/event/wildish-healing-2/2028-08-29/
ATTACH;FMTTYPE=image/jpeg:https://spithursthub.co.uk/wp-content/uploads/2026/04/Reiki-and-Sound-Healing-Barcombe-Lewes-Brighitta-e1776597794896.jpeg
ORGANIZER;CN="Brighitta Moser-Clark":MAILTO:brighitta@brighitta.com
END:VEVENT
BEGIN:VEVENT
DTSTART;TZID=Europe/London:20280831T110000
DTEND;TZID=Europe/London:20280831T183000
DTSTAMP:20260424T084428
CREATED:20260414T091538Z
LAST-MODIFIED:20260419T115603Z
UID:10003058-1851332400-1851359400@spithursthub.co.uk
SUMMARY:Wildish Healing
DESCRIPTION:Reiki & Sound \nMore info…
URL:https://spithursthub.co.uk/event/wildish-healing-3/2028-08-31/
ATTACH;FMTTYPE=image/jpeg:https://spithursthub.co.uk/wp-content/uploads/2026/04/Reiki-and-Sound-Healing-Barcombe-Lewes-Brighitta-e1776597794896.jpeg
ORGANIZER;CN="Brighitta Moser-Clark":MAILTO:brighitta@brighitta.com
END:VEVENT
BEGIN:VEVENT
DTSTART;TZID=Europe/London:20280901T110000
DTEND;TZID=Europe/London:20280901T183000
DTSTAMP:20260424T084428
CREATED:20260414T091500Z
LAST-MODIFIED:20260419T112408Z
UID:10003319-1851418800-1851445800@spithursthub.co.uk
SUMMARY:Wildish Healing
DESCRIPTION:Reiki & Sound
URL:https://spithursthub.co.uk/event/wildish-healing/2028-09-01/
ATTACH;FMTTYPE=image/jpeg:https://spithursthub.co.uk/wp-content/uploads/2026/04/Reiki-and-Sound-Healing-Barcombe-Lewes-Brighitta-e1776597794896.jpeg
ORGANIZER;CN="Brighitta Moser-Clark":MAILTO:brighitta@brighitta.com
END:VEVENT
BEGIN:VEVENT
DTSTART;TZID=Europe/London:20280905T110000
DTEND;TZID=Europe/London:20280905T183000
DTSTAMP:20260424T084428
CREATED:20260414T091306Z
LAST-MODIFIED:20260419T112454Z
UID:10002015-1851764400-1851791400@spithursthub.co.uk
SUMMARY:Wildish Healing
DESCRIPTION:Reiki & Sound
URL:https://spithursthub.co.uk/event/wildish-healing-2/2028-09-05/
ATTACH;FMTTYPE=image/jpeg:https://spithursthub.co.uk/wp-content/uploads/2026/04/Reiki-and-Sound-Healing-Barcombe-Lewes-Brighitta-e1776597794896.jpeg
ORGANIZER;CN="Brighitta Moser-Clark":MAILTO:brighitta@brighitta.com
END:VEVENT
BEGIN:VEVENT
DTSTART;TZID=Europe/London:20280907T110000
DTEND;TZID=Europe/London:20280907T183000
DTSTAMP:20260424T084428
CREATED:20260414T091538Z
LAST-MODIFIED:20260419T115603Z
UID:10003059-1851937200-1851964200@spithursthub.co.uk
SUMMARY:Wildish Healing
DESCRIPTION:Reiki & Sound \nMore info…
URL:https://spithursthub.co.uk/event/wildish-healing-3/2028-09-07/
ATTACH;FMTTYPE=image/jpeg:https://spithursthub.co.uk/wp-content/uploads/2026/04/Reiki-and-Sound-Healing-Barcombe-Lewes-Brighitta-e1776597794896.jpeg
ORGANIZER;CN="Brighitta Moser-Clark":MAILTO:brighitta@brighitta.com
END:VEVENT
BEGIN:VEVENT
DTSTART;TZID=Europe/London:20280908T110000
DTEND;TZID=Europe/London:20280908T183000
DTSTAMP:20260424T084428
CREATED:20260414T091500Z
LAST-MODIFIED:20260419T112408Z
UID:10003320-1852023600-1852050600@spithursthub.co.uk
SUMMARY:Wildish Healing
DESCRIPTION:Reiki & Sound
URL:https://spithursthub.co.uk/event/wildish-healing/2028-09-08/
ATTACH;FMTTYPE=image/jpeg:https://spithursthub.co.uk/wp-content/uploads/2026/04/Reiki-and-Sound-Healing-Barcombe-Lewes-Brighitta-e1776597794896.jpeg
ORGANIZER;CN="Brighitta Moser-Clark":MAILTO:brighitta@brighitta.com
END:VEVENT
BEGIN:VEVENT
DTSTART;TZID=Europe/London:20280912T110000
DTEND;TZID=Europe/London:20280912T183000
DTSTAMP:20260424T084428
CREATED:20260414T091306Z
LAST-MODIFIED:20260419T112454Z
UID:10002016-1852369200-1852396200@spithursthub.co.uk
SUMMARY:Wildish Healing
DESCRIPTION:Reiki & Sound
URL:https://spithursthub.co.uk/event/wildish-healing-2/2028-09-12/
ATTACH;FMTTYPE=image/jpeg:https://spithursthub.co.uk/wp-content/uploads/2026/04/Reiki-and-Sound-Healing-Barcombe-Lewes-Brighitta-e1776597794896.jpeg
ORGANIZER;CN="Brighitta Moser-Clark":MAILTO:brighitta@brighitta.com
END:VEVENT
BEGIN:VEVENT
DTSTART;TZID=Europe/London:20280914T110000
DTEND;TZID=Europe/London:20280914T183000
DTSTAMP:20260424T084428
CREATED:20260414T091538Z
LAST-MODIFIED:20260419T115603Z
UID:10003060-1852542000-1852569000@spithursthub.co.uk
SUMMARY:Wildish Healing
DESCRIPTION:Reiki & Sound \nMore info…
URL:https://spithursthub.co.uk/event/wildish-healing-3/2028-09-14/
ATTACH;FMTTYPE=image/jpeg:https://spithursthub.co.uk/wp-content/uploads/2026/04/Reiki-and-Sound-Healing-Barcombe-Lewes-Brighitta-e1776597794896.jpeg
ORGANIZER;CN="Brighitta Moser-Clark":MAILTO:brighitta@brighitta.com
END:VEVENT
BEGIN:VEVENT
DTSTART;TZID=Europe/London:20280915T110000
DTEND;TZID=Europe/London:20280915T183000
DTSTAMP:20260424T084428
CREATED:20260414T091500Z
LAST-MODIFIED:20260419T112408Z
UID:10003321-1852628400-1852655400@spithursthub.co.uk
SUMMARY:Wildish Healing
DESCRIPTION:Reiki & Sound
URL:https://spithursthub.co.uk/event/wildish-healing/2028-09-15/
ATTACH;FMTTYPE=image/jpeg:https://spithursthub.co.uk/wp-content/uploads/2026/04/Reiki-and-Sound-Healing-Barcombe-Lewes-Brighitta-e1776597794896.jpeg
ORGANIZER;CN="Brighitta Moser-Clark":MAILTO:brighitta@brighitta.com
END:VEVENT
BEGIN:VEVENT
DTSTART;TZID=Europe/London:20280919T110000
DTEND;TZID=Europe/London:20280919T183000
DTSTAMP:20260424T084428
CREATED:20260414T091306Z
LAST-MODIFIED:20260419T112454Z
UID:10002017-1852974000-1853001000@spithursthub.co.uk
SUMMARY:Wildish Healing
DESCRIPTION:Reiki & Sound
URL:https://spithursthub.co.uk/event/wildish-healing-2/2028-09-19/
ATTACH;FMTTYPE=image/jpeg:https://spithursthub.co.uk/wp-content/uploads/2026/04/Reiki-and-Sound-Healing-Barcombe-Lewes-Brighitta-e1776597794896.jpeg
ORGANIZER;CN="Brighitta Moser-Clark":MAILTO:brighitta@brighitta.com
END:VEVENT
BEGIN:VEVENT
DTSTART;TZID=Europe/London:20280921T110000
DTEND;TZID=Europe/London:20280921T183000
DTSTAMP:20260424T084428
CREATED:20260414T091538Z
LAST-MODIFIED:20260419T115603Z
UID:10003061-1853146800-1853173800@spithursthub.co.uk
SUMMARY:Wildish Healing
DESCRIPTION:Reiki & Sound \nMore info…
URL:https://spithursthub.co.uk/event/wildish-healing-3/2028-09-21/
ATTACH;FMTTYPE=image/jpeg:https://spithursthub.co.uk/wp-content/uploads/2026/04/Reiki-and-Sound-Healing-Barcombe-Lewes-Brighitta-e1776597794896.jpeg
ORGANIZER;CN="Brighitta Moser-Clark":MAILTO:brighitta@brighitta.com
END:VEVENT
BEGIN:VEVENT
DTSTART;TZID=Europe/London:20280922T110000
DTEND;TZID=Europe/London:20280922T183000
DTSTAMP:20260424T084428
CREATED:20260414T091500Z
LAST-MODIFIED:20260419T112408Z
UID:10003322-1853233200-1853260200@spithursthub.co.uk
SUMMARY:Wildish Healing
DESCRIPTION:Reiki & Sound
URL:https://spithursthub.co.uk/event/wildish-healing/2028-09-22/
ATTACH;FMTTYPE=image/jpeg:https://spithursthub.co.uk/wp-content/uploads/2026/04/Reiki-and-Sound-Healing-Barcombe-Lewes-Brighitta-e1776597794896.jpeg
ORGANIZER;CN="Brighitta Moser-Clark":MAILTO:brighitta@brighitta.com
END:VEVENT
BEGIN:VEVENT
DTSTART;TZID=Europe/London:20280926T110000
DTEND;TZID=Europe/London:20280926T183000
DTSTAMP:20260424T084428
CREATED:20260414T091306Z
LAST-MODIFIED:20260419T112454Z
UID:10002018-1853578800-1853605800@spithursthub.co.uk
SUMMARY:Wildish Healing
DESCRIPTION:Reiki & Sound
URL:https://spithursthub.co.uk/event/wildish-healing-2/2028-09-26/
ATTACH;FMTTYPE=image/jpeg:https://spithursthub.co.uk/wp-content/uploads/2026/04/Reiki-and-Sound-Healing-Barcombe-Lewes-Brighitta-e1776597794896.jpeg
ORGANIZER;CN="Brighitta Moser-Clark":MAILTO:brighitta@brighitta.com
END:VEVENT
BEGIN:VEVENT
DTSTART;TZID=Europe/London:20280928T110000
DTEND;TZID=Europe/London:20280928T183000
DTSTAMP:20260424T084428
CREATED:20260414T091538Z
LAST-MODIFIED:20260419T115603Z
UID:10003062-1853751600-1853778600@spithursthub.co.uk
SUMMARY:Wildish Healing
DESCRIPTION:Reiki & Sound \nMore info…
URL:https://spithursthub.co.uk/event/wildish-healing-3/2028-09-28/
ATTACH;FMTTYPE=image/jpeg:https://spithursthub.co.uk/wp-content/uploads/2026/04/Reiki-and-Sound-Healing-Barcombe-Lewes-Brighitta-e1776597794896.jpeg
ORGANIZER;CN="Brighitta Moser-Clark":MAILTO:brighitta@brighitta.com
END:VEVENT
BEGIN:VEVENT
DTSTART;TZID=Europe/London:20280929T110000
DTEND;TZID=Europe/London:20280929T183000
DTSTAMP:20260424T084428
CREATED:20260414T091500Z
LAST-MODIFIED:20260419T112408Z
UID:10003323-1853838000-1853865000@spithursthub.co.uk
SUMMARY:Wildish Healing
DESCRIPTION:Reiki & Sound
URL:https://spithursthub.co.uk/event/wildish-healing/2028-09-29/
ATTACH;FMTTYPE=image/jpeg:https://spithursthub.co.uk/wp-content/uploads/2026/04/Reiki-and-Sound-Healing-Barcombe-Lewes-Brighitta-e1776597794896.jpeg
ORGANIZER;CN="Brighitta Moser-Clark":MAILTO:brighitta@brighitta.com
END:VEVENT
BEGIN:VEVENT
DTSTART;TZID=Europe/London:20281003T110000
DTEND;TZID=Europe/London:20281003T183000
DTSTAMP:20260424T084428
CREATED:20260414T091306Z
LAST-MODIFIED:20260419T112454Z
UID:10002019-1854183600-1854210600@spithursthub.co.uk
SUMMARY:Wildish Healing
DESCRIPTION:Reiki & Sound
URL:https://spithursthub.co.uk/event/wildish-healing-2/2028-10-03/
ATTACH;FMTTYPE=image/jpeg:https://spithursthub.co.uk/wp-content/uploads/2026/04/Reiki-and-Sound-Healing-Barcombe-Lewes-Brighitta-e1776597794896.jpeg
ORGANIZER;CN="Brighitta Moser-Clark":MAILTO:brighitta@brighitta.com
END:VEVENT
BEGIN:VEVENT
DTSTART;TZID=Europe/London:20281005T110000
DTEND;TZID=Europe/London:20281005T183000
DTSTAMP:20260424T084428
CREATED:20260414T091538Z
LAST-MODIFIED:20260419T115603Z
UID:10003063-1854356400-1854383400@spithursthub.co.uk
SUMMARY:Wildish Healing
DESCRIPTION:Reiki & Sound \nMore info…
URL:https://spithursthub.co.uk/event/wildish-healing-3/2028-10-05/
ATTACH;FMTTYPE=image/jpeg:https://spithursthub.co.uk/wp-content/uploads/2026/04/Reiki-and-Sound-Healing-Barcombe-Lewes-Brighitta-e1776597794896.jpeg
ORGANIZER;CN="Brighitta Moser-Clark":MAILTO:brighitta@brighitta.com
END:VEVENT
BEGIN:VEVENT
DTSTART;TZID=Europe/London:20281006T110000
DTEND;TZID=Europe/London:20281006T183000
DTSTAMP:20260424T084428
CREATED:20260414T091500Z
LAST-MODIFIED:20260419T112408Z
UID:10003324-1854442800-1854469800@spithursthub.co.uk
SUMMARY:Wildish Healing
DESCRIPTION:Reiki & Sound
URL:https://spithursthub.co.uk/event/wildish-healing/2028-10-06/
ATTACH;FMTTYPE=image/jpeg:https://spithursthub.co.uk/wp-content/uploads/2026/04/Reiki-and-Sound-Healing-Barcombe-Lewes-Brighitta-e1776597794896.jpeg
ORGANIZER;CN="Brighitta Moser-Clark":MAILTO:brighitta@brighitta.com
END:VEVENT
BEGIN:VEVENT
DTSTART;TZID=Europe/London:20281010T110000
DTEND;TZID=Europe/London:20281010T183000
DTSTAMP:20260424T084428
CREATED:20260414T091306Z
LAST-MODIFIED:20260419T112454Z
UID:10002020-1854788400-1854815400@spithursthub.co.uk
SUMMARY:Wildish Healing
DESCRIPTION:Reiki & Sound
URL:https://spithursthub.co.uk/event/wildish-healing-2/2028-10-10/
ATTACH;FMTTYPE=image/jpeg:https://spithursthub.co.uk/wp-content/uploads/2026/04/Reiki-and-Sound-Healing-Barcombe-Lewes-Brighitta-e1776597794896.jpeg
ORGANIZER;CN="Brighitta Moser-Clark":MAILTO:brighitta@brighitta.com
END:VEVENT
BEGIN:VEVENT
DTSTART;TZID=Europe/London:20281012T110000
DTEND;TZID=Europe/London:20281012T183000
DTSTAMP:20260424T084428
CREATED:20260414T091538Z
LAST-MODIFIED:20260419T115603Z
UID:10003064-1854961200-1854988200@spithursthub.co.uk
SUMMARY:Wildish Healing
DESCRIPTION:Reiki & Sound \nMore info…
URL:https://spithursthub.co.uk/event/wildish-healing-3/2028-10-12/
ATTACH;FMTTYPE=image/jpeg:https://spithursthub.co.uk/wp-content/uploads/2026/04/Reiki-and-Sound-Healing-Barcombe-Lewes-Brighitta-e1776597794896.jpeg
ORGANIZER;CN="Brighitta Moser-Clark":MAILTO:brighitta@brighitta.com
END:VEVENT
BEGIN:VEVENT
DTSTART;TZID=Europe/London:20281013T110000
DTEND;TZID=Europe/London:20281013T183000
DTSTAMP:20260424T084428
CREATED:20260414T091500Z
LAST-MODIFIED:20260419T112408Z
UID:10003325-1855047600-1855074600@spithursthub.co.uk
SUMMARY:Wildish Healing
DESCRIPTION:Reiki & Sound
URL:https://spithursthub.co.uk/event/wildish-healing/2028-10-13/
ATTACH;FMTTYPE=image/jpeg:https://spithursthub.co.uk/wp-content/uploads/2026/04/Reiki-and-Sound-Healing-Barcombe-Lewes-Brighitta-e1776597794896.jpeg
ORGANIZER;CN="Brighitta Moser-Clark":MAILTO:brighitta@brighitta.com
END:VEVENT
BEGIN:VEVENT
DTSTART;TZID=Europe/London:20281017T110000
DTEND;TZID=Europe/London:20281017T183000
DTSTAMP:20260424T084428
CREATED:20260414T091306Z
LAST-MODIFIED:20260419T112454Z
UID:10002021-1855393200-1855420200@spithursthub.co.uk
SUMMARY:Wildish Healing
DESCRIPTION:Reiki & Sound
URL:https://spithursthub.co.uk/event/wildish-healing-2/2028-10-17/
ATTACH;FMTTYPE=image/jpeg:https://spithursthub.co.uk/wp-content/uploads/2026/04/Reiki-and-Sound-Healing-Barcombe-Lewes-Brighitta-e1776597794896.jpeg
ORGANIZER;CN="Brighitta Moser-Clark":MAILTO:brighitta@brighitta.com
END:VEVENT
BEGIN:VEVENT
DTSTART;TZID=Europe/London:20281019T110000
DTEND;TZID=Europe/London:20281019T183000
DTSTAMP:20260424T084428
CREATED:20260414T091538Z
LAST-MODIFIED:20260419T115603Z
UID:10003065-1855566000-1855593000@spithursthub.co.uk
SUMMARY:Wildish Healing
DESCRIPTION:Reiki & Sound \nMore info…
URL:https://spithursthub.co.uk/event/wildish-healing-3/2028-10-19/
ATTACH;FMTTYPE=image/jpeg:https://spithursthub.co.uk/wp-content/uploads/2026/04/Reiki-and-Sound-Healing-Barcombe-Lewes-Brighitta-e1776597794896.jpeg
ORGANIZER;CN="Brighitta Moser-Clark":MAILTO:brighitta@brighitta.com
END:VEVENT
END:VCALENDAR