BEGIN:VCALENDAR
VERSION:2.0
PRODID:-//Spithurst HUB - ECPv6.15.20//NONSGML v1.0//EN
CALSCALE:GREGORIAN
METHOD:PUBLISH
X-WR-CALNAME:Spithurst HUB
X-ORIGINAL-URL:https://spithursthub.co.uk
X-WR-CALDESC:Events for Spithurst HUB
REFRESH-INTERVAL;VALUE=DURATION:PT1H
X-Robots-Tag:noindex
X-PUBLISHED-TTL:PT1H
BEGIN:VTIMEZONE
TZID:Europe/London
BEGIN:DAYLIGHT
TZOFFSETFROM:+0000
TZOFFSETTO:+0100
TZNAME:BST
DTSTART:20250330T010000
END:DAYLIGHT
BEGIN:STANDARD
TZOFFSETFROM:+0100
TZOFFSETTO:+0000
TZNAME:GMT
DTSTART:20251026T010000
END:STANDARD
BEGIN:DAYLIGHT
TZOFFSETFROM:+0000
TZOFFSETTO:+0100
TZNAME:BST
DTSTART:20260329T010000
END:DAYLIGHT
BEGIN:STANDARD
TZOFFSETFROM:+0100
TZOFFSETTO:+0000
TZNAME:GMT
DTSTART:20261025T010000
END:STANDARD
BEGIN:DAYLIGHT
TZOFFSETFROM:+0000
TZOFFSETTO:+0100
TZNAME:BST
DTSTART:20270328T010000
END:DAYLIGHT
BEGIN:STANDARD
TZOFFSETFROM:+0100
TZOFFSETTO:+0000
TZNAME:GMT
DTSTART:20271031T010000
END:STANDARD
BEGIN:DAYLIGHT
TZOFFSETFROM:+0000
TZOFFSETTO:+0100
TZNAME:BST
DTSTART:20280326T010000
END:DAYLIGHT
BEGIN:STANDARD
TZOFFSETFROM:+0100
TZOFFSETTO:+0000
TZNAME:GMT
DTSTART:20281029T010000
END:STANDARD
END:VTIMEZONE
BEGIN:VEVENT
DTSTART;TZID=Europe/London:20261008T160000
DTEND;TZID=Europe/London:20261008T190000
DTSTAMP:20260420T015308
CREATED:20260414T074242Z
LAST-MODIFIED:20260414T082103Z
UID:10001391-1791475200-1791486000@spithursthub.co.uk
SUMMARY:River Wolf Sauna
DESCRIPTION:Relax and recharge with a traditional wood-fired sauna session in a peaceful natural setting. Each booking includes 50 minutes of sauna time\, giving you space to enjoy gentle heat cycles\, cool down between rounds\, and fully unwind. \nSauna bathing can support relaxation\, circulation\, muscle recovery and mental clarity\, especially when alternating heat with fresh air or a cold plunge where available.
URL:https://spithursthub.co.uk/event/river-wolf-sauna-2/2026-10-08/
ATTACH;FMTTYPE=image/jpeg:https://spithursthub.co.uk/wp-content/uploads/2026/04/River-Wolf-Wild-Sauna-2-scaled-1-e1776154750514.jpg
END:VEVENT
BEGIN:VEVENT
DTSTART;TZID=Europe/London:20261015T160000
DTEND;TZID=Europe/London:20261015T190000
DTSTAMP:20260420T015308
CREATED:20260414T074242Z
LAST-MODIFIED:20260414T082103Z
UID:10001392-1792080000-1792090800@spithursthub.co.uk
SUMMARY:River Wolf Sauna
DESCRIPTION:Relax and recharge with a traditional wood-fired sauna session in a peaceful natural setting. Each booking includes 50 minutes of sauna time\, giving you space to enjoy gentle heat cycles\, cool down between rounds\, and fully unwind. \nSauna bathing can support relaxation\, circulation\, muscle recovery and mental clarity\, especially when alternating heat with fresh air or a cold plunge where available.
URL:https://spithursthub.co.uk/event/river-wolf-sauna-2/2026-10-15/
ATTACH;FMTTYPE=image/jpeg:https://spithursthub.co.uk/wp-content/uploads/2026/04/River-Wolf-Wild-Sauna-2-scaled-1-e1776154750514.jpg
END:VEVENT
BEGIN:VEVENT
DTSTART;TZID=Europe/London:20261022T160000
DTEND;TZID=Europe/London:20261022T190000
DTSTAMP:20260420T015308
CREATED:20260414T074242Z
LAST-MODIFIED:20260414T082103Z
UID:10001393-1792684800-1792695600@spithursthub.co.uk
SUMMARY:River Wolf Sauna
DESCRIPTION:Relax and recharge with a traditional wood-fired sauna session in a peaceful natural setting. Each booking includes 50 minutes of sauna time\, giving you space to enjoy gentle heat cycles\, cool down between rounds\, and fully unwind. \nSauna bathing can support relaxation\, circulation\, muscle recovery and mental clarity\, especially when alternating heat with fresh air or a cold plunge where available.
URL:https://spithursthub.co.uk/event/river-wolf-sauna-2/2026-10-22/
ATTACH;FMTTYPE=image/jpeg:https://spithursthub.co.uk/wp-content/uploads/2026/04/River-Wolf-Wild-Sauna-2-scaled-1-e1776154750514.jpg
END:VEVENT
BEGIN:VEVENT
DTSTART;TZID=Europe/London:20261029T160000
DTEND;TZID=Europe/London:20261029T190000
DTSTAMP:20260420T015308
CREATED:20260414T074242Z
LAST-MODIFIED:20260414T082103Z
UID:10001394-1793289600-1793300400@spithursthub.co.uk
SUMMARY:River Wolf Sauna
DESCRIPTION:Relax and recharge with a traditional wood-fired sauna session in a peaceful natural setting. Each booking includes 50 minutes of sauna time\, giving you space to enjoy gentle heat cycles\, cool down between rounds\, and fully unwind. \nSauna bathing can support relaxation\, circulation\, muscle recovery and mental clarity\, especially when alternating heat with fresh air or a cold plunge where available.
URL:https://spithursthub.co.uk/event/river-wolf-sauna-2/2026-10-29/
ATTACH;FMTTYPE=image/jpeg:https://spithursthub.co.uk/wp-content/uploads/2026/04/River-Wolf-Wild-Sauna-2-scaled-1-e1776154750514.jpg
END:VEVENT
BEGIN:VEVENT
DTSTART;TZID=Europe/London:20261105T160000
DTEND;TZID=Europe/London:20261105T190000
DTSTAMP:20260420T015308
CREATED:20260414T074242Z
LAST-MODIFIED:20260414T082103Z
UID:10001395-1793894400-1793905200@spithursthub.co.uk
SUMMARY:River Wolf Sauna
DESCRIPTION:Relax and recharge with a traditional wood-fired sauna session in a peaceful natural setting. Each booking includes 50 minutes of sauna time\, giving you space to enjoy gentle heat cycles\, cool down between rounds\, and fully unwind. \nSauna bathing can support relaxation\, circulation\, muscle recovery and mental clarity\, especially when alternating heat with fresh air or a cold plunge where available.
URL:https://spithursthub.co.uk/event/river-wolf-sauna-2/2026-11-05/
ATTACH;FMTTYPE=image/jpeg:https://spithursthub.co.uk/wp-content/uploads/2026/04/River-Wolf-Wild-Sauna-2-scaled-1-e1776154750514.jpg
END:VEVENT
BEGIN:VEVENT
DTSTART;TZID=Europe/London:20261112T160000
DTEND;TZID=Europe/London:20261112T190000
DTSTAMP:20260420T015308
CREATED:20260414T074242Z
LAST-MODIFIED:20260414T082103Z
UID:10001396-1794499200-1794510000@spithursthub.co.uk
SUMMARY:River Wolf Sauna
DESCRIPTION:Relax and recharge with a traditional wood-fired sauna session in a peaceful natural setting. Each booking includes 50 minutes of sauna time\, giving you space to enjoy gentle heat cycles\, cool down between rounds\, and fully unwind. \nSauna bathing can support relaxation\, circulation\, muscle recovery and mental clarity\, especially when alternating heat with fresh air or a cold plunge where available.
URL:https://spithursthub.co.uk/event/river-wolf-sauna-2/2026-11-12/
ATTACH;FMTTYPE=image/jpeg:https://spithursthub.co.uk/wp-content/uploads/2026/04/River-Wolf-Wild-Sauna-2-scaled-1-e1776154750514.jpg
END:VEVENT
BEGIN:VEVENT
DTSTART;TZID=Europe/London:20261119T160000
DTEND;TZID=Europe/London:20261119T190000
DTSTAMP:20260420T015308
CREATED:20260414T074242Z
LAST-MODIFIED:20260414T082103Z
UID:10001397-1795104000-1795114800@spithursthub.co.uk
SUMMARY:River Wolf Sauna
DESCRIPTION:Relax and recharge with a traditional wood-fired sauna session in a peaceful natural setting. Each booking includes 50 minutes of sauna time\, giving you space to enjoy gentle heat cycles\, cool down between rounds\, and fully unwind. \nSauna bathing can support relaxation\, circulation\, muscle recovery and mental clarity\, especially when alternating heat with fresh air or a cold plunge where available.
URL:https://spithursthub.co.uk/event/river-wolf-sauna-2/2026-11-19/
ATTACH;FMTTYPE=image/jpeg:https://spithursthub.co.uk/wp-content/uploads/2026/04/River-Wolf-Wild-Sauna-2-scaled-1-e1776154750514.jpg
END:VEVENT
BEGIN:VEVENT
DTSTART;TZID=Europe/London:20261126T160000
DTEND;TZID=Europe/London:20261126T190000
DTSTAMP:20260420T015308
CREATED:20260414T074242Z
LAST-MODIFIED:20260414T082103Z
UID:10001398-1795708800-1795719600@spithursthub.co.uk
SUMMARY:River Wolf Sauna
DESCRIPTION:Relax and recharge with a traditional wood-fired sauna session in a peaceful natural setting. Each booking includes 50 minutes of sauna time\, giving you space to enjoy gentle heat cycles\, cool down between rounds\, and fully unwind. \nSauna bathing can support relaxation\, circulation\, muscle recovery and mental clarity\, especially when alternating heat with fresh air or a cold plunge where available.
URL:https://spithursthub.co.uk/event/river-wolf-sauna-2/2026-11-26/
ATTACH;FMTTYPE=image/jpeg:https://spithursthub.co.uk/wp-content/uploads/2026/04/River-Wolf-Wild-Sauna-2-scaled-1-e1776154750514.jpg
END:VEVENT
BEGIN:VEVENT
DTSTART;TZID=Europe/London:20261203T160000
DTEND;TZID=Europe/London:20261203T190000
DTSTAMP:20260420T015308
CREATED:20260414T074242Z
LAST-MODIFIED:20260414T082103Z
UID:10001399-1796313600-1796324400@spithursthub.co.uk
SUMMARY:River Wolf Sauna
DESCRIPTION:Relax and recharge with a traditional wood-fired sauna session in a peaceful natural setting. Each booking includes 50 minutes of sauna time\, giving you space to enjoy gentle heat cycles\, cool down between rounds\, and fully unwind. \nSauna bathing can support relaxation\, circulation\, muscle recovery and mental clarity\, especially when alternating heat with fresh air or a cold plunge where available.
URL:https://spithursthub.co.uk/event/river-wolf-sauna-2/2026-12-03/
ATTACH;FMTTYPE=image/jpeg:https://spithursthub.co.uk/wp-content/uploads/2026/04/River-Wolf-Wild-Sauna-2-scaled-1-e1776154750514.jpg
END:VEVENT
BEGIN:VEVENT
DTSTART;TZID=Europe/London:20261210T160000
DTEND;TZID=Europe/London:20261210T190000
DTSTAMP:20260420T015308
CREATED:20260414T074242Z
LAST-MODIFIED:20260414T082103Z
UID:10001400-1796918400-1796929200@spithursthub.co.uk
SUMMARY:River Wolf Sauna
DESCRIPTION:Relax and recharge with a traditional wood-fired sauna session in a peaceful natural setting. Each booking includes 50 minutes of sauna time\, giving you space to enjoy gentle heat cycles\, cool down between rounds\, and fully unwind. \nSauna bathing can support relaxation\, circulation\, muscle recovery and mental clarity\, especially when alternating heat with fresh air or a cold plunge where available.
URL:https://spithursthub.co.uk/event/river-wolf-sauna-2/2026-12-10/
ATTACH;FMTTYPE=image/jpeg:https://spithursthub.co.uk/wp-content/uploads/2026/04/River-Wolf-Wild-Sauna-2-scaled-1-e1776154750514.jpg
END:VEVENT
BEGIN:VEVENT
DTSTART;TZID=Europe/London:20261217T160000
DTEND;TZID=Europe/London:20261217T190000
DTSTAMP:20260420T015308
CREATED:20260414T074242Z
LAST-MODIFIED:20260414T082103Z
UID:10001401-1797523200-1797534000@spithursthub.co.uk
SUMMARY:River Wolf Sauna
DESCRIPTION:Relax and recharge with a traditional wood-fired sauna session in a peaceful natural setting. Each booking includes 50 minutes of sauna time\, giving you space to enjoy gentle heat cycles\, cool down between rounds\, and fully unwind. \nSauna bathing can support relaxation\, circulation\, muscle recovery and mental clarity\, especially when alternating heat with fresh air or a cold plunge where available.
URL:https://spithursthub.co.uk/event/river-wolf-sauna-2/2026-12-17/
ATTACH;FMTTYPE=image/jpeg:https://spithursthub.co.uk/wp-content/uploads/2026/04/River-Wolf-Wild-Sauna-2-scaled-1-e1776154750514.jpg
END:VEVENT
BEGIN:VEVENT
DTSTART;TZID=Europe/London:20261224T160000
DTEND;TZID=Europe/London:20261224T190000
DTSTAMP:20260420T015308
CREATED:20260414T074242Z
LAST-MODIFIED:20260414T082103Z
UID:10001402-1798128000-1798138800@spithursthub.co.uk
SUMMARY:River Wolf Sauna
DESCRIPTION:Relax and recharge with a traditional wood-fired sauna session in a peaceful natural setting. Each booking includes 50 minutes of sauna time\, giving you space to enjoy gentle heat cycles\, cool down between rounds\, and fully unwind. \nSauna bathing can support relaxation\, circulation\, muscle recovery and mental clarity\, especially when alternating heat with fresh air or a cold plunge where available.
URL:https://spithursthub.co.uk/event/river-wolf-sauna-2/2026-12-24/
ATTACH;FMTTYPE=image/jpeg:https://spithursthub.co.uk/wp-content/uploads/2026/04/River-Wolf-Wild-Sauna-2-scaled-1-e1776154750514.jpg
END:VEVENT
BEGIN:VEVENT
DTSTART;TZID=Europe/London:20261231T160000
DTEND;TZID=Europe/London:20261231T190000
DTSTAMP:20260420T015308
CREATED:20260414T074242Z
LAST-MODIFIED:20260414T082103Z
UID:10001403-1798732800-1798743600@spithursthub.co.uk
SUMMARY:River Wolf Sauna
DESCRIPTION:Relax and recharge with a traditional wood-fired sauna session in a peaceful natural setting. Each booking includes 50 minutes of sauna time\, giving you space to enjoy gentle heat cycles\, cool down between rounds\, and fully unwind. \nSauna bathing can support relaxation\, circulation\, muscle recovery and mental clarity\, especially when alternating heat with fresh air or a cold plunge where available.
URL:https://spithursthub.co.uk/event/river-wolf-sauna-2/2026-12-31/
ATTACH;FMTTYPE=image/jpeg:https://spithursthub.co.uk/wp-content/uploads/2026/04/River-Wolf-Wild-Sauna-2-scaled-1-e1776154750514.jpg
END:VEVENT
BEGIN:VEVENT
DTSTART;TZID=Europe/London:20270107T160000
DTEND;TZID=Europe/London:20270107T190000
DTSTAMP:20260420T015308
CREATED:20260414T074242Z
LAST-MODIFIED:20260414T082103Z
UID:10001404-1799337600-1799348400@spithursthub.co.uk
SUMMARY:River Wolf Sauna
DESCRIPTION:Relax and recharge with a traditional wood-fired sauna session in a peaceful natural setting. Each booking includes 50 minutes of sauna time\, giving you space to enjoy gentle heat cycles\, cool down between rounds\, and fully unwind. \nSauna bathing can support relaxation\, circulation\, muscle recovery and mental clarity\, especially when alternating heat with fresh air or a cold plunge where available.
URL:https://spithursthub.co.uk/event/river-wolf-sauna-2/2027-01-07/
ATTACH;FMTTYPE=image/jpeg:https://spithursthub.co.uk/wp-content/uploads/2026/04/River-Wolf-Wild-Sauna-2-scaled-1-e1776154750514.jpg
END:VEVENT
BEGIN:VEVENT
DTSTART;TZID=Europe/London:20270114T160000
DTEND;TZID=Europe/London:20270114T190000
DTSTAMP:20260420T015308
CREATED:20260414T074242Z
LAST-MODIFIED:20260414T082103Z
UID:10001405-1799942400-1799953200@spithursthub.co.uk
SUMMARY:River Wolf Sauna
DESCRIPTION:Relax and recharge with a traditional wood-fired sauna session in a peaceful natural setting. Each booking includes 50 minutes of sauna time\, giving you space to enjoy gentle heat cycles\, cool down between rounds\, and fully unwind. \nSauna bathing can support relaxation\, circulation\, muscle recovery and mental clarity\, especially when alternating heat with fresh air or a cold plunge where available.
URL:https://spithursthub.co.uk/event/river-wolf-sauna-2/2027-01-14/
ATTACH;FMTTYPE=image/jpeg:https://spithursthub.co.uk/wp-content/uploads/2026/04/River-Wolf-Wild-Sauna-2-scaled-1-e1776154750514.jpg
END:VEVENT
BEGIN:VEVENT
DTSTART;TZID=Europe/London:20270121T160000
DTEND;TZID=Europe/London:20270121T190000
DTSTAMP:20260420T015308
CREATED:20260414T074242Z
LAST-MODIFIED:20260414T082103Z
UID:10001406-1800547200-1800558000@spithursthub.co.uk
SUMMARY:River Wolf Sauna
DESCRIPTION:Relax and recharge with a traditional wood-fired sauna session in a peaceful natural setting. Each booking includes 50 minutes of sauna time\, giving you space to enjoy gentle heat cycles\, cool down between rounds\, and fully unwind. \nSauna bathing can support relaxation\, circulation\, muscle recovery and mental clarity\, especially when alternating heat with fresh air or a cold plunge where available.
URL:https://spithursthub.co.uk/event/river-wolf-sauna-2/2027-01-21/
ATTACH;FMTTYPE=image/jpeg:https://spithursthub.co.uk/wp-content/uploads/2026/04/River-Wolf-Wild-Sauna-2-scaled-1-e1776154750514.jpg
END:VEVENT
BEGIN:VEVENT
DTSTART;TZID=Europe/London:20270128T160000
DTEND;TZID=Europe/London:20270128T190000
DTSTAMP:20260420T015308
CREATED:20260414T074242Z
LAST-MODIFIED:20260414T082103Z
UID:10001407-1801152000-1801162800@spithursthub.co.uk
SUMMARY:River Wolf Sauna
DESCRIPTION:Relax and recharge with a traditional wood-fired sauna session in a peaceful natural setting. Each booking includes 50 minutes of sauna time\, giving you space to enjoy gentle heat cycles\, cool down between rounds\, and fully unwind. \nSauna bathing can support relaxation\, circulation\, muscle recovery and mental clarity\, especially when alternating heat with fresh air or a cold plunge where available.
URL:https://spithursthub.co.uk/event/river-wolf-sauna-2/2027-01-28/
ATTACH;FMTTYPE=image/jpeg:https://spithursthub.co.uk/wp-content/uploads/2026/04/River-Wolf-Wild-Sauna-2-scaled-1-e1776154750514.jpg
END:VEVENT
BEGIN:VEVENT
DTSTART;TZID=Europe/London:20270204T160000
DTEND;TZID=Europe/London:20270204T190000
DTSTAMP:20260420T015308
CREATED:20260414T074242Z
LAST-MODIFIED:20260414T082103Z
UID:10001408-1801756800-1801767600@spithursthub.co.uk
SUMMARY:River Wolf Sauna
DESCRIPTION:Relax and recharge with a traditional wood-fired sauna session in a peaceful natural setting. Each booking includes 50 minutes of sauna time\, giving you space to enjoy gentle heat cycles\, cool down between rounds\, and fully unwind. \nSauna bathing can support relaxation\, circulation\, muscle recovery and mental clarity\, especially when alternating heat with fresh air or a cold plunge where available.
URL:https://spithursthub.co.uk/event/river-wolf-sauna-2/2027-02-04/
ATTACH;FMTTYPE=image/jpeg:https://spithursthub.co.uk/wp-content/uploads/2026/04/River-Wolf-Wild-Sauna-2-scaled-1-e1776154750514.jpg
END:VEVENT
BEGIN:VEVENT
DTSTART;TZID=Europe/London:20270211T160000
DTEND;TZID=Europe/London:20270211T190000
DTSTAMP:20260420T015308
CREATED:20260414T074242Z
LAST-MODIFIED:20260414T082103Z
UID:10001409-1802361600-1802372400@spithursthub.co.uk
SUMMARY:River Wolf Sauna
DESCRIPTION:Relax and recharge with a traditional wood-fired sauna session in a peaceful natural setting. Each booking includes 50 minutes of sauna time\, giving you space to enjoy gentle heat cycles\, cool down between rounds\, and fully unwind. \nSauna bathing can support relaxation\, circulation\, muscle recovery and mental clarity\, especially when alternating heat with fresh air or a cold plunge where available.
URL:https://spithursthub.co.uk/event/river-wolf-sauna-2/2027-02-11/
ATTACH;FMTTYPE=image/jpeg:https://spithursthub.co.uk/wp-content/uploads/2026/04/River-Wolf-Wild-Sauna-2-scaled-1-e1776154750514.jpg
END:VEVENT
BEGIN:VEVENT
DTSTART;TZID=Europe/London:20270218T160000
DTEND;TZID=Europe/London:20270218T190000
DTSTAMP:20260420T015308
CREATED:20260414T074242Z
LAST-MODIFIED:20260414T082103Z
UID:10001410-1802966400-1802977200@spithursthub.co.uk
SUMMARY:River Wolf Sauna
DESCRIPTION:Relax and recharge with a traditional wood-fired sauna session in a peaceful natural setting. Each booking includes 50 minutes of sauna time\, giving you space to enjoy gentle heat cycles\, cool down between rounds\, and fully unwind. \nSauna bathing can support relaxation\, circulation\, muscle recovery and mental clarity\, especially when alternating heat with fresh air or a cold plunge where available.
URL:https://spithursthub.co.uk/event/river-wolf-sauna-2/2027-02-18/
ATTACH;FMTTYPE=image/jpeg:https://spithursthub.co.uk/wp-content/uploads/2026/04/River-Wolf-Wild-Sauna-2-scaled-1-e1776154750514.jpg
END:VEVENT
BEGIN:VEVENT
DTSTART;TZID=Europe/London:20270225T160000
DTEND;TZID=Europe/London:20270225T190000
DTSTAMP:20260420T015308
CREATED:20260414T074242Z
LAST-MODIFIED:20260414T082103Z
UID:10001411-1803571200-1803582000@spithursthub.co.uk
SUMMARY:River Wolf Sauna
DESCRIPTION:Relax and recharge with a traditional wood-fired sauna session in a peaceful natural setting. Each booking includes 50 minutes of sauna time\, giving you space to enjoy gentle heat cycles\, cool down between rounds\, and fully unwind. \nSauna bathing can support relaxation\, circulation\, muscle recovery and mental clarity\, especially when alternating heat with fresh air or a cold plunge where available.
URL:https://spithursthub.co.uk/event/river-wolf-sauna-2/2027-02-25/
ATTACH;FMTTYPE=image/jpeg:https://spithursthub.co.uk/wp-content/uploads/2026/04/River-Wolf-Wild-Sauna-2-scaled-1-e1776154750514.jpg
END:VEVENT
BEGIN:VEVENT
DTSTART;TZID=Europe/London:20270304T160000
DTEND;TZID=Europe/London:20270304T190000
DTSTAMP:20260420T015308
CREATED:20260414T074242Z
LAST-MODIFIED:20260414T082103Z
UID:10001412-1804176000-1804186800@spithursthub.co.uk
SUMMARY:River Wolf Sauna
DESCRIPTION:Relax and recharge with a traditional wood-fired sauna session in a peaceful natural setting. Each booking includes 50 minutes of sauna time\, giving you space to enjoy gentle heat cycles\, cool down between rounds\, and fully unwind. \nSauna bathing can support relaxation\, circulation\, muscle recovery and mental clarity\, especially when alternating heat with fresh air or a cold plunge where available.
URL:https://spithursthub.co.uk/event/river-wolf-sauna-2/2027-03-04/
ATTACH;FMTTYPE=image/jpeg:https://spithursthub.co.uk/wp-content/uploads/2026/04/River-Wolf-Wild-Sauna-2-scaled-1-e1776154750514.jpg
END:VEVENT
BEGIN:VEVENT
DTSTART;TZID=Europe/London:20270311T160000
DTEND;TZID=Europe/London:20270311T190000
DTSTAMP:20260420T015308
CREATED:20260414T074242Z
LAST-MODIFIED:20260414T082103Z
UID:10001413-1804780800-1804791600@spithursthub.co.uk
SUMMARY:River Wolf Sauna
DESCRIPTION:Relax and recharge with a traditional wood-fired sauna session in a peaceful natural setting. Each booking includes 50 minutes of sauna time\, giving you space to enjoy gentle heat cycles\, cool down between rounds\, and fully unwind. \nSauna bathing can support relaxation\, circulation\, muscle recovery and mental clarity\, especially when alternating heat with fresh air or a cold plunge where available.
URL:https://spithursthub.co.uk/event/river-wolf-sauna-2/2027-03-11/
ATTACH;FMTTYPE=image/jpeg:https://spithursthub.co.uk/wp-content/uploads/2026/04/River-Wolf-Wild-Sauna-2-scaled-1-e1776154750514.jpg
END:VEVENT
BEGIN:VEVENT
DTSTART;TZID=Europe/London:20270318T160000
DTEND;TZID=Europe/London:20270318T190000
DTSTAMP:20260420T015308
CREATED:20260414T074242Z
LAST-MODIFIED:20260414T082103Z
UID:10001414-1805385600-1805396400@spithursthub.co.uk
SUMMARY:River Wolf Sauna
DESCRIPTION:Relax and recharge with a traditional wood-fired sauna session in a peaceful natural setting. Each booking includes 50 minutes of sauna time\, giving you space to enjoy gentle heat cycles\, cool down between rounds\, and fully unwind. \nSauna bathing can support relaxation\, circulation\, muscle recovery and mental clarity\, especially when alternating heat with fresh air or a cold plunge where available.
URL:https://spithursthub.co.uk/event/river-wolf-sauna-2/2027-03-18/
ATTACH;FMTTYPE=image/jpeg:https://spithursthub.co.uk/wp-content/uploads/2026/04/River-Wolf-Wild-Sauna-2-scaled-1-e1776154750514.jpg
END:VEVENT
BEGIN:VEVENT
DTSTART;TZID=Europe/London:20270325T160000
DTEND;TZID=Europe/London:20270325T190000
DTSTAMP:20260420T015308
CREATED:20260414T074242Z
LAST-MODIFIED:20260414T082103Z
UID:10001415-1805990400-1806001200@spithursthub.co.uk
SUMMARY:River Wolf Sauna
DESCRIPTION:Relax and recharge with a traditional wood-fired sauna session in a peaceful natural setting. Each booking includes 50 minutes of sauna time\, giving you space to enjoy gentle heat cycles\, cool down between rounds\, and fully unwind. \nSauna bathing can support relaxation\, circulation\, muscle recovery and mental clarity\, especially when alternating heat with fresh air or a cold plunge where available.
URL:https://spithursthub.co.uk/event/river-wolf-sauna-2/2027-03-25/
ATTACH;FMTTYPE=image/jpeg:https://spithursthub.co.uk/wp-content/uploads/2026/04/River-Wolf-Wild-Sauna-2-scaled-1-e1776154750514.jpg
END:VEVENT
BEGIN:VEVENT
DTSTART;TZID=Europe/London:20270401T160000
DTEND;TZID=Europe/London:20270401T190000
DTSTAMP:20260420T015308
CREATED:20260414T074242Z
LAST-MODIFIED:20260414T082103Z
UID:10001416-1806595200-1806606000@spithursthub.co.uk
SUMMARY:River Wolf Sauna
DESCRIPTION:Relax and recharge with a traditional wood-fired sauna session in a peaceful natural setting. Each booking includes 50 minutes of sauna time\, giving you space to enjoy gentle heat cycles\, cool down between rounds\, and fully unwind. \nSauna bathing can support relaxation\, circulation\, muscle recovery and mental clarity\, especially when alternating heat with fresh air or a cold plunge where available.
URL:https://spithursthub.co.uk/event/river-wolf-sauna-2/2027-04-01/
ATTACH;FMTTYPE=image/jpeg:https://spithursthub.co.uk/wp-content/uploads/2026/04/River-Wolf-Wild-Sauna-2-scaled-1-e1776154750514.jpg
END:VEVENT
BEGIN:VEVENT
DTSTART;TZID=Europe/London:20270408T160000
DTEND;TZID=Europe/London:20270408T190000
DTSTAMP:20260420T015308
CREATED:20260414T074242Z
LAST-MODIFIED:20260414T082103Z
UID:10001417-1807200000-1807210800@spithursthub.co.uk
SUMMARY:River Wolf Sauna
DESCRIPTION:Relax and recharge with a traditional wood-fired sauna session in a peaceful natural setting. Each booking includes 50 minutes of sauna time\, giving you space to enjoy gentle heat cycles\, cool down between rounds\, and fully unwind. \nSauna bathing can support relaxation\, circulation\, muscle recovery and mental clarity\, especially when alternating heat with fresh air or a cold plunge where available.
URL:https://spithursthub.co.uk/event/river-wolf-sauna-2/2027-04-08/
ATTACH;FMTTYPE=image/jpeg:https://spithursthub.co.uk/wp-content/uploads/2026/04/River-Wolf-Wild-Sauna-2-scaled-1-e1776154750514.jpg
END:VEVENT
BEGIN:VEVENT
DTSTART;TZID=Europe/London:20270415T160000
DTEND;TZID=Europe/London:20270415T190000
DTSTAMP:20260420T015308
CREATED:20260414T074242Z
LAST-MODIFIED:20260414T082103Z
UID:10001418-1807804800-1807815600@spithursthub.co.uk
SUMMARY:River Wolf Sauna
DESCRIPTION:Relax and recharge with a traditional wood-fired sauna session in a peaceful natural setting. Each booking includes 50 minutes of sauna time\, giving you space to enjoy gentle heat cycles\, cool down between rounds\, and fully unwind. \nSauna bathing can support relaxation\, circulation\, muscle recovery and mental clarity\, especially when alternating heat with fresh air or a cold plunge where available.
URL:https://spithursthub.co.uk/event/river-wolf-sauna-2/2027-04-15/
ATTACH;FMTTYPE=image/jpeg:https://spithursthub.co.uk/wp-content/uploads/2026/04/River-Wolf-Wild-Sauna-2-scaled-1-e1776154750514.jpg
END:VEVENT
BEGIN:VEVENT
DTSTART;TZID=Europe/London:20270422T160000
DTEND;TZID=Europe/London:20270422T190000
DTSTAMP:20260420T015308
CREATED:20260414T074242Z
LAST-MODIFIED:20260414T082103Z
UID:10001419-1808409600-1808420400@spithursthub.co.uk
SUMMARY:River Wolf Sauna
DESCRIPTION:Relax and recharge with a traditional wood-fired sauna session in a peaceful natural setting. Each booking includes 50 minutes of sauna time\, giving you space to enjoy gentle heat cycles\, cool down between rounds\, and fully unwind. \nSauna bathing can support relaxation\, circulation\, muscle recovery and mental clarity\, especially when alternating heat with fresh air or a cold plunge where available.
URL:https://spithursthub.co.uk/event/river-wolf-sauna-2/2027-04-22/
ATTACH;FMTTYPE=image/jpeg:https://spithursthub.co.uk/wp-content/uploads/2026/04/River-Wolf-Wild-Sauna-2-scaled-1-e1776154750514.jpg
END:VEVENT
BEGIN:VEVENT
DTSTART;TZID=Europe/London:20270429T160000
DTEND;TZID=Europe/London:20270429T190000
DTSTAMP:20260420T015308
CREATED:20260414T074242Z
LAST-MODIFIED:20260414T082103Z
UID:10001420-1809014400-1809025200@spithursthub.co.uk
SUMMARY:River Wolf Sauna
DESCRIPTION:Relax and recharge with a traditional wood-fired sauna session in a peaceful natural setting. Each booking includes 50 minutes of sauna time\, giving you space to enjoy gentle heat cycles\, cool down between rounds\, and fully unwind. \nSauna bathing can support relaxation\, circulation\, muscle recovery and mental clarity\, especially when alternating heat with fresh air or a cold plunge where available.
URL:https://spithursthub.co.uk/event/river-wolf-sauna-2/2027-04-29/
ATTACH;FMTTYPE=image/jpeg:https://spithursthub.co.uk/wp-content/uploads/2026/04/River-Wolf-Wild-Sauna-2-scaled-1-e1776154750514.jpg
END:VEVENT
END:VCALENDAR