BEGIN:VCALENDAR
VERSION:2.0
PRODID:-//Spithurst HUB - ECPv6.15.20//NONSGML v1.0//EN
CALSCALE:GREGORIAN
METHOD:PUBLISH
X-ORIGINAL-URL:https://spithursthub.co.uk
X-WR-CALDESC:Events for Spithurst HUB
REFRESH-INTERVAL;VALUE=DURATION:PT1H
X-Robots-Tag:noindex
X-PUBLISHED-TTL:PT1H
BEGIN:VTIMEZONE
TZID:Europe/London
BEGIN:DAYLIGHT
TZOFFSETFROM:+0000
TZOFFSETTO:+0100
TZNAME:BST
DTSTART:20260329T010000
END:DAYLIGHT
BEGIN:STANDARD
TZOFFSETFROM:+0100
TZOFFSETTO:+0000
TZNAME:GMT
DTSTART:20261025T010000
END:STANDARD
BEGIN:DAYLIGHT
TZOFFSETFROM:+0000
TZOFFSETTO:+0100
TZNAME:BST
DTSTART:20270328T010000
END:DAYLIGHT
BEGIN:STANDARD
TZOFFSETFROM:+0100
TZOFFSETTO:+0000
TZNAME:GMT
DTSTART:20271031T010000
END:STANDARD
BEGIN:DAYLIGHT
TZOFFSETFROM:+0000
TZOFFSETTO:+0100
TZNAME:BST
DTSTART:20280326T010000
END:DAYLIGHT
BEGIN:STANDARD
TZOFFSETFROM:+0100
TZOFFSETTO:+0000
TZNAME:GMT
DTSTART:20281029T010000
END:STANDARD
BEGIN:DAYLIGHT
TZOFFSETFROM:+0000
TZOFFSETTO:+0100
TZNAME:BST
DTSTART:20290325T010000
END:DAYLIGHT
BEGIN:STANDARD
TZOFFSETFROM:+0100
TZOFFSETTO:+0000
TZNAME:GMT
DTSTART:20291028T010000
END:STANDARD
END:VTIMEZONE
BEGIN:VEVENT
DTSTART;TZID=Europe/London:20270617T160000
DTEND;TZID=Europe/London:20270617T190000
DTSTAMP:20260422T154452
CREATED:20260414T074242Z
LAST-MODIFIED:20260414T082103Z
UID:10001427-1813248000-1813258800@spithursthub.co.uk
SUMMARY:River Wolf Sauna
DESCRIPTION:Relax and recharge with a traditional wood-fired sauna session in a peaceful natural setting. Each booking includes 50 minutes of sauna time\, giving you space to enjoy gentle heat cycles\, cool down between rounds\, and fully unwind. \nSauna bathing can support relaxation\, circulation\, muscle recovery and mental clarity\, especially when alternating heat with fresh air or a cold plunge where available.
URL:https://spithursthub.co.uk/event/river-wolf-sauna-2/2027-06-17/
ATTACH;FMTTYPE=image/jpeg:https://spithursthub.co.uk/wp-content/uploads/2026/04/River-Wolf-Wild-Sauna-2-scaled-1-e1776154750514.jpg
END:VEVENT
BEGIN:VEVENT
DTSTART;TZID=Europe/London:20270624T160000
DTEND;TZID=Europe/London:20270624T190000
DTSTAMP:20260422T154452
CREATED:20260414T074242Z
LAST-MODIFIED:20260414T082103Z
UID:10001428-1813852800-1813863600@spithursthub.co.uk
SUMMARY:River Wolf Sauna
DESCRIPTION:Relax and recharge with a traditional wood-fired sauna session in a peaceful natural setting. Each booking includes 50 minutes of sauna time\, giving you space to enjoy gentle heat cycles\, cool down between rounds\, and fully unwind. \nSauna bathing can support relaxation\, circulation\, muscle recovery and mental clarity\, especially when alternating heat with fresh air or a cold plunge where available.
URL:https://spithursthub.co.uk/event/river-wolf-sauna-2/2027-06-24/
ATTACH;FMTTYPE=image/jpeg:https://spithursthub.co.uk/wp-content/uploads/2026/04/River-Wolf-Wild-Sauna-2-scaled-1-e1776154750514.jpg
END:VEVENT
BEGIN:VEVENT
DTSTART;TZID=Europe/London:20270701T160000
DTEND;TZID=Europe/London:20270701T190000
DTSTAMP:20260422T154452
CREATED:20260414T074242Z
LAST-MODIFIED:20260414T082103Z
UID:10001429-1814457600-1814468400@spithursthub.co.uk
SUMMARY:River Wolf Sauna
DESCRIPTION:Relax and recharge with a traditional wood-fired sauna session in a peaceful natural setting. Each booking includes 50 minutes of sauna time\, giving you space to enjoy gentle heat cycles\, cool down between rounds\, and fully unwind. \nSauna bathing can support relaxation\, circulation\, muscle recovery and mental clarity\, especially when alternating heat with fresh air or a cold plunge where available.
URL:https://spithursthub.co.uk/event/river-wolf-sauna-2/2027-07-01/
ATTACH;FMTTYPE=image/jpeg:https://spithursthub.co.uk/wp-content/uploads/2026/04/River-Wolf-Wild-Sauna-2-scaled-1-e1776154750514.jpg
END:VEVENT
BEGIN:VEVENT
DTSTART;TZID=Europe/London:20270708T160000
DTEND;TZID=Europe/London:20270708T190000
DTSTAMP:20260422T154452
CREATED:20260414T074242Z
LAST-MODIFIED:20260414T082103Z
UID:10001430-1815062400-1815073200@spithursthub.co.uk
SUMMARY:River Wolf Sauna
DESCRIPTION:Relax and recharge with a traditional wood-fired sauna session in a peaceful natural setting. Each booking includes 50 minutes of sauna time\, giving you space to enjoy gentle heat cycles\, cool down between rounds\, and fully unwind. \nSauna bathing can support relaxation\, circulation\, muscle recovery and mental clarity\, especially when alternating heat with fresh air or a cold plunge where available.
URL:https://spithursthub.co.uk/event/river-wolf-sauna-2/2027-07-08/
ATTACH;FMTTYPE=image/jpeg:https://spithursthub.co.uk/wp-content/uploads/2026/04/River-Wolf-Wild-Sauna-2-scaled-1-e1776154750514.jpg
END:VEVENT
BEGIN:VEVENT
DTSTART;TZID=Europe/London:20270715T160000
DTEND;TZID=Europe/London:20270715T190000
DTSTAMP:20260422T154452
CREATED:20260414T074242Z
LAST-MODIFIED:20260414T082103Z
UID:10001431-1815667200-1815678000@spithursthub.co.uk
SUMMARY:River Wolf Sauna
DESCRIPTION:Relax and recharge with a traditional wood-fired sauna session in a peaceful natural setting. Each booking includes 50 minutes of sauna time\, giving you space to enjoy gentle heat cycles\, cool down between rounds\, and fully unwind. \nSauna bathing can support relaxation\, circulation\, muscle recovery and mental clarity\, especially when alternating heat with fresh air or a cold plunge where available.
URL:https://spithursthub.co.uk/event/river-wolf-sauna-2/2027-07-15/
ATTACH;FMTTYPE=image/jpeg:https://spithursthub.co.uk/wp-content/uploads/2026/04/River-Wolf-Wild-Sauna-2-scaled-1-e1776154750514.jpg
END:VEVENT
BEGIN:VEVENT
DTSTART;TZID=Europe/London:20270722T160000
DTEND;TZID=Europe/London:20270722T190000
DTSTAMP:20260422T154452
CREATED:20260414T074242Z
LAST-MODIFIED:20260414T082103Z
UID:10001432-1816272000-1816282800@spithursthub.co.uk
SUMMARY:River Wolf Sauna
DESCRIPTION:Relax and recharge with a traditional wood-fired sauna session in a peaceful natural setting. Each booking includes 50 minutes of sauna time\, giving you space to enjoy gentle heat cycles\, cool down between rounds\, and fully unwind. \nSauna bathing can support relaxation\, circulation\, muscle recovery and mental clarity\, especially when alternating heat with fresh air or a cold plunge where available.
URL:https://spithursthub.co.uk/event/river-wolf-sauna-2/2027-07-22/
ATTACH;FMTTYPE=image/jpeg:https://spithursthub.co.uk/wp-content/uploads/2026/04/River-Wolf-Wild-Sauna-2-scaled-1-e1776154750514.jpg
END:VEVENT
BEGIN:VEVENT
DTSTART;TZID=Europe/London:20270729T160000
DTEND;TZID=Europe/London:20270729T190000
DTSTAMP:20260422T154452
CREATED:20260414T074242Z
LAST-MODIFIED:20260414T082103Z
UID:10001433-1816876800-1816887600@spithursthub.co.uk
SUMMARY:River Wolf Sauna
DESCRIPTION:Relax and recharge with a traditional wood-fired sauna session in a peaceful natural setting. Each booking includes 50 minutes of sauna time\, giving you space to enjoy gentle heat cycles\, cool down between rounds\, and fully unwind. \nSauna bathing can support relaxation\, circulation\, muscle recovery and mental clarity\, especially when alternating heat with fresh air or a cold plunge where available.
URL:https://spithursthub.co.uk/event/river-wolf-sauna-2/2027-07-29/
ATTACH;FMTTYPE=image/jpeg:https://spithursthub.co.uk/wp-content/uploads/2026/04/River-Wolf-Wild-Sauna-2-scaled-1-e1776154750514.jpg
END:VEVENT
BEGIN:VEVENT
DTSTART;TZID=Europe/London:20270805T160000
DTEND;TZID=Europe/London:20270805T190000
DTSTAMP:20260422T154452
CREATED:20260414T074242Z
LAST-MODIFIED:20260414T082103Z
UID:10001434-1817481600-1817492400@spithursthub.co.uk
SUMMARY:River Wolf Sauna
DESCRIPTION:Relax and recharge with a traditional wood-fired sauna session in a peaceful natural setting. Each booking includes 50 minutes of sauna time\, giving you space to enjoy gentle heat cycles\, cool down between rounds\, and fully unwind. \nSauna bathing can support relaxation\, circulation\, muscle recovery and mental clarity\, especially when alternating heat with fresh air or a cold plunge where available.
URL:https://spithursthub.co.uk/event/river-wolf-sauna-2/2027-08-05/
ATTACH;FMTTYPE=image/jpeg:https://spithursthub.co.uk/wp-content/uploads/2026/04/River-Wolf-Wild-Sauna-2-scaled-1-e1776154750514.jpg
END:VEVENT
BEGIN:VEVENT
DTSTART;TZID=Europe/London:20270812T160000
DTEND;TZID=Europe/London:20270812T190000
DTSTAMP:20260422T154452
CREATED:20260414T074242Z
LAST-MODIFIED:20260414T082103Z
UID:10001435-1818086400-1818097200@spithursthub.co.uk
SUMMARY:River Wolf Sauna
DESCRIPTION:Relax and recharge with a traditional wood-fired sauna session in a peaceful natural setting. Each booking includes 50 minutes of sauna time\, giving you space to enjoy gentle heat cycles\, cool down between rounds\, and fully unwind. \nSauna bathing can support relaxation\, circulation\, muscle recovery and mental clarity\, especially when alternating heat with fresh air or a cold plunge where available.
URL:https://spithursthub.co.uk/event/river-wolf-sauna-2/2027-08-12/
ATTACH;FMTTYPE=image/jpeg:https://spithursthub.co.uk/wp-content/uploads/2026/04/River-Wolf-Wild-Sauna-2-scaled-1-e1776154750514.jpg
END:VEVENT
BEGIN:VEVENT
DTSTART;TZID=Europe/London:20270819T160000
DTEND;TZID=Europe/London:20270819T190000
DTSTAMP:20260422T154452
CREATED:20260414T074242Z
LAST-MODIFIED:20260414T082103Z
UID:10001436-1818691200-1818702000@spithursthub.co.uk
SUMMARY:River Wolf Sauna
DESCRIPTION:Relax and recharge with a traditional wood-fired sauna session in a peaceful natural setting. Each booking includes 50 minutes of sauna time\, giving you space to enjoy gentle heat cycles\, cool down between rounds\, and fully unwind. \nSauna bathing can support relaxation\, circulation\, muscle recovery and mental clarity\, especially when alternating heat with fresh air or a cold plunge where available.
URL:https://spithursthub.co.uk/event/river-wolf-sauna-2/2027-08-19/
ATTACH;FMTTYPE=image/jpeg:https://spithursthub.co.uk/wp-content/uploads/2026/04/River-Wolf-Wild-Sauna-2-scaled-1-e1776154750514.jpg
END:VEVENT
BEGIN:VEVENT
DTSTART;TZID=Europe/London:20270826T160000
DTEND;TZID=Europe/London:20270826T190000
DTSTAMP:20260422T154452
CREATED:20260414T074242Z
LAST-MODIFIED:20260414T082103Z
UID:10001437-1819296000-1819306800@spithursthub.co.uk
SUMMARY:River Wolf Sauna
DESCRIPTION:Relax and recharge with a traditional wood-fired sauna session in a peaceful natural setting. Each booking includes 50 minutes of sauna time\, giving you space to enjoy gentle heat cycles\, cool down between rounds\, and fully unwind. \nSauna bathing can support relaxation\, circulation\, muscle recovery and mental clarity\, especially when alternating heat with fresh air or a cold plunge where available.
URL:https://spithursthub.co.uk/event/river-wolf-sauna-2/2027-08-26/
ATTACH;FMTTYPE=image/jpeg:https://spithursthub.co.uk/wp-content/uploads/2026/04/River-Wolf-Wild-Sauna-2-scaled-1-e1776154750514.jpg
END:VEVENT
BEGIN:VEVENT
DTSTART;TZID=Europe/London:20270902T160000
DTEND;TZID=Europe/London:20270902T190000
DTSTAMP:20260422T154452
CREATED:20260414T074242Z
LAST-MODIFIED:20260414T082103Z
UID:10001438-1819900800-1819911600@spithursthub.co.uk
SUMMARY:River Wolf Sauna
DESCRIPTION:Relax and recharge with a traditional wood-fired sauna session in a peaceful natural setting. Each booking includes 50 minutes of sauna time\, giving you space to enjoy gentle heat cycles\, cool down between rounds\, and fully unwind. \nSauna bathing can support relaxation\, circulation\, muscle recovery and mental clarity\, especially when alternating heat with fresh air or a cold plunge where available.
URL:https://spithursthub.co.uk/event/river-wolf-sauna-2/2027-09-02/
ATTACH;FMTTYPE=image/jpeg:https://spithursthub.co.uk/wp-content/uploads/2026/04/River-Wolf-Wild-Sauna-2-scaled-1-e1776154750514.jpg
END:VEVENT
BEGIN:VEVENT
DTSTART;TZID=Europe/London:20270909T160000
DTEND;TZID=Europe/London:20270909T190000
DTSTAMP:20260422T154452
CREATED:20260414T074242Z
LAST-MODIFIED:20260414T082103Z
UID:10001439-1820505600-1820516400@spithursthub.co.uk
SUMMARY:River Wolf Sauna
DESCRIPTION:Relax and recharge with a traditional wood-fired sauna session in a peaceful natural setting. Each booking includes 50 minutes of sauna time\, giving you space to enjoy gentle heat cycles\, cool down between rounds\, and fully unwind. \nSauna bathing can support relaxation\, circulation\, muscle recovery and mental clarity\, especially when alternating heat with fresh air or a cold plunge where available.
URL:https://spithursthub.co.uk/event/river-wolf-sauna-2/2027-09-09/
ATTACH;FMTTYPE=image/jpeg:https://spithursthub.co.uk/wp-content/uploads/2026/04/River-Wolf-Wild-Sauna-2-scaled-1-e1776154750514.jpg
END:VEVENT
BEGIN:VEVENT
DTSTART;TZID=Europe/London:20270916T160000
DTEND;TZID=Europe/London:20270916T190000
DTSTAMP:20260422T154452
CREATED:20260414T074242Z
LAST-MODIFIED:20260414T082103Z
UID:10001440-1821110400-1821121200@spithursthub.co.uk
SUMMARY:River Wolf Sauna
DESCRIPTION:Relax and recharge with a traditional wood-fired sauna session in a peaceful natural setting. Each booking includes 50 minutes of sauna time\, giving you space to enjoy gentle heat cycles\, cool down between rounds\, and fully unwind. \nSauna bathing can support relaxation\, circulation\, muscle recovery and mental clarity\, especially when alternating heat with fresh air or a cold plunge where available.
URL:https://spithursthub.co.uk/event/river-wolf-sauna-2/2027-09-16/
ATTACH;FMTTYPE=image/jpeg:https://spithursthub.co.uk/wp-content/uploads/2026/04/River-Wolf-Wild-Sauna-2-scaled-1-e1776154750514.jpg
END:VEVENT
BEGIN:VEVENT
DTSTART;TZID=Europe/London:20270923T160000
DTEND;TZID=Europe/London:20270923T190000
DTSTAMP:20260422T154452
CREATED:20260414T074242Z
LAST-MODIFIED:20260414T082103Z
UID:10001441-1821715200-1821726000@spithursthub.co.uk
SUMMARY:River Wolf Sauna
DESCRIPTION:Relax and recharge with a traditional wood-fired sauna session in a peaceful natural setting. Each booking includes 50 minutes of sauna time\, giving you space to enjoy gentle heat cycles\, cool down between rounds\, and fully unwind. \nSauna bathing can support relaxation\, circulation\, muscle recovery and mental clarity\, especially when alternating heat with fresh air or a cold plunge where available.
URL:https://spithursthub.co.uk/event/river-wolf-sauna-2/2027-09-23/
ATTACH;FMTTYPE=image/jpeg:https://spithursthub.co.uk/wp-content/uploads/2026/04/River-Wolf-Wild-Sauna-2-scaled-1-e1776154750514.jpg
END:VEVENT
BEGIN:VEVENT
DTSTART;TZID=Europe/London:20270930T160000
DTEND;TZID=Europe/London:20270930T190000
DTSTAMP:20260422T154452
CREATED:20260414T074242Z
LAST-MODIFIED:20260414T082103Z
UID:10001442-1822320000-1822330800@spithursthub.co.uk
SUMMARY:River Wolf Sauna
DESCRIPTION:Relax and recharge with a traditional wood-fired sauna session in a peaceful natural setting. Each booking includes 50 minutes of sauna time\, giving you space to enjoy gentle heat cycles\, cool down between rounds\, and fully unwind. \nSauna bathing can support relaxation\, circulation\, muscle recovery and mental clarity\, especially when alternating heat with fresh air or a cold plunge where available.
URL:https://spithursthub.co.uk/event/river-wolf-sauna-2/2027-09-30/
ATTACH;FMTTYPE=image/jpeg:https://spithursthub.co.uk/wp-content/uploads/2026/04/River-Wolf-Wild-Sauna-2-scaled-1-e1776154750514.jpg
END:VEVENT
BEGIN:VEVENT
DTSTART;TZID=Europe/London:20271007T160000
DTEND;TZID=Europe/London:20271007T190000
DTSTAMP:20260422T154452
CREATED:20260414T074242Z
LAST-MODIFIED:20260414T082103Z
UID:10001443-1822924800-1822935600@spithursthub.co.uk
SUMMARY:River Wolf Sauna
DESCRIPTION:Relax and recharge with a traditional wood-fired sauna session in a peaceful natural setting. Each booking includes 50 minutes of sauna time\, giving you space to enjoy gentle heat cycles\, cool down between rounds\, and fully unwind. \nSauna bathing can support relaxation\, circulation\, muscle recovery and mental clarity\, especially when alternating heat with fresh air or a cold plunge where available.
URL:https://spithursthub.co.uk/event/river-wolf-sauna-2/2027-10-07/
ATTACH;FMTTYPE=image/jpeg:https://spithursthub.co.uk/wp-content/uploads/2026/04/River-Wolf-Wild-Sauna-2-scaled-1-e1776154750514.jpg
END:VEVENT
BEGIN:VEVENT
DTSTART;TZID=Europe/London:20271014T160000
DTEND;TZID=Europe/London:20271014T190000
DTSTAMP:20260422T154452
CREATED:20260414T074242Z
LAST-MODIFIED:20260414T082103Z
UID:10001444-1823529600-1823540400@spithursthub.co.uk
SUMMARY:River Wolf Sauna
DESCRIPTION:Relax and recharge with a traditional wood-fired sauna session in a peaceful natural setting. Each booking includes 50 minutes of sauna time\, giving you space to enjoy gentle heat cycles\, cool down between rounds\, and fully unwind. \nSauna bathing can support relaxation\, circulation\, muscle recovery and mental clarity\, especially when alternating heat with fresh air or a cold plunge where available.
URL:https://spithursthub.co.uk/event/river-wolf-sauna-2/2027-10-14/
ATTACH;FMTTYPE=image/jpeg:https://spithursthub.co.uk/wp-content/uploads/2026/04/River-Wolf-Wild-Sauna-2-scaled-1-e1776154750514.jpg
END:VEVENT
BEGIN:VEVENT
DTSTART;TZID=Europe/London:20271021T160000
DTEND;TZID=Europe/London:20271021T190000
DTSTAMP:20260422T154452
CREATED:20260414T074242Z
LAST-MODIFIED:20260414T082103Z
UID:10001445-1824134400-1824145200@spithursthub.co.uk
SUMMARY:River Wolf Sauna
DESCRIPTION:Relax and recharge with a traditional wood-fired sauna session in a peaceful natural setting. Each booking includes 50 minutes of sauna time\, giving you space to enjoy gentle heat cycles\, cool down between rounds\, and fully unwind. \nSauna bathing can support relaxation\, circulation\, muscle recovery and mental clarity\, especially when alternating heat with fresh air or a cold plunge where available.
URL:https://spithursthub.co.uk/event/river-wolf-sauna-2/2027-10-21/
ATTACH;FMTTYPE=image/jpeg:https://spithursthub.co.uk/wp-content/uploads/2026/04/River-Wolf-Wild-Sauna-2-scaled-1-e1776154750514.jpg
END:VEVENT
BEGIN:VEVENT
DTSTART;TZID=Europe/London:20271028T160000
DTEND;TZID=Europe/London:20271028T190000
DTSTAMP:20260422T154452
CREATED:20260414T074242Z
LAST-MODIFIED:20260414T082103Z
UID:10001446-1824739200-1824750000@spithursthub.co.uk
SUMMARY:River Wolf Sauna
DESCRIPTION:Relax and recharge with a traditional wood-fired sauna session in a peaceful natural setting. Each booking includes 50 minutes of sauna time\, giving you space to enjoy gentle heat cycles\, cool down between rounds\, and fully unwind. \nSauna bathing can support relaxation\, circulation\, muscle recovery and mental clarity\, especially when alternating heat with fresh air or a cold plunge where available.
URL:https://spithursthub.co.uk/event/river-wolf-sauna-2/2027-10-28/
ATTACH;FMTTYPE=image/jpeg:https://spithursthub.co.uk/wp-content/uploads/2026/04/River-Wolf-Wild-Sauna-2-scaled-1-e1776154750514.jpg
END:VEVENT
BEGIN:VEVENT
DTSTART;TZID=Europe/London:20271104T160000
DTEND;TZID=Europe/London:20271104T190000
DTSTAMP:20260422T154452
CREATED:20260414T074242Z
LAST-MODIFIED:20260414T082103Z
UID:10001447-1825344000-1825354800@spithursthub.co.uk
SUMMARY:River Wolf Sauna
DESCRIPTION:Relax and recharge with a traditional wood-fired sauna session in a peaceful natural setting. Each booking includes 50 minutes of sauna time\, giving you space to enjoy gentle heat cycles\, cool down between rounds\, and fully unwind. \nSauna bathing can support relaxation\, circulation\, muscle recovery and mental clarity\, especially when alternating heat with fresh air or a cold plunge where available.
URL:https://spithursthub.co.uk/event/river-wolf-sauna-2/2027-11-04/
ATTACH;FMTTYPE=image/jpeg:https://spithursthub.co.uk/wp-content/uploads/2026/04/River-Wolf-Wild-Sauna-2-scaled-1-e1776154750514.jpg
END:VEVENT
BEGIN:VEVENT
DTSTART;TZID=Europe/London:20271111T160000
DTEND;TZID=Europe/London:20271111T190000
DTSTAMP:20260422T154452
CREATED:20260414T074242Z
LAST-MODIFIED:20260414T082103Z
UID:10001448-1825948800-1825959600@spithursthub.co.uk
SUMMARY:River Wolf Sauna
DESCRIPTION:Relax and recharge with a traditional wood-fired sauna session in a peaceful natural setting. Each booking includes 50 minutes of sauna time\, giving you space to enjoy gentle heat cycles\, cool down between rounds\, and fully unwind. \nSauna bathing can support relaxation\, circulation\, muscle recovery and mental clarity\, especially when alternating heat with fresh air or a cold plunge where available.
URL:https://spithursthub.co.uk/event/river-wolf-sauna-2/2027-11-11/
ATTACH;FMTTYPE=image/jpeg:https://spithursthub.co.uk/wp-content/uploads/2026/04/River-Wolf-Wild-Sauna-2-scaled-1-e1776154750514.jpg
END:VEVENT
BEGIN:VEVENT
DTSTART;TZID=Europe/London:20271118T160000
DTEND;TZID=Europe/London:20271118T190000
DTSTAMP:20260422T154452
CREATED:20260414T074242Z
LAST-MODIFIED:20260414T082103Z
UID:10001449-1826553600-1826564400@spithursthub.co.uk
SUMMARY:River Wolf Sauna
DESCRIPTION:Relax and recharge with a traditional wood-fired sauna session in a peaceful natural setting. Each booking includes 50 minutes of sauna time\, giving you space to enjoy gentle heat cycles\, cool down between rounds\, and fully unwind. \nSauna bathing can support relaxation\, circulation\, muscle recovery and mental clarity\, especially when alternating heat with fresh air or a cold plunge where available.
URL:https://spithursthub.co.uk/event/river-wolf-sauna-2/2027-11-18/
ATTACH;FMTTYPE=image/jpeg:https://spithursthub.co.uk/wp-content/uploads/2026/04/River-Wolf-Wild-Sauna-2-scaled-1-e1776154750514.jpg
END:VEVENT
BEGIN:VEVENT
DTSTART;TZID=Europe/London:20271125T160000
DTEND;TZID=Europe/London:20271125T190000
DTSTAMP:20260422T154452
CREATED:20260414T074242Z
LAST-MODIFIED:20260414T082103Z
UID:10001450-1827158400-1827169200@spithursthub.co.uk
SUMMARY:River Wolf Sauna
DESCRIPTION:Relax and recharge with a traditional wood-fired sauna session in a peaceful natural setting. Each booking includes 50 minutes of sauna time\, giving you space to enjoy gentle heat cycles\, cool down between rounds\, and fully unwind. \nSauna bathing can support relaxation\, circulation\, muscle recovery and mental clarity\, especially when alternating heat with fresh air or a cold plunge where available.
URL:https://spithursthub.co.uk/event/river-wolf-sauna-2/2027-11-25/
ATTACH;FMTTYPE=image/jpeg:https://spithursthub.co.uk/wp-content/uploads/2026/04/River-Wolf-Wild-Sauna-2-scaled-1-e1776154750514.jpg
END:VEVENT
BEGIN:VEVENT
DTSTART;TZID=Europe/London:20271202T160000
DTEND;TZID=Europe/London:20271202T190000
DTSTAMP:20260422T154452
CREATED:20260414T074242Z
LAST-MODIFIED:20260414T082103Z
UID:10001451-1827763200-1827774000@spithursthub.co.uk
SUMMARY:River Wolf Sauna
DESCRIPTION:Relax and recharge with a traditional wood-fired sauna session in a peaceful natural setting. Each booking includes 50 minutes of sauna time\, giving you space to enjoy gentle heat cycles\, cool down between rounds\, and fully unwind. \nSauna bathing can support relaxation\, circulation\, muscle recovery and mental clarity\, especially when alternating heat with fresh air or a cold plunge where available.
URL:https://spithursthub.co.uk/event/river-wolf-sauna-2/2027-12-02/
ATTACH;FMTTYPE=image/jpeg:https://spithursthub.co.uk/wp-content/uploads/2026/04/River-Wolf-Wild-Sauna-2-scaled-1-e1776154750514.jpg
END:VEVENT
BEGIN:VEVENT
DTSTART;TZID=Europe/London:20271209T160000
DTEND;TZID=Europe/London:20271209T190000
DTSTAMP:20260422T154452
CREATED:20260414T074242Z
LAST-MODIFIED:20260414T082103Z
UID:10001452-1828368000-1828378800@spithursthub.co.uk
SUMMARY:River Wolf Sauna
DESCRIPTION:Relax and recharge with a traditional wood-fired sauna session in a peaceful natural setting. Each booking includes 50 minutes of sauna time\, giving you space to enjoy gentle heat cycles\, cool down between rounds\, and fully unwind. \nSauna bathing can support relaxation\, circulation\, muscle recovery and mental clarity\, especially when alternating heat with fresh air or a cold plunge where available.
URL:https://spithursthub.co.uk/event/river-wolf-sauna-2/2027-12-09/
ATTACH;FMTTYPE=image/jpeg:https://spithursthub.co.uk/wp-content/uploads/2026/04/River-Wolf-Wild-Sauna-2-scaled-1-e1776154750514.jpg
END:VEVENT
BEGIN:VEVENT
DTSTART;TZID=Europe/London:20271216T160000
DTEND;TZID=Europe/London:20271216T190000
DTSTAMP:20260422T154452
CREATED:20260414T074242Z
LAST-MODIFIED:20260414T082103Z
UID:10001453-1828972800-1828983600@spithursthub.co.uk
SUMMARY:River Wolf Sauna
DESCRIPTION:Relax and recharge with a traditional wood-fired sauna session in a peaceful natural setting. Each booking includes 50 minutes of sauna time\, giving you space to enjoy gentle heat cycles\, cool down between rounds\, and fully unwind. \nSauna bathing can support relaxation\, circulation\, muscle recovery and mental clarity\, especially when alternating heat with fresh air or a cold plunge where available.
URL:https://spithursthub.co.uk/event/river-wolf-sauna-2/2027-12-16/
ATTACH;FMTTYPE=image/jpeg:https://spithursthub.co.uk/wp-content/uploads/2026/04/River-Wolf-Wild-Sauna-2-scaled-1-e1776154750514.jpg
END:VEVENT
BEGIN:VEVENT
DTSTART;TZID=Europe/London:20271223T160000
DTEND;TZID=Europe/London:20271223T190000
DTSTAMP:20260422T154452
CREATED:20260414T074242Z
LAST-MODIFIED:20260414T082103Z
UID:10001454-1829577600-1829588400@spithursthub.co.uk
SUMMARY:River Wolf Sauna
DESCRIPTION:Relax and recharge with a traditional wood-fired sauna session in a peaceful natural setting. Each booking includes 50 minutes of sauna time\, giving you space to enjoy gentle heat cycles\, cool down between rounds\, and fully unwind. \nSauna bathing can support relaxation\, circulation\, muscle recovery and mental clarity\, especially when alternating heat with fresh air or a cold plunge where available.
URL:https://spithursthub.co.uk/event/river-wolf-sauna-2/2027-12-23/
ATTACH;FMTTYPE=image/jpeg:https://spithursthub.co.uk/wp-content/uploads/2026/04/River-Wolf-Wild-Sauna-2-scaled-1-e1776154750514.jpg
END:VEVENT
BEGIN:VEVENT
DTSTART;TZID=Europe/London:20271230T160000
DTEND;TZID=Europe/London:20271230T190000
DTSTAMP:20260422T154452
CREATED:20260414T074242Z
LAST-MODIFIED:20260414T082103Z
UID:10001455-1830182400-1830193200@spithursthub.co.uk
SUMMARY:River Wolf Sauna
DESCRIPTION:Relax and recharge with a traditional wood-fired sauna session in a peaceful natural setting. Each booking includes 50 minutes of sauna time\, giving you space to enjoy gentle heat cycles\, cool down between rounds\, and fully unwind. \nSauna bathing can support relaxation\, circulation\, muscle recovery and mental clarity\, especially when alternating heat with fresh air or a cold plunge where available.
URL:https://spithursthub.co.uk/event/river-wolf-sauna-2/2027-12-30/
ATTACH;FMTTYPE=image/jpeg:https://spithursthub.co.uk/wp-content/uploads/2026/04/River-Wolf-Wild-Sauna-2-scaled-1-e1776154750514.jpg
END:VEVENT
BEGIN:VEVENT
DTSTART;TZID=Europe/London:20280106T160000
DTEND;TZID=Europe/London:20280106T190000
DTSTAMP:20260422T154452
CREATED:20260414T074242Z
LAST-MODIFIED:20260414T082103Z
UID:10001456-1830787200-1830798000@spithursthub.co.uk
SUMMARY:River Wolf Sauna
DESCRIPTION:Relax and recharge with a traditional wood-fired sauna session in a peaceful natural setting. Each booking includes 50 minutes of sauna time\, giving you space to enjoy gentle heat cycles\, cool down between rounds\, and fully unwind. \nSauna bathing can support relaxation\, circulation\, muscle recovery and mental clarity\, especially when alternating heat with fresh air or a cold plunge where available.
URL:https://spithursthub.co.uk/event/river-wolf-sauna-2/2028-01-06/
ATTACH;FMTTYPE=image/jpeg:https://spithursthub.co.uk/wp-content/uploads/2026/04/River-Wolf-Wild-Sauna-2-scaled-1-e1776154750514.jpg
END:VEVENT
END:VCALENDAR